Workbook
Name _GoBack: Tekst!$C$1
Name lAnswers: INDIRECT(_xlfn.CONCAT("Tekst!$",Tabeller!$D$28,"$258:$",Tabeller!$D$28,"$259"))
Name lDistribution: INDIRECT(_xlfn.CONCAT("Tekst!$",Tabeller!$D$28,"$201:$",Tabeller!$D$28,"$203"))
Name lStatistikkMetode: INDIRECT(_xlfn.CONCAT("Tekst!$",Tabeller!$D$28,"$194:$",Tabeller!$D$28,"$198"))
Name lVersion: INDIRECT(_xlfn.CONCAT("Tekst!$",Tabeller!$D$28,"$224:$",Tabeller!$D$28,"$225"))
Name Validation_CAS: OFFSET(Grenseverdier!$R$5,,,COUNTIF(Grenseverdier!$R$5:$R$625,"?*"))
Name Validation_name: OFFSET(Grenseverdier!$P$5,,,COUNTIF(Grenseverdier!$P$5:$P$625,"?*"))

Sheet Information
A1: {=UPPER(INDEX(Tekst!$B$1:$U$300,113,Tabeller!$C$28))} -> INFORMASJON OM YH-HJELP
H4: {=UPPER(INDEX(Tekst!$B$1:$U$300,130,Tabeller!$C$28))} -> FLYTSKJEMA | R4: {=INDEX(Tekst!$B$1:$U$300,215,Tabeller!$C$28)} -> Om YH-HJELP
B5: Språk / language / idioma | H5: {=INDEX(Tekst!$B$1:$U$300,131,Tabeller!$C$28)} -> Kartlegging og vurdering av eksponering
B6: Norsk | R6: {=INDEX(Tekst!$B$1:$U$300,217,Tabeller!$C$28)} -> Versjon | S6: 1.0.6c
I7: {=UPPER(INDEX(Tekst!$B$1:$U$300,262,Tabeller!$C$28))} -> START | R7: {=INDEX(Tekst!$B$1:$U$300,216,Tabeller!$C$28)} -> Dato | S7: 44547
B8: {=INDEX(Tekst!$B$1:$U$300,245,Tabeller!$C$28)} -> Modus
B9: Advanced | H9: {=INDEX(Tekst!$B$1:$U$300,117,Tabeller!$C$28)} -> 1. Innledende vurdering | R9: Standard
H10: {=INDEX(Tekst!$B$1:$U$300,125,Tabeller!$C$28)} -> Informasjonsinnhenting Estimering av eksponeringen | R10: {=INDEX(Tekst!$B$1:$U$300,227,Tabeller!$C$28)} -> Mulig å justere GV i henhold til offshore reduksjonsfaktor
R12: {=INDEX(Tekst!$B$1:$U$300,225,Tabeller!$C$28)} -> Avansert
B13: {=INDEX(Tekst!$B$1:$U$300,135,Tabeller!$C$28)} -> Fargekoder brukt i regnearkene | I13: {=INDEX(Tekst!$B$1:$U$300,122,Tabeller!$C$28)} -> Kan det være eksponering ? | N13: {=UPPER(INDEX(Tekst!$B$1:$U$300,259,Tabeller!$C$28))} -> NEI | P13: {=INDEX(Tekst!$B$1:$U$300,128,Tabeller!$C$28)} -> Avslutt med rapport | R13: {=INDEX(Tekst!$B$1:$U$300,228,Tabeller!$C$28)} -> Alle funksjoner tilgjengelig
C14: {=INDEX(Tekst!$B$1:$U$300,134,Tabeller!$C$28)} -> Input (område) | P14: {=INDEX(Tekst!$B$1:$U$300,129,Tabeller!$C$28)} -> Ny vurdering etter 1 år eller endringer som kan påvirke eksponeringen
C15: {=INDEX(Tekst!$B$1:$U$300,133,Tabeller!$C$28)} -> Resultat (område) | J15: {=UPPER(INDEX(Tekst!$B$1:$U$300,258,Tabeller!$C$28))} -> JA
C16: {=INDEX(Tekst!$B$1:$U$300,113,Tabeller!$C$28)} -> Informasjon om YH-HJELP | R16: {=INDEX(Tekst!$B$1:$U$300,246,Tabeller!$C$28)} -> Ansvarsfraskrivelse
C17: {=INDEX(Tekst!$B$1:$U$300,132,Tabeller!$C$28)} -> Påkrevd input (celle) | I17: {=INDEX(Tekst!$B$1:$U$300,124,Tabeller!$C$28)} -> Sett i gang tiltak eller gå til 1, 2 eller 3 | R17: {=INDEX(Tekst!$B$1:$U$300,221,Tabeller!$C$28)} -> Regnearket er utarbeidet av frivillige i NYF. NYF eller andre som har bidratt til utvikling av regnearket kan ikke gjøres ansvarlig for eventuelle feil i regnearket eller feil vurderinger som følge av bruk av dette regnearket. For dokumentasjon og spørsmål angående regnearket se kontaktinformasjon nedenfor.
C18: {=INDEX(Tekst!$B$1:$U$300,208,Tabeller!$C$28)} -> Valgfri input (celle)
C19: {=INDEX(Tekst!$B$1:$U$300,209,Tabeller!$C$28)} -> Utfylt input (celle)
C20: {=INDEX(Tekst!$B$1:$U$300,265,Tabeller!$C$28)} -> Må endres (celle)
J21: {=UPPER(INDEX(Tekst!$B$1:$U$300,258,Tabeller!$C$28))} -> JA
B22: {=INDEX(Tekst!$B$1:$U$300,115,Tabeller!$C$28)} -> Type vurdering / undersøkelse | D22: =IF(Information!$B$6=Tekst!$B$1,Tekst!$B$114,IF(Information!$B$6=Tekst!$C$1,Tekst!$C$114,"")) -> Bruk fane
B23: {=INDEX(Tekst!$B$1:$U$300,117,Tabeller!$C$28)} -> 1. Innledende vurdering | D23: {=INDEX(Tekst!$B$1:$U$300,240,Tabeller!$C$28)} -> Se Arbeidstilsynets veiledning | H23: {=INDEX(Tekst!$B$1:$U$300,118,Tabeller!$C$28)} -> 2. Forenklet undersøkelse
B24: {=INDEX(Tekst!$B$1:$U$300,118,Tabeller!$C$28)} -> 2. Forenklet undersøkelse | D24: {=INDEX(Tekst!$B$1:$U$300,241,Tabeller!$C$28)} -> Survey | H24: {=INDEX(Tekst!$B$1:$U$300,126,Tabeller!$C$28)} -> 3-5 målinger Vurdering baseres på maksimumsverdien
B25: {=INDEX(Tekst!$B$1:$U$300,119,Tabeller!$C$28)} -> 3. Detaljert undersøkelse | D25: {=INDEX(Tekst!$B$1:$U$300,242,Tabeller!$C$28)} -> Survey + Analysis
B27: {=INDEX(Tekst!$B$1:$U$300,89,Tabeller!$C$28)} -> Flere eksponeringer | D27: {=INDEX(Tekst!$B$1:$U$300,243,Tabeller!$C$28)} -> Benytt E_index | I27: {=INDEX(Tekst!$B$1:$U$300,123,Tabeller!$C$28)} -> Er eksponeringen uakseptabel? | N27: {=UPPER(INDEX(Tekst!$B$1:$U$300,259,Tabeller!$C$28))} -> NEI | P27: {=INDEX(Tekst!$B$1:$U$300,128,Tabeller!$C$28)} -> Avslutt med rapport
P28: {=INDEX(Tekst!$B$1:$U$300,129,Tabeller!$C$28)} -> Ny vurdering etter 1 år eller endringer som kan påvirke eksponeringen
B29: {=INDEX(Tekst!$B$1:$U$300,116,Tabeller!$C$28)} -> Kilder | J29: {=UPPER(INDEX(Tekst!$B$1:$U$300,258,Tabeller!$C$28))} -> JA
B30: {=INDEX(Tekst!$B$1:$U$300,120,Tabeller!$C$28)} -> Arbeidstilsynets temasider om kjemikalier
B31: https://arbeidstilsynet.no/tema/kjemikalier/ | I31: {=INDEX(Tekst!$B$1:$U$300,124,Tabeller!$C$28)} -> Sett i gang tiltak eller gå til 1, 2 eller 3
B33: {=INDEX(Tekst!$B$1:$U$300,121,Tabeller!$C$28)} -> Sammenstilling av internasjonale grenseverdier
B34: https://limitvalue.ifa.dguv.de/
H35: =IF(Information!$B$6=Tekst!$B$1,Tekst!$B$119,IF(Information!$B$6=Tekst!$C$1,Tekst!$C$119,"")) -> 3. Detaljert undersøkelse | R35: {=INDEX(Tekst!$B$1:$U$300,218,Tabeller!$C$28)} -> Kontaktdetaljer
B36: {=INDEX(Tekst!$B$1:$U$300,137,Tabeller!$C$28)} -> Korttidsmålinger (referansetid 15 minutter) | H36: {=INDEX(Tekst!$B$1:$U$300,127,Tabeller!$C$28)} -> Minst 6 målinger Estimert øvre konsentrasjon (EØK) beregnes statistisk | R36: {=INDEX(Tekst!$B$1:$U$300,219,Tabeller!$C$28)} -> Navn | S36: post@yrkeshygiene.no
B37: {=INDEX(Tekst!$B$1:$U$300,136,Tabeller!$C$28)} -> Korttidsmålinger som vurderes opp mot korttidsverdi (referansetid 15 minutter) bør kun vurderes som indikative målinger når n ≤ 5 og som bakgrunnsinformasjon til "Innledende vurdering". For n ≥ 6 bør "Detaljert undersøkelse" benyttes.
R38: {=INDEX(Tekst!$B$1:$U$300,220,Tabeller!$C$28)} -> URL | S38: https://yrkeshygiene.no/kb/yh-hjelp/
I39: {=INDEX(Tekst!$B$1:$U$300,123,Tabeller!$C$28)} -> Er eksponeringen uakseptabel? | N39: {=UPPER(INDEX(Tekst!$B$1:$U$300,259,Tabeller!$C$28))} -> NEI | P39: {=INDEX(Tekst!$B$1:$U$300,128,Tabeller!$C$28)} -> Avslutt med rapport
P40: {=INDEX(Tekst!$B$1:$U$300,129,Tabeller!$C$28)} -> Ny vurdering etter 1 år eller endringer som kan påvirke eksponeringen
J41: {=UPPER(INDEX(Tekst!$B$1:$U$300,258,Tabeller!$C$28))} -> JA
B43: {=INDEX(Tekst!$B$1:$U$300,139,Tabeller!$C$28)} -> Takverdi | I43: {=INDEX(Tekst!$B$1:$U$300,124,Tabeller!$C$28)} -> Sett i gang tiltak eller gå til 1, 2 eller 3
B44: {=INDEX(Tekst!$B$1:$U$300,138,Tabeller!$C$28)} -> "2. Forenklet undersøkelse" og "3. Detaljert undersøkelse" kan ikke benyttes ved vurdering av eksponering opp mot takverdi, ettersom påkrevd måleperiode er lavere enn 15 minutter.

Sheet 1. Estimate exposure
A1: =IF(Information!$B$6=Tekst!$B$1,UPPER(Tekst!$B$108),IF(Information!$B$6=Tekst!$C$1,UPPER(Tekst!$C$108),"")) -> ESTIMER EKSPONERING
B5: =IF(Information!$B$6=Tekst!$B$1,Tekst!$B$91,IF(Information!$B$6=Tekst!$C$1,Tekst!$C$91,"")) -> Stoffets damptrykk | H5: =IF(Information!$B$6=Tekst!$B$1,Tekst!$B$102,IF(Information!$B$6=Tekst!$C$1,Tekst!$C$102,"")) -> MK = Metningskonsentrasjon | EE = Estimert eksponering
B6: =IF(Information!$B$6=Tekst!$B$1,Tekst!$B$92,IF(Information!$B$6=Tekst!$C$1,Tekst!$C$92,"")) -> Atmosfæretrykk | H6: =IF(Information!$B$6=Tekst!$B$1,Tekst!$B$103,IF(Information!$B$6=Tekst!$C$1,Tekst!$C$103,"")) -> MK (ppm)= (stoffetsdamptrykk /atmosfæretrykk) * 1000000
B7: =IF(Information!$B$6=Tekst!$B$1,Tekst!$B$93,IF(Information!$B$6=Tekst!$C$1,Tekst!$C$93,"")) -> Metningskonsentrasjon | C7: =IFERROR((($C$5*INDEX(Tabeller!$I$14:$J$18,MATCH($D$5,Tabeller!$I$14:$I$18,0),2))/($C$6*INDEX(Tabeller!$I$14:$J$18,MATCH($D$6,Tabeller!$I$14:$I$18,0),2)))*1000000,"") | D7: =IF($C$7<>"","ppm","") | H7: =IF(Information!$B$6=Tekst!$B$1,Tekst!$B$105,IF(Information!$B$6=Tekst!$C$1,Tekst!$C$105,"")) -> EE (ppm) = MK * forventet fortynning
B9: =IF(Information!$B$6=Tekst!$B$1,Tekst!$B$94,IF(Information!$B$6=Tekst!$C$1,Tekst!$C$94,"")) -> Forventet fortynning | H9: =IF(Information!$B$6=Tekst!$B$1,Tekst!$B$104,IF(Information!$B$6=Tekst!$C$1,Tekst!$C$104,"")) -> Damptrykk er å finner her - https://chem.nlm.nih.gov/chemidplus/
B11: =IF(Information!$B$6=Tekst!$B$1,Tekst!$B$95,IF(Information!$B$6=Tekst!$C$1,Tekst!$C$95,"")) -> Estimert eksponering | C11: =IFERROR(ROUND($C$7*INDEX($H$14:$I$18,MATCH($C$8,$H$14:$H$18,0),2),0),"") | D11: =IF($C$11<>"","ppm","") | H11: =IF(Information!$B$6=Tekst!$B$1,Tekst!$B$90,IF(Information!$B$6=Tekst!$C$1,Tekst!$C$90,"")) -> 10-er regelen
H12: =IF(Information!$B$6=Tekst!$B$1,Tekst!$B$106,IF(Information!$B$6=Tekst!$C$1,Tekst!$C$106,"")) -> Ventilasjon | I12: =IF(Information!$B$6=Tekst!$B$1,Tekst!$B$107,IF(Information!$B$6=Tekst!$C$1,Tekst!$C$107,"")) -> Forventet fortynning av metningskonsentrasjon
A14: =IF(Information!$B$6=Tekst!$B$1,Tekst!$B$144,IF(Information!$B$6=Tekst!$C$1,Tekst!$C$144,"")) -> !!! Viktig !!! | H14: =IF(Information!$B$6=Tekst!$B$1,Tekst!$B$97,IF(Information!$B$6=Tekst!$C$1,Tekst!$C$97,"")) -> Tank / trangt rom uten ventilasjon | I14: 0.1
A15: =IF(Information!$B$6=Tekst!$B$1,Tekst!$B$96,IF(Information!$B$6=Tekst!$C$1,Tekst!$C$96,"")) -> Kun ment som et estimat på eksponering og bør ikke betraktes som absolutt eksponeringsnivå | H15: =IF(Information!$B$6=Tekst!$B$1,Tekst!$B$98,IF(Information!$B$6=Tekst!$C$1,Tekst!$C$98,"")) -> Dårlig ventilasjon | I15: 0.01
H16: =IF(Information!$B$6=Tekst!$B$1,Tekst!$B$99,IF(Information!$B$6=Tekst!$C$1,Tekst!$C$99,"")) -> God allmennventilasjon (> 6 luftutskiftinger per time) | I16: 0.001
H17: =IF(Information!$B$6=Tekst!$B$1,Tekst!$B$100,IF(Information!$B$6=Tekst!$C$1,Tekst!$C$100,"")) -> Punktavsug | I17: 0.0001
H18: =IF(Information!$B$6=Tekst!$B$1,Tekst!$B$101,IF(Information!$B$6=Tekst!$C$1,Tekst!$C$101,"")) -> Lukket prosessanlegg | I18: 1e-05
B21: =IF(Information!$B$6=Tekst!$B$1,"Nyttige eksponeringsmodeller",IF(Information!$B$6=Tekst!$C$1,"Useful exposure models","")) -> Nyttige eksponeringsmodeller | C21: IHMOD | D21: https://www.aiha.org/public-resources/consumer-resources/topics-of-interest/ih-apps-tools
C22: IHSKIN

Sheet Survey
A1: {=UPPER(INDEX(Tekst!$B$1:$U$300,88,Tabeller!$C$28))} -> SETT INN MÅLEVERDIER
A4: 1. | B4: {=INDEX(Tekst!$B$1:$U$300,31,Tabeller!$C$28)} -> Angi eller velg grenseverdi (GV) | K4: =IF(ISNUMBER(MATCH(Information!$B$9,Tekst!$B$224:$U$224,0)),"3.","6.") -> 6. | L4: {=IFERROR(INDEX(Tekst!$B$1:$U$300,10,Tabeller!$C$28),"")} -> Målinger | R4: 7. | T4: {=IFERROR(INDEX(Tekst!$B$1:$U$300,248,Tabeller!$C$28),"")} -> Velg fordeling: | U4: la YH-HJELP velge
C5: {=INDEX(Tekst!$B$1:$U$300,4,Tabeller!$C$28)} -> Fyll inn aktuell grenseverdi (8 timer) | L5: # | M5: {=_xlfn.CONCAT(IFERROR(INDEX(Tekst!$B$1:$U$300,27,Tabeller!$C$28),"")," (",G12,")")} -> Verdier (ppm) | N5: {=IF($F$13=INDEX(Tekst!$B$1:$U$300,258,Tabeller!$C$28),IF(Information!B6=INDEX(Tekst!$B$1:$U$300,1,Tabeller!$C$28),INDEX(Tekst!$B$1:$U$300,30,Tabeller!$C$28),""),"")} | O5: {=_xlfn.CONCAT(IFERROR(INDEX(Tekst!$B$1:$U$300,210,Tabeller!$C$28),"")," (",$H$11,")")} -> Brukte verdier (ppm)
B6: {=INDEX(Tekst!$B$1:$U$300,72,Tabeller!$C$28)} -> Angi, eller: | L6: 1 | M6: 21 | O6: =Calc!G3 -> 21 | R6: =IF(ISNUMBER(MATCH(Information!$B$9,Tekst!$B$224:$U$224,0)),"4.","8.") -> 8. | S6: {=IF(Analysis!D5>5,IFERROR(INDEX(Tekst!$B$1:$U$300,12,Tabeller!$C$28),""),IF(Analysis!D5>2,IFERROR(INDEX(Tekst!$B$1:$U$300,11,Tabeller!$C$28),""),""))} -> 6 eller flere målinger
B7: {=INDEX(Tekst!$B$1:$U$300,141,Tabeller!$C$28)} -> Velg CAS-nr., eller: | L7: 2 | M7: 1.9 | O7: =Calc!G4 -> 1.9 | S7: {=IF(AND($U$9<6,OR($D$31=Tabeller!$K$3,$D$31=Tabeller!$L$3),$H$31=""),IFERROR(INDEX(Tekst!$B$1:$U$300,136,Tabeller!$C$28),""),IF($U$9<3,IF(COUNTIF($M$6:$M$55,">"&0)<3,IFERROR(INDEX(Tekst!$B$1:$U$300,142,Tabeller!$C$28),""),IFERROR(INDEX(Tekst!$B$1:$U$300,143,Tabeller!$C$28),"")),""))}
B8: {=INDEX(Tekst!$B$1:$U$300,77,Tabeller!$C$28)} -> Velg navn: | C8: styren | L8: 3 | M8: 5.8 | O8: =Calc!G5 -> 5.8
C9: {=INDEX(Tekst!$B$1:$U$300,3,Tabeller!$C$28)} -> Grenseverdi | D9: {=IF(AND(OR($D$31=Tabeller!$K$3,$D$31=Tabeller!$L$3),$H$31<>""),$B$31,IF(AND(OR($H$25<>1,$H$26<>1),$E$12<>""),IFERROR(INDEX(Tekst!$B$1:$U$300,28,Tabeller!$C$28),""),""))} | H9: {=INDEX(Tekst!$B$1:$U$300,29,Tabeller!$C$28)} -> Velg enhet | L9: 4 | M9: 17 | O9: =Calc!G6 -> 17 | S9: {=IFERROR(INDEX(Tekst!$B$1:$U$300,20,Tabeller!$C$28),"")} -> Antall | T9: {=IFERROR(INDEX(Tekst!$B$1:$U$300,15,Tabeller!$C$28),"")} -> Målinger (n) | U9: =Analysis!$D$5 -> 8 | W9: {=IF($W$10="","",IFERROR(INDEX(Tekst!$B$1:$U$300,14,Tabeller!$C$28),""))} -> Vurderingskriterie
L10: 5 | M10: 1.7 | O10: =Calc!G7 -> 1.7 | T10: {=IFERROR(INDEX(Tekst!$B$1:$U$300,16,Tabeller!$C$28),"")} -> Målinger under DG (m) | U10: =Analysis!$D$6 -> 0 | W10: {=IF(AND(Analysis!$D$5<6,Analysis!$D$5>2),CONCATENATE(INDEX('Tables (statistics)'!$B$157:$D$159,MATCH(Analysis!$D$5,'Tables (statistics)'!$B$157:$B$159,0),3),IFERROR(INDEX(Tekst!$B$1:$U$300,13,Tabeller!$C$28),"")),IF(AND(Analysis!$D$5<6,Analysis!$D$5>2),IFERROR(INDEX(Tekst!$B$1:$U$300,42,Tabeller!$C$28),""),IF(Analysis!$D$5>5,IFERROR(INDEX(Tekst!$B$1:$U$300,43,Tabeller!$C$28),""),"")))} -> Øvre 70% konfidensgrense til 95%-il skal være under GV
C11: =IFERROR(IF(AND($H$11<>"",$C$6="",$H$11<>Tabeller!$H$4,$H$11<>Tabeller!$H$6),IF($H$11=Tabeller!$H$3,$E$12*1000,IF($H$11=Tabeller!$H$5,$E$12*1000,"")),$E$12),"") -> 25 | D11: =IF($D$9<>"",$E$11,"") | E11: =IF(AND(OR($D$31=Tabeller!$K$3,$D$31=Tabeller!$L$3),$H$31<>""),$H$31,IF($H$25<>1,$H$25*$E$12,IF($H$26<>1,$H$26*$E$12,IF(ISNUMBER($E$12),$E$12,"")))) -> 25 | H11: ppm | L11: 6 | M11: 2.7 | O11: =Calc!G8 -> 2.7 | U11: =IF(Calc!X3<>0,"",IF(Information!B6=Tekst!$B$1,Tekst!B250,IF(Information!B6=Tekst!C1,Tekst!C250,"")))
E12: =IF(C6<>"",C6,IF(C7<>"",IFERROR(INDEX(Grenseverdier!$B$5:$K$626,MATCH($C$7,Grenseverdier!$B$5:$B$626,0),IF(OR($H$11=Tabeller!$H$3,$H$11=Tabeller!$H$4),3,IF(OR($H$11=Tabeller!$H$5,$H$11=Tabeller!$H$6),4,""))),""),IFERROR(INDEX(Grenseverdier!$B$5:$K$626,MATCH($C$8,Grenseverdier!$C$5:$C$626,0),IF(OR($H$11=Tabeller!$H$4,$H$11=Tabeller!$H$3),3,IF($H$11<>"",4,""))),""))) -> 25 | G12: {=IF(Information!$B$9=INDEX(Tekst!$B$1:$U$300,224,Tabeller!$C$28),$H$11,$H$13)} -> ppm | L12: 7 | M12: 6.3 | O12: =Calc!G9 -> 6.3 | T12: {=IF($U$9<3,"",IFERROR(INDEX(Tekst!$B$1:$U$300,18,Tabeller!$C$28),""))} -> Minste verdi (minimum) | U12: =IF($G$12="","",IF(Calc!X3=0,"N/A",IFERROR(MIN(Calc!$X$5:$Y$5),"N/A"))) -> 1.7
B13: {=INDEX(Tekst!$B$1:$U$300,10,Tabeller!$C$28)} -> Målinger | C13: =IF(Information!$B$6=Tekst!$B$1,Tekst!$B$10,IF(Information!$B$6=Tekst!$C$1,Tekst!$C$10,"")) -> Målinger | D13: {=IFERROR(IF(OR($G$13=0,ABS($G$13)=1),"",IF(AND(ISNUMBER($E$13),ISNUMBER($H$21)),"",CONCATENATE(IFERROR(INDEX(Tekst!$B$1:$U$300,68,Tabeller!$C$28),"")," H21"))),"")} | E13: =IFERROR(IF($G$13=0,1,IF(ABS($G$13)=1,IF($G$13=1,1000,0.001),IF(IF(ABS(INDEX(Tabeller!$G$3:$H$8,MATCH($G$12,Tabeller!$H$3:$H$8,0),1)-INDEX(Tabeller!$G$3:$H$8,MATCH($H$11,Tabeller!$H$3:$H$8,0),1))>1,"JA","NEI")="JA",IF(G13=4,($E$20/$H$21)*1000,IF(G13=-4,($H$21/$E$20)/1000,IF(G13=3,$E$20/$H$21,IF(G13=-3,$H$21/$E$20,IF(G13=2,($E$20/$H$21)/1000,IF(G13=-2,($H$21/$E$20)*1000,"")))))),""))),"") -> 1 | F13: {=IF(OR($G$12=Tabeller!$H$8,$G$12=Tabeller!$H$7),INDEX(Tekst!$B$1:$U$300,258,Tabeller!$C$28),INDEX(Tekst!$B$1:$U$300,259,Tabeller!$C$28))} -> Nei | G13: =IFERROR(IF(INDEX(Tabeller!$G$3:$H$8,MATCH($G$12,Tabeller!$H$3:$H$8,0),1)>6,(INDEX(Tabeller!$G$3:$H$8,MATCH($G$12,Tabeller!$H$3:$H$8,0),1)-3)-INDEX(Tabeller!$G$3:$H$8,MATCH($H$11,Tabeller!$H$3:$H$8,0),1),INDEX(Tabeller!$G$3:$H$8,MATCH($G$12,Tabeller!$H$3:$H$8,0),1)-INDEX(Tabeller!$G$3:$H$8,MATCH($H$11,Tabeller!$H$3:$H$8,0),1)),"") -> 0 | H13: ppm | L13: 8 | M13: 18.9 | O13: =Calc!G10 -> 18.9 | T13: {=IF($U$9<3,"",IFERROR(INDEX(Tekst!$B$1:$U$300,19,Tabeller!$C$28),""))} -> Median | U13: =IF(Calc!X3<2,"N/A",Analysis!$D$11) -> 6.05 | W13: {=IFERROR(IF(AND($U$9>5,Information!$B$9="Standard"),Analysis!$I$21,IF(U4<>INDEX(Tekst!$B$1:$U$300,201,Tabeller!$C$28),"",IF(AND(Analysis!$I$22<>"",Analysis!$I$22<>Tekst!$B$174,Analysis!$I$22<>Tekst!$C$174),Analysis!$I$21,""))),"")} -> Antatt fordeling
L14: 9 | O14: =Calc!G11 | T14: {=IF($U$9<3,"",IFERROR(INDEX(Tekst!$B$1:$U$300,17,Tabeller!$C$28),""))} -> Høyeste verdi (maksimum) | U14: =IFERROR(IF(Calc!X3=0,"N/A",IFERROR(_xlfn.CONCAT(MAX(Calc!$X$7:$Y$7)," (",ROUND((MAX(Calc!$X$7:$Y$7)/$E$11)*100,0)," ",Tabeller!$B$54,")"),"N/A")),"") -> 21 (84 % av GV) | W14: {=IFERROR(IF(AND($U$9>5,Information!$B$9=INDEX(Tekst!$B$1:$U$300,224,Tabeller!$C$28)),Analysis!$M$6,IF(U4<>INDEX(Tekst!$B$1:$U$300,201,Tabeller!$C$28),"",IF(AND(Analysis!$I$22<>"",Analysis!$I$22<>Tekst!$B$174,Analysis!$I$22<>Tekst!$C$174),IF(Analysis!$M$6<>"",Analysis!$M$6,IF(Analysis!$I$22<>"",Analysis!$I$22,"N/A")),""))),"")} -> Hvis n ≤ 10 antas log-normalfordeling
A15: 2. | B15: {=IFERROR(INDEX(Tekst!$B$1:$U$300,193,Tabeller!$C$28),"")} -> Håndtering av verdier under deteksjonsgrensen (DG) | L15: 10 | O15: =Calc!G12
B16: 0: Anbefalt (se Regler for håndtering av verdier under DG) | L16: 11 | O16: =Calc!G13
L17: 12 | O17: =Calc!G14 | S17: {=IF($U$9<6,"",IFERROR(INDEX(Tekst!$B$1:$U$300,23,Tabeller!$C$28),""))} -> Estimert | T17: {=IF($U$9<6,"",IFERROR(INDEX(Tekst!$B$1:$U$300,25,Tabeller!$C$28),""))} -> Estimert Øvre Konsentrasjon (EØK) - U_T(95%, 70%) | U17: =IFERROR(IF($U$9<6,"",IF($W$14='Stats - distribution'!$C$3,CONCATENATE(ROUND(Analysis!$K$17,2)," (",ROUND(Analysis!$K$17/$E$11*100,0)," ",Tabeller!$B$54,")"),IF($W$14='Stats - distribution'!$G$3,CONCATENATE(ROUND(Analysis!$J$17,2)," (",ROUND(Analysis!$J$17/$E$11*100,0)," ",Tabeller!$B$54,")"),IF(AND($U$9<11,$U$9>5),CONCATENATE(ROUND(IF(Analysis!$I$22="Log-normal",Analysis!$K$17,IF(Analysis!$I$22="Normal",Analysis!$J$17,0)),2)," (",ROUND(IF(Analysis!$I$22="Log-normal",Analysis!$K$17,IF(Analysis!$I$22="Normal",Analysis!$J$17,0))/$E$11*100,0)," ",Tabeller!$B$54,")"),IF(Information!$B$6=Tekst!$B$1,Tekst!$B$190,IF(Information!$B$6=Tekst!C1,Tekst!$C$190,"")))))),"") -> 52,97 (212 % av GV)
A18: 3. | B18: {=IFERROR(INDEX(Tekst!$B$1:$U$300,145,Tabeller!$C$28),"")} -> Konverter konsentrasjon (volum-volum <--> masse-volum) | L18: 13 | O18: =Calc!G15
D19: 25°C, 1atm | L19: 14 | O19: =Calc!G16 | T19: {=IFERROR(INDEX(Tekst!$B$1:$U$300,21,Tabeller!$C$28),"")} -> Veiledende konklusjon | V19: {=IFERROR(INDEX(Tekst!$B$1:$U$300,22,Tabeller!$C$28),"")} -> Forslag - periodiske målinger
B20: {=IFERROR(INDEX(Tekst!$B$1:$U$300,146,Tabeller!$C$28),"")} -> Molekylært volum (L) | D20: 24.45 | E20: =IF(ISNUMBER($H$20),$H$20,$D$20) -> 24.45 | H20: {=IFERROR(IF(AND($G$13<>0,ABS($G$13)<>1),IFERROR(INDEX(Tekst!$B$1:$U$300,69,Tabeller!$C$28),""),""),"")} | L20: 15 | O20: =Calc!G17 | T20: {=IFERROR(IF(Calc!$X$1=0,"",IF(Calc!$X$1>5,IF(OR(Calc!$X$8=0,Calc!$X$3<2),INDEX(Tekst!$B$1:$U$300,MATCH('Calc (W-test)'!$U$4,Tekst!$A$1:$A$300,0),Tabeller!$C$28),INDEX(Tekst!$B$1:$U$300,MATCH('Calc (W-test)'!$U$4,Tekst!$A$1:$A$300,0),Tabeller!$C$28)),IF(Calc!$X$3<2,IFERROR(INDEX(Tekst!$B$1:$U$300,190,Tabeller!$C$28),""),INDEX(Tekst!$B$1:$U$300,MATCH('Calc (W-test)'!$U$3,Tekst!$A$1:$A$300,0),Tabeller!$C$28)))),"")} -> Overeksponering kan ikke utelukkes. Tiltak nødvendig. | V20: {=IFERROR(IF(Calc!$X$1=0,"",IF(OR(Calc!$X$8=0,Calc!$X$3<3),IFERROR(INDEX(Tekst!$B$1:$U$300,50,Tabeller!$C$28),""),IF(AND('Calc (W-test)'!$T$4 ="Nei",'Calc (W-test)'!$T$5="Nei"),IFERROR(INDEX(Tekst!$B$1:$U$300,49,Tabeller!$C$28),""),IF(OR($U$9<3,'Stats - distribution'!$L$4="A2",'Stats - distribution'!$L$4="K1"),IFERROR(INDEX(Tekst!$B$1:$U$300,190,Tabeller!$C$28),""),IF(Analysis!$S$8<Tabeller!$B$63,Tabeller!$C$63,IF(Analysis!$S$8<Tabeller!$B$64,Tabeller!$C$64,IF(Analysis!$S$8<Tabeller!$B$65,Tabeller!$C$65,IF(Analysis!$S$8<Tabeller!$B$66,Tabeller!$C$66,Tabeller!$C$67)))))))),"")} -> etter implementring av risikoreduserende tiltak
B21: {=IFERROR(INDEX(Tekst!$B$1:$U$300,147,Tabeller!$C$28),"")} -> Molekylær masse (g/mol) | L21: 16 | O21: =Calc!G18
L22: 17 | O22: =Calc!G19
A23: =IF(ISNUMBER(MATCH(Information!$B$9,Tekst!$B$224:$U$224,0)),"2.","4.") -> 4. | B23: {=IFERROR(INDEX(Tekst!$B$1:$U$300,5,Tabeller!$C$28),"")} -> Reduksjonsfaktor | L23: 18 | O23: =Calc!G20
B24: {=IFERROR(INDEX(Tekst!$B$1:$U$300,6,Tabeller!$C$28),"")} -> Arbeidstid | H24: {=IFERROR(INDEX(Tekst!$B$1:$U$300,9,Tabeller!$C$28),"")} -> Faktor | L24: 19 | O24: =Calc!G21
B25: {=IFERROR(INDEX(Tekst!$B$1:$U$300,7,Tabeller!$C$28),"")} -> Daglig | C25: 8 | D25: {=IFERROR(INDEX(Tekst!$B$1:$U$300,26,Tabeller!$C$28),"")} -> timer | H25: =IFERROR(IF(OR($D$27=Tabeller!$K$3,$D$27=Tabeller!$L$3),0.6,IF(C25<7,"",8/$C$25*(24-$C$25)/16)),"") -> 1 | L25: 20 | O25: =Calc!G22
B26: {=IFERROR(INDEX(Tekst!$B$1:$U$300,8,Tabeller!$C$28),"")} -> Ukentlig | C26: 40 | D26: {=IFERROR(INDEX(Tekst!$B$1:$U$300,26,Tabeller!$C$28),"")} -> timer | H26: =IFERROR(IF(OR($D$27=Tabeller!$K$3,$D$27=Tabeller!$L$3),0.6,IF(C26<40,"",40/$C$26*(168-$C$26)/128)),"") -> 1 | L26: 21 | O26: =Calc!G23 | R26: =IF(ISNUMBER(MATCH(Information!$B$9,Tekst!$B$224:$U$224,0)),"5.","9.") -> 9. | S26: {=IFERROR(INDEX(Tekst!$B$1:$U$300,74,Tabeller!$C$28),"")} -> Samlet vurdering
B27: {=INDEX(Tekst!$B$1:$U$300,263,Tabeller!$C$28)} -> Offshore | D27: Nei | L27: 22 | O27: =Calc!G24
L28: 23 | O28: =Calc!G25
A29: 5. | B29: {=IFERROR(INDEX(Tekst!$B$1:$U$300,70,Tabeller!$C$28),"")} -> Korttidseksponering | L29: 24 | O29: =Calc!G26
H30: {=IF($H$31<>"",IFERROR(INDEX(Tekst!$B$1:$U$300,28,Tabeller!$C$28),""),"")} | L30: 25 | O30: =Calc!G27
B31: {=IFERROR(INDEX(Tekst!$B$1:$U$300,71,Tabeller!$C$28),"")} -> Korttid (15 min) | G31: {=IF(AND($D$31=INDEX(Tekst!$B$1:$U$300,258,Tabeller!$C$28),$D$32=INDEX(Tekst!$B$1:$U$300,258,Tabeller!$C$28)),IF($E$12<=Tabeller!$E$18,Tabeller!$C$18,IF($E$12<=Tabeller!$E$19,Tabeller!$C$19,IF($E$12<=Tabeller!$E$20,Tabeller!$C$20,IF($E$12<Tabeller!$E$21,Tabeller!$C$21,0)))),"")} | H31: {=IFERROR(IF($D$31=INDEX(Tekst!$B$1:$U$300,258,Tabeller!$C$28),IF(AND($D$33<>"",$D$32=INDEX(Tekst!$B$1:$U$300,259,Tabeller!$C$28)),$D$33,$E$12+($E$12*$G$31)),""),"")} | L31: 26 | O31: =Calc!G28
B32: {=IF(OR($D$31<>INDEX(Tekst!$B$1:$U$300,258,Tabeller!$C$28),$D$31<>INDEX(Tekst!$B$1:$U$300,259,Tabeller!$C$28)),IFERROR(INDEX(Tekst!$B$1:$U$300,73,Tabeller!$C$28),""),"")} -> Tommelfingerregel | L32: 27 | O32: =Calc!G29
B33: {=IF(OR($D$32<>INDEX(Tekst!$B$1:$U$300,258,Tabeller!$C$28),$D$32<>INDEX(Tekst!$B$1:$U$300,259,Tabeller!$C$28)),IFERROR(INDEX(Tekst!$B$1:$U$300,72,Tabeller!$C$28),""),"")} -> Angi, eller: | L33: 28 | O33: =Calc!G30
L34: 29 | O34: =Calc!G31
L35: 30 | O35: =Calc!G32
L36: 31 | O36: =Calc!G33
B37: {=IFERROR(INDEX(Tekst!$B$1:$U$300,247,Tabeller!$C$28),"")} -> !!! VIKTIG !!! | L37: 32 | O37: =Calc!G34
B38: {=IFERROR(INDEX(Tekst!$B$1:$U$300,136,Tabeller!$C$28),"")} -> Korttidsmålinger som vurderes opp mot korttidsverdi (referansetid 15 minutter) bør kun vurderes som indikative målinger når n ≤ 5 og som bakgrunnsinformasjon til "Innledende vurdering". For n ≥ 6 bør "Detaljert undersøkelse" benyttes. | L38: 33 | O38: =Calc!G35 | S38: {=IFERROR(INDEX(Tekst!$B$1:$U$300,168,Tabeller!$C$28),"")} -> Brukerveiledning
L39: 34 | O39: =Calc!G36 | S39: 1 | T39: {=IFERROR(INDEX(Tekst!$B$1:$U$300,150,Tabeller!$C$28),"")} -> Angi eller velg grenseverdi (GV) | V39: 5 | W39: {=IFERROR(INDEX(Tekst!$B$1:$U$300,159,Tabeller!$C$28),"")} -> Korttidseksponering
L40: 35 | O40: =Calc!G37 | T40: {=IFERROR(INDEX(Tekst!$B$1:$U$300,151,Tabeller!$C$28),"")} -> a. Registrer GV (ved å bruke agensnavn [C8] eller CAS-no. [C7]) eller registrer GV manuelt (MERK!!! Sett inn grenseverdi i henhold til antall timer per dag/uke som defineres i punkt 4. Korttidsverdi - se punkt 5) b. Velg enhet for GV i celle H11 c. Velg enhet for måledata i celle H13 Dersom aktuelt, konvertering mellom volum-volum (ppm/ppb) <--> volum-masse (mgmˉ³/µgmˉ³) gjøres automatisk basert på input i område 3. | W40: {=IFERROR(INDEX(Tekst!$B$1:$U$300,160,Tabeller!$C$28),"")} -> a. Velg om korttidsverdi skal benyttes i analysen i celle D31 b. Velg om tommelfingerregelen skal benyttes i celle D32 c. Dersom a er "Ja" og b er "Nei", sett korttidsverdi manuelt i celle D33
L41: 36 | O41: =Calc!G38
L42: 37 | O42: =Calc!G39
...

Sheet Analysis
A1: {=IFERROR(UPPER(INDEX(Tekst!$B$1:$U$300,87,Tabeller!$C$28)),"")} -> ANALYSE | W1: =IF(Information!B6=Tekst!$B$1,Tekst!$B$210,IF(Information!B6=Tekst!C1,Tekst!$C$210,"")) -> Brukte verdier
W2: =IF('Tables (statistics)'!$H$149=4,IF(Information!B6=Tekst!$B$1,Tekst!B211,IF(Information!B6=Tekst!C1,Tekst!C211,"")),"") -> Aritmetisk | X2: =IF('Tables (statistics)'!$H$149=4,IF(Information!B6=Tekst!$B$1,Tekst!B212,IF(Information!B6=Tekst!C1,Tekst!C212,"")),"") -> Geometrisk
W3: =Survey!O6 -> 21 | X3: =IF('Tables (statistics)'!$H$149=4,Calc!N3,"") -> 21
B4: {=IFERROR(INDEX(Tekst!$B$1:$U$300,32,Tabeller!$C$28),"")} -> Beskrivende statistikk (utvalg) | I4: {=IFERROR(INDEX(Tekst!$B$1:$U$300,48,Tabeller!$C$28),"")} -> Statistisk analyse (av eksponeringen for SEG) | W4: =Survey!O7 -> 1.9 | X4: =IF('Tables (statistics)'!$H$149=4,Calc!N4,"") -> 1.9
B5: {=IFERROR(INDEX(Tekst!$B$1:$U$300,20,Tabeller!$C$28),"")} -> Antall | C5: {=IFERROR(INDEX(Tekst!$B$1:$U$300,15,Tabeller!$C$28),"")} -> Målinger (n) | D5: =Calc!X1 -> 8 | W5: =Survey!O8 -> 5.8 | X5: =IF('Tables (statistics)'!$H$149=4,Calc!N5,"") -> 5.8
C6: {=IFERROR(INDEX(Tekst!$B$1:$U$300,16,Tabeller!$C$28),"")} -> Målinger under DG (m) | D6: =Calc!X2 -> 0 | I6: {=IFERROR(INDEX(Tekst!$B$1:$U$300,40,Tabeller!$C$28),"")} -> Fordeling - test (n > 2, k > 1) | M6: {=IF($D$5<11,IFERROR(INDEX(Tekst!$B$1:$U$300,39,Tabeller!$C$28),""),"")} -> Hvis n ≤ 10 antas log-normalfordeling | Q6: {=IFERROR(INDEX(Tekst!$B$1:$U$300,22,Tabeller!$C$28),"")} -> Forslag - periodiske målinger | W6: =Survey!O9 -> 17 | X6: =IF('Tables (statistics)'!$H$149=4,Calc!N6,"") -> 17
C7: {=IFERROR(INDEX(Tekst!$B$1:$U$300,249,Tabeller!$C$28),"")} -> Målinger over DL (k) | D7: =Calc!X3 -> 8 | J7: {=INDEX(Tekst!$B$1:$U$300,34,Tabeller!$C$28)} -> Normal | K7: {=INDEX(Tekst!$B$1:$U$300,35,Tabeller!$C$28)} -> Log-normal | W7: =Survey!O10 -> 1.7 | X7: =IF('Tables (statistics)'!$H$149=4,Calc!N7,"") -> 1.7
I8: W | J8: =IFERROR(IF(OR($D$13=0,$D$5<3,$D$7<2),"N/A",'Calc (W-test)'!$C$5),"") -> 0.82343296 | K8: =IFERROR(IF(OR($D$13=0,$D$5<3,$D$7<2),"N/A",'Calc (W-test)'!$C$6),"") -> 0.88115971 | Q8: {=IFERROR(INDEX(Tekst!$B$1:$U$300,251,Tabeller!$C$28),"")} -> Nye målinger | R8: J | S8: =IF(Calc!X3=0,"N/A",IFERROR(ROUND(IF($I$22=Tekst!$B$202,EXP(LN($K$17)-LN(Survey!$E$11)),IF($I$22=Tekst!$B$203,$J$17/Survey!$E$11,IF($K$8>$J$8,EXP(LN($K$17)-LN(Survey!$E$11)),$J$17/Survey!$E$11))),2),"")) -> 2.12 | W8: =Survey!O11 -> 2.7 | X8: =IF('Tables (statistics)'!$H$149=4,Calc!N8,"") -> 2.7
D9: {=IFERROR(INDEX(Tekst!$B$1:$U$300,149,Tabeller!$C$28),"")} -> ≥ DG | E9: {=IFERROR(INDEX(Tekst!$B$1:$U$300,148,Tabeller!$C$28),"")} -> DG just. | I9: a = 0.05 | J9: =IFERROR(IF(Information!$B$6=Tekst!$B$1,'Calc (W-test)'!$T$3,INDEX(Tabeller!$K$3:$L$4,MATCH('Calc (W-test)'!$T$3,Tabeller!$K$3:$K$4,0),2)),"") -> Ja | K9: =IFERROR(IF(Information!$B$6=Tekst!$B$1,'Calc (W-test)'!$T$4,INDEX(Tabeller!$K$3:$L$4,MATCH('Calc (W-test)'!$T$4,Tabeller!$K$3:$K$4,0),2)),"") -> Ja | W9: =Survey!O12 -> 6.3 | X9: =IF('Tables (statistics)'!$H$149=4,Calc!N9,"") -> 6.3
C10: {=IFERROR(INDEX(Tekst!$B$1:$U$300,18,Tabeller!$C$28),"")} -> Minste verdi (minimum) | D10: =IFERROR(ROUND(Calc!X5,3),"") -> 1.7 | E10: =IFERROR(ROUND(Calc!Y5,3),"") -> 1.7 | F10: =IF($D$5-$D$6<=0,"","") | M10: {=IF($M$11<>"",IF($D$5<6,IFERROR(INDEX(Tekst!$B$1:$U$300,44,Tabeller!$C$28),""),IF($D$5>5,IFERROR(INDEX(Tekst!$B$1:$U$300,67,Tabeller!$C$28),""),"")),"")} -> Kriterier (n ≥ 6) | W10: =Survey!O13 -> 18.9 | X10: =IF('Tables (statistics)'!$H$149=4,Calc!N10,"") -> 18.9
C11: {=IFERROR(INDEX(Tekst!$B$1:$U$300,19,Tabeller!$C$28),"")} -> Median | D11: =IFERROR(ROUND(Calc!X6,3),"") -> 6.05 | E11: =IFERROR(ROUND(Calc!Y6,3),"") -> 6.05 | I11: {=IFERROR(INDEX(Tekst!$B$1:$U$300,65,Tabeller!$C$28),"")} -> Fordeling - statistikk (n > 2, k > 1) | M11: {=IF(AND($D$5<6,$D$5>2),IFERROR(INDEX(Tekst!$B$1:$U$300,42,Tabeller!$C$28),""),IF($D$5>5,IFERROR(INDEX(Tekst!$B$1:$U$300,43,Tabeller!$C$28),""),""))} -> Øvre 70% konfidensgrense til 95%-il skal være under GV | Q11: {=IFERROR(INDEX(Tekst!$B$1:$U$300,252,Tabeller!$C$28),"")} -> Foreslått vurdering av "J" | W11: =Survey!O14 | X11: =IF('Tables (statistics)'!$H$149=4,Calc!N11,"")
C12: {=IFERROR(INDEX(Tekst!$B$1:$U$300,17,Tabeller!$C$28),"")} -> Høyeste verdi (maksimum) | D12: =IFERROR(ROUND(Calc!X7,3),"") -> 21 | E12: =IFERROR(ROUND(Calc!Y7,3),"") -> 21 | J12: {=INDEX(Tekst!$B$1:$U$300,34,Tabeller!$C$28)} -> Normal | K12: {=INDEX(Tekst!$B$1:$U$300,35,Tabeller!$C$28)} -> Log-normal | Q12: ≤ 0,20 | R12: =IF(Information!$B$6=Tekst!$B$1,Tabeller!$D$63,IF(Information!$B$6=Tekst!$C$1,Tabeller!$E$63,IF(Information!$B$6=Tekst!$D$1,Tabeller!$F$63,""))) -> vurder om nødvendig | W12: =Survey!O15 | X12: =IF('Tables (statistics)'!$H$149=4,Calc!N12,"")
C13: {=IFERROR(INDEX(Tekst!$B$1:$U$300,33,Tabeller!$C$28),"")} -> Variasjonsbredde (spredning) | D13: =IFERROR(ROUND(Calc!X8,3),"") -> 19.3 | E13: =IFERROR(ROUND(Calc!Y8,3),"") -> 19.3 | I13: AM (MVUE) | K13: =IFERROR(IF(OR($D$13=0,$D$5<3,$D$7<2),"N/A",'Stats - distribution'!$D$19),"") -> 9.6828721 | Q13: 0,20 < J ≤ 0,25 | R13: =IF(Information!$B$6=Tekst!$B$1,Tabeller!$D$64,IF(Information!$B$6=Tekst!$C$1,Tabeller!$E$64,IF(Information!$B$6=Tekst!$D$1,Tabeller!$F$64,""))) -> innen 36 måneder | W13: =Survey!O16 | X13: =IF('Tables (statistics)'!$H$149=4,Calc!N13,"")
C14: =IF(Information!$B$6=Tekst!$B$1,CONCATENATE(Tekst!$B$66," ",Tekst!$B$3),IF(Information!$B$6=Tekst!$C$1,CONCATENATE(Tekst!$C$66," ",Tekst!$C$3),"")) -> Prosent over Grenseverdi | D14: =Calc!X9 -> 0 | E14: =Calc!Y9 -> 0 | I14: AM | J14: =IFERROR(IF(OR($D$13=0,$D$5<3,$D$7<2),"N/A",'Stats - distribution'!$H$5),"") -> 9.4125 | Q14: 0,25 < J ≤ 0,50 | R14: =IF(Information!$B$6=Tekst!$B$1,Tabeller!$D$65,IF(Information!$B$6=Tekst!$C$1,Tabeller!$E$65,IF(Information!$B$6=Tekst!$D$1,Tabeller!$F$65,""))) -> innen 24 måneder | W14: =Survey!O17 | X14: =IF('Tables (statistics)'!$H$149=4,Calc!N14,"")
M15: {=IFERROR(INDEX(Tekst!$B$1:$U$300,231,Tabeller!$C$28),"")} -> Håndtering av verdier < DG | Q15: 0,50 < J ≤ 1,00 | R15: =IF(Information!$B$6=Tekst!$B$1,Tabeller!$D$66,IF(Information!$B$6=Tekst!$C$1,Tabeller!$E$66,IF(Information!$B$6=Tekst!$D$1,Tabeller!$F$66,""))) -> innen 12 måneder | W15: =Survey!O18 | X15: =IF('Tables (statistics)'!$H$149=4,Calc!N15,"")
B16: {=IFERROR(INDEX(Tekst!$B$1:$U$300,34,Tabeller!$C$28),"")} -> Normal | C16: {=IFERROR(INDEX(Tekst!$B$1:$U$300,24,Tabeller!$C$28),"")} -> Aritmetisk middelverdi (AM) | D16: =IFERROR(ROUND(Calc!X11,3),"") -> 9.413 | E16: =IFERROR(ROUND(Calc!Y11,3),"") -> 9.413 | I16: {=IFERROR(INDEX(Tekst!$B$1:$U$300,255,Tabeller!$C$28),"")} -> 95%-il (estimat -z) | J16: =IFERROR(IF(OR($D$13=0,$D$5<3,$D$7<2),"N/A",IF(Calc!AC2<>4,E16+E17*1.645,Beta!R18)),"") -> 22.827975 | K16: =IFERROR(IF(OR($D$13=0,$D$5<3,$D$7<2),"N/A",IF(Calc!AC2<>4,E19*E20^1.645,Beta!Q18)),"") -> 34.037426 | M16: =IF(OR(LEFT(Calc!$AB$2,1)="0",Information!$B$9=Tekst!$B$224),IF(OR($D$5<3,$D$7<=2),CONCATENATE("n < 3 or k ≤ 2 ",IF(Information!B6=Tekst!$B$1,Tekst!$B$45,IF(Information!B6=Tekst!C1,Tekst!C45,""))),IF(AND($D$5>=3,$D$7>2),CONCATENATE("n ≥ 3 & k > 2 ",IF(Information!B6=Tekst!$B$1,Tekst!B46,IF(Information!B6=Tekst!C1,Tekst!C46,""))),"")),_xlfn.CONCAT(IF(Information!$B$6=Tekst!$B$1,Tekst!$B$230,IF(Information!$B$6=Tekst!C1,Tekst!$C$230,""))," ",INDEX('Tables (statistics)'!$B$148:$C$153,MATCH(LEFT(Calc!$AB$2,1)*1,'Tables (statistics)'!$B$148:$B$153,0),2))) -> n ≥ 3 & k > 2 Beta metode er brukt | Q16: 1,00 < J | R16: =IF(Information!$B$6=Tekst!$B$1,Tabeller!$D$67,IF(Information!$B$6=Tekst!$C$1,Tabeller!$E$67,IF(Information!$B$6=Tekst!$D$1,Tabeller!$F$67,""))) -> etter implementring av risikoreduserende tiltak | W16: =Survey!O19 | X16: =IF('Tables (statistics)'!$H$149=4,Calc!N16,"")
C17: =IFERROR(_xlfn.CONCAT(INDEX(Tekst!$B$1:$U$300,37,Tabeller!$C$28)," (SD)"),"") -> Standardavvik (SD) | D17: =IFERROR(ROUND(Calc!X12,3),"") -> 8.155 | E17: =IFERROR(ROUND(Calc!Y12,3),"") -> 8.155 | I17: {=IFERROR(INDEX(Tekst!$B$1:$U$300,256,Tabeller!$C$28),"")} -> U_T (EØK 95%, 70%) | J17: =IFERROR(IF(OR($D$13=0,$D$5<3,$D$7<2),"N/A",IF('Tables (statistics)'!$H$149<>4,E16+E17*'Stats - distribution'!D23,Beta!R19)),"") -> 26.310396 | K17: =IFERROR(IF(OR($D$13=0,$D$5<3,$D$7<2),"N/A",IF('Tables (statistics)'!$H$149<>4,E19*E20^'Stats - distribution'!D23,Beta!Q19)),"") -> 52.971738 | W17: =Survey!O20 | X17: =IF('Tables (statistics)'!$H$149=4,Calc!N17,"")
W18: =Survey!O21 | X18: =IF('Tables (statistics)'!$H$149=4,Calc!N18,"")
B19: {=IFERROR(INDEX(Tekst!$B$1:$U$300,35,Tabeller!$C$28),"")} -> Log-normal | C19: =IFERROR(_xlfn.CONCAT(INDEX(Tekst!$B$1:$U$300,212,Tabeller!$C$28)," mean (GM)"),"") -> Geometrisk mean (GM) | D19: =IFERROR(ROUND(Calc!X14,3),"") -> 6.188 | E19: =IFERROR(ROUND(Calc!Y14,3),"") -> 6.188 | I19: {=IFERROR(CONCATENATE(INDEX(Tekst!$B$1:$U$300,66,Tabeller!$C$28)," ",INDEX(Tekst!$B$1:$U$300,3,Tabeller!$C$28)),"")} -> Prosent over Grenseverdi | J19: =IFERROR(IF(OR($D$13=0,$D$5<3,$D$7<2),"N/A",100*(1-NORMDIST(Survey!$E$11,$J$13,STDEV(Calc!$G$3:$G$52),TRUE()))),"") -> 0.10866397 | K19: =IFERROR(IF(OR($D$13=0,$D$5<3,$D$7<2),"N/A",100*(1-LOGNORMDIST(Survey!$E$11,AVERAGE(Calc!$P$3:$P$52),_xlfn.STDEV.S(Calc!$P$3:$P$52)))),"") -> 8.8927186 | M19: {=IFERROR(INDEX(Tekst!$B$1:$U$300,21,Tabeller!$C$28),"")} -> Veiledende konklusjon | Q19: {=IFERROR(INDEX(Tekst!$B$1:$U$300,64,Tabeller!$C$28),"")} -> Anbefalt ny kartlegging | W19: =Survey!O22 | X19: =IF('Tables (statistics)'!$H$149=4,Calc!N19,"")
C20: =IFERROR(_xlfn.CONCAT(INDEX(Tekst!$B$1:$U$300,212,Tabeller!$C$28)," standard deviation (GSD)"),"") -> Geometrisk standard deviation (GSD) | D20: =IFERROR(ROUND(Calc!X15,3),"") -> 2.819 | E20: =IFERROR(ROUND(Calc!Y15,3),"") -> 2.819 | M20: {=IFERROR(IF($D$5=0,"",IF($D$5>5,IF($D$5<6,"N/A",IF(OR($D$13=0,$D$7<=2),INDEX(Tekst!$B$1:$U$300,MATCH('Calc (W-test)'!$U$4,Tekst!$A$1:$A$300,0),Tabeller!$C$28),INDEX(Tekst!$B$1:$U$300,MATCH('Calc (W-test)'!$U$4,Tekst!$A$1:$A$300,0),Tabeller!$C$28))),IF($D$5-$D$6<2,IFERROR(INDEX(Tekst!$B$1:$U$300,190,Tabeller!$C$28),""),INDEX(Tekst!$B$1:$U$300,MATCH('Calc (W-test)'!$U$3,Tekst!$A$1:$A$300,0),Tabeller!$C$28)))),"")} -> Overeksponering kan ikke utelukkes. Tiltak nødvendig. | Q20: {=IF(Analysis!$D$5=0,"",IF(OR(Analysis!$D$13=0,Analysis!$D$5-Analysis!$D$6<3),IFERROR(INDEX(Tekst!$B$1:$U$300,50,Tabeller!$C$28),""),IF(AND('Calc (W-test)'!$T$4 ="Nei",'Calc (W-test)'!$T$5="Nei"),IFERROR(INDEX(Tekst!$B$1:$U$300,49,Tabeller!$C$28),""),IF(Analysis!$S$8<Tabeller!$B$63,Tabeller!$C$63,IF(Analysis!$S$8<Tabeller!$B$64,Tabeller!$C$64,IF(Analysis!$S$8<Tabeller!$B$65,Tabeller!$C$65,IF(Analysis!$S$8<Tabeller!$B$66,Tabeller!$C$66,Tabeller!$C$67)))))))} -> etter implementring av risikoreduserende tiltak | W20: =Survey!O23 | X20: =IF('Tables (statistics)'!$H$149=4,Calc!N20,"")
I21: {=IFERROR(INDEX(Tekst!$B$1:$U$300,47,Tabeller!$C$28),"")} -> Antatt fordeling | W21: =Survey!O24 | X21: =IF('Tables (statistics)'!$H$149=4,Calc!N21,"")
I22: {=IFERROR(INDEX(Tekst!$B$1:$U$300,MATCH('Stats - distribution'!$L$4,Tekst!$A$1:$A$300,0),Tabeller!$C$28),"")} -> Log-normal | W22: =Survey!O25 | X22: =IF('Tables (statistics)'!$H$149=4,Calc!N22,"")
W23: =Survey!O26 | X23: =IF('Tables (statistics)'!$H$149=4,Calc!N23,"")
W24: =Survey!O27 | X24: =IF('Tables (statistics)'!$H$149=4,Calc!N24,"")
I25: {=IFERROR(INDEX(Tekst!$B$1:$U$300,62,Tabeller!$C$28),"")} -> Andel av normalfordeling mindre enn null | W25: =Survey!O28 | X25: =IF('Tables (statistics)'!$H$149=4,Calc!N25,"")
I26: {=IFERROR(INDEX(Tekst!$B$1:$U$300,63,Tabeller!$C$28),"")} -> Prosent av normalfordeling under null | M26: =IFERROR(IF(OR($D$13=0,$D$5<3,$D$7<2),"N/A",ROUND(100*_xlfn.NORM.S.DIST((0-$D$16)/$D$17,TRUE),1)),"") -> 12.4 | W26: =Survey!O29 | X26: =IF('Tables (statistics)'!$H$149=4,Calc!N26,"")
W27: =Survey!O30 | X27: =IF('Tables (statistics)'!$H$149=4,Calc!N27,"")
W28: =Survey!O31 | X28: =IF('Tables (statistics)'!$H$149=4,Calc!N28,"")
W29: =Survey!O32 | X29: =IF('Tables (statistics)'!$H$149=4,Calc!N29,"")
W30: =Survey!O33 | X30: =IF('Tables (statistics)'!$H$149=4,Calc!N30,"")
W31: =Survey!O34 | X31: =IF('Tables (statistics)'!$H$149=4,Calc!N31,"")
W32: =Survey!O35 | X32: =IF('Tables (statistics)'!$H$149=4,Calc!N32,"")
W33: =Survey!O36 | X33: =IF('Tables (statistics)'!$H$149=4,Calc!N33,"")
W34: =Survey!O37 | X34: =IF('Tables (statistics)'!$H$149=4,Calc!N34,"")
W35: =Survey!O38 | X35: =IF('Tables (statistics)'!$H$149=4,Calc!N35,"")
W36: =Survey!O39 | X36: =IF('Tables (statistics)'!$H$149=4,Calc!N36,"")
W37: =Survey!O40 | X37: =IF('Tables (statistics)'!$H$149=4,Calc!N37,"")
W38: =Survey!O41 | X38: =IF('Tables (statistics)'!$H$149=4,Calc!N38,"")
... W52: =Survey!O55 | X52: =IF('Tables (statistics)'!$H$149=4,Calc!N52,"")

Sheet 2-3. Multiple exposure
A1: =IF(Information!$B$6=Tekst!$B$1,UPPER(Tekst!$B$89),IF(Information!$B$6=Tekst!$C$1,UPPER(Tekst!$C$89),"")) -> FLERE EKSPONERINGER
B4: =IF(Information!$B$6=Tekst!$B$1,Tekst!$B$112,IF(Information!$B$6=Tekst!$C$1,Tekst!$C$112,"")) -> Eksponering for flere kjemiske agenser | L4: =IF(Information!$B$6=Tekst!$B$1,Tekst!$B$109,IF(Information!$B$6=Tekst!$C$1,Tekst!$C$109,"")) -> Kriterier ved bruk av
B6: =IF(Information!$B$6=Tekst!$B$1,Tekst!$B$83,IF(Information!$B$6=Tekst!$C$1,Tekst!$C$83,"")) -> Nivå 1 (Eksponeringsindeks) | C6: IE | D6: =IF(Information!$B$6=Tekst!$B$1,Tekst!$B$85,IF(Information!$B$6=Tekst!$C$1,Tekst!$C$85,"")) -> Summen av eksponering delt på de respektive GV | L6: =IF(Information!$B$6=Tekst!$B$1,Tekst!$B$110,IF(Information!$B$6=Tekst!$C$1,Tekst!$C$110,"")) -> Forenklet undersøkelse
L7: 3 | M7: ≤ 0.20
L8: 4 | M8: ≤ 0.15
B9: =IF(Information!$B$6=Tekst!$B$1,Tekst!$B$84,IF(Information!$B$6=Tekst!$C$1,Tekst!$C$84,"")) -> Nivå 2 (Additiv effekt) | C9: IAE | D9: =IF(Information!$B$6=Tekst!$B$1,Tekst!$B$86,IF(Information!$B$6=Tekst!$C$1,Tekst!$C$86,"")) -> Summen av eksponering som har liknende effekt eller påvirker det samme organet delt på respektive GV | L9: 5 | M9: ≤ 0.10
L10: =IF(Information!$B$6=Tekst!$B$1,Tekst!$B$111,IF(Information!$B$6=Tekst!$C$1,Tekst!$C$111,"")) -> Detaljert undersøkelse
L11: > 5 | M11: ≤ 1.00
B14: =IF(Information!$B$6=Tekst!$B$1,Tekst!$B$80,IF(Information!$B$6=Tekst!$C$1,Tekst!$C$80,"")) -> Agens | D14: =IF(Information!$B$6=Tekst!$B$1,Tekst!$B$81,IF(Information!$B$6=Tekst!$C$1,Tekst!$C$81,"")) -> Effekt gruppe
B15: =IF(Information!$B$6=Tekst!$B$1,Tekst!$B$77,IF(Information!$B$6=Tekst!$C$1,Tekst!$C$77,"")) -> Velg navn: | C15: # | D15: =IF(Information!$B$6=Tekst!$B$1,Tekst!$B$78,IF(Information!$B$6=Tekst!$C$1,Tekst!$C$78,"")) -> Helseeffekter | E15: # | F15: =CONCATENATE(IF(Information!$B$6=Tekst!$B$1,Tekst!$B$82,IF(Information!$B$6=Tekst!$C$1,Tekst!$C$82,""))," (mgm¯³)") -> GV - 8t (mgm¯³) | G15: ="C "&" (8 "&IF(Information!$B$6=Tekst!$B$1,Tekst!$B$26,IF(Information!$B$6=Tekst!$C$1,Tekst!$C$26,""))&")" -> C (8 timer) | H15: =IF(Information!$B$6=Tekst!$B$1,Tekst!$B$79,IF(Information!$B$6=Tekst!$C$1,Tekst!$C$79,"")) -> GV-fraksjon | L15: =IF(Information!$B$6=Tekst!$B$1,Tekst!$B$76,IF(Information!$B$6=Tekst!$C$1,Tekst!$C$76,"")) -> Eksponeringsindeks
C16: =IF(B16="","",COUNTA($B$16:B16)) | H16: =IFERROR($G16/$F16,"")
C17: =IF(B17="","",COUNTA($B$16:B17)) | H17: =IFERROR($G17/$F17,"") | L17: =IF(Information!$B$6=Tekst!$B$1,CONCATENATE(Tekst!$B$75," 1"),IF(Information!$B$6=Tekst!$C$1,CONCATENATE(Tekst!$C$75," 1"),"")) -> Nivå 1
C18: =IF(B18="","",COUNTA($B$16:B18)) | H18: =IFERROR($G18/$F18,"") | L18: IE | M18: =IF(AND(COUNTIF($E$16:$E$35,$E$16)=COUNTA($E$16:$E$35),COUNTA($E$16:$E$35)<>""),SUM($H$16:$H$35),"N/A") -> 0 | AB18: This method should be used if the appraiser has insufficient knowledge of the combined effects of all the chemical exposure
C19: =IF(B19="","",COUNTA($B$16:B19)) | H19: =IFERROR($G19/$F19,"")
C20: =IF(B20="","",COUNTA($B$16:B20)) | H20: =IFERROR($G20/$F20,"") | L20: =IF(Information!$B$6=Tekst!$B$1,CONCATENATE(Tekst!$B$75," 2"),IF(Information!$B$6=Tekst!$C$1,CONCATENATE(Tekst!$C$75," 2"),"")) -> Nivå 2
C21: =IF(B21="","",COUNTA($B$16:B21)) | H21: =IFERROR($G21/$F21,"") | L21: IAE, A | M21: =IF(COUNTIFS($E$16:$E$35,"A")=0,"",SUMIFS($H$16:$H$35,$E$16:$E$35,"A"))
C22: =IF(B22="","",COUNTA($B$16:B22)) | H22: =IFERROR($G22/$F22,"") | L22: IAE, B | M22: =IF(COUNTIFS($E$16:$E$35,"B")=0,"",SUMIFS($H$16:$H$35,$E$16:$E$35,"B"))
C23: =IF(B23="","",COUNTA($B$16:B23)) | H23: =IFERROR($G23/$F23,"") | L23: IAE, C | M23: =IF(COUNTIFS($E$16:$E$35,"C")=0,"",SUMIFS($H$16:$H$35,$E$16:$E$35,"C"))
C24: =IF(B24="","",COUNTA($B$16:B24)) | H24: =IFERROR($G24/$F24,"") | L24: IAE, D | M24: =IF(COUNTIFS($E$16:$E$35,"D")=0,"",SUMIFS($H$16:$H$35,$E$16:$E$35,"D"))
C25: =IF(B25="","",COUNTA($B$16:B25)) | H25: =IFERROR($G25/$F25,"") | L25: IAE, E | M25: =IF(COUNTIFS($E$16:$E$35,"E")=0,"",SUMIFS($H$16:$H$35,$E$16:$E$35,"E"))
C26: =IF(B26="","",COUNTA($B$16:B26)) | H26: =IFERROR($G26/$F26,"")
C27: =IF(B27="","",COUNTA($B$16:B27)) | H27: =IFERROR($G27/$F27,"")
C28: =IF(B28="","",COUNTA($B$16:B28)) | H28: =IFERROR($G28/$F28,"")
C29: =IF(B29="","",COUNTA($B$16:B29)) | H29: =IFERROR($G29/$F29,"")
C30: =IF(B30="","",COUNTA($B$16:B30)) | H30: =IFERROR($G30/$F30,"")
C31: =IF(B31="","",COUNTA($B$16:B31)) | H31: =IFERROR($G31/$F31,"")
C32: =IF(B32="","",COUNTA($B$16:B32)) | H32: =IFERROR($G32/$F32,"")
C33: =IF(B33="","",COUNTA($B$16:B33)) | H33: =IFERROR($G33/$F33,"")
C34: =IF(B34="","",COUNTA($B$16:B34)) | H34: =IFERROR($G34/$F34,"")
C35: =IF(B35="","",COUNTA($B$16:B35)) | H35: =IFERROR($G35/$F35,"")

Sheet Beta
B1: BETA | Q1: Antatt log-normal | R1: Antatt normal
G3: Log-normal | K3: Normal | P3: y bar | Q3: =AVERAGE($D$5:$D$54) -> 1.8226299
B4: Lnr | C4: kons (x) | D4: y | E4: x | G4: x (mean) | H4: x (gm) | I4: ln (x (gm)) | K4: x (mean) | M4: =IF(Information!$B$6=Tekst!$B$1,Tekst!$B$15,IF(Information!$B$6=Tekst!C1,Tekst!$C$15,"")) -> Målinger (n) | N4: =Analysis!$D$5 -> 8 | P4: x bar | R4: =AVERAGE($E$5:$E$54) -> 9.4125
B5: 1 | C5: =IF(Calc!$F3=0,"",Calc!$F3) -> 21 | D5: =IF(OR(C5="",Calc!E3=1),"",Calc!Q3) -> 3.0445224 | E5: =IF(OR(C5="",Calc!E3=1),"",C5) -> 21 | G5: =IF(C5="","",IF(Calc!E3=1,$Q$9*C5,C5)) -> 21 | H5: =IF(C5="","",IF(Calc!E3=1,$Q$10*C5,C5)) -> 21 | I5: =IF(C5="","",LN(H5)) -> 3.0445224 | K5: =IF(C5="","",IF(Calc!E3=1,$R$9*C5,C5)) -> 21 | M5: =IF(Information!$B$6=Tekst!$B$1,Tekst!$B$16,IF(Information!$B$6=Tekst!C1,Tekst!$C$16,"")) -> Målinger under DG (m) | N5: =Analysis!$D$6 -> 0 | P5: z | Q5: =IFERROR(_xlfn.NORM.S.INV($N$5/$N$4),"") | R5: =IFERROR(_xlfn.NORM.S.INV($N$5/$N$4),"")
B6: 2 | C6: =IF(Calc!$F4=0,"",Calc!$F4) -> 1.9 | D6: =IF(OR(C6="",Calc!E4=1),"",Calc!Q4) -> 0.64185389 | E6: =IF(OR(C6="",Calc!E4=1),"",C6) -> 1.9 | G6: =IF(C6="","",IF(Calc!E4=1,$Q$9*C6,C6)) -> 1.9 | H6: =IF(C6="","",IF(Calc!E4=1,$Q$10*C6,C6)) -> 1.9 | I6: =IF(C6="","",LN(H6)) -> 0.64185389 | K6: =IF(C6="","",IF(Calc!E4=1,$R$9*C6,C6)) -> 1.9 | M6: n-m | N6: =N4-N5 -> 8 | P6: f(z) | Q6: =IFERROR(_xlfn.NORM.DIST($Q$5,0,1,0)/(1-_xlfn.NORM.DIST($Q$5,0,1,1)),"") | R6: =IFERROR(_xlfn.NORM.DIST($R$5,0,1,0)/(1-_xlfn.NORM.DIST($R$5,0,1,1)),"")
B7: 3 | C7: =IF(Calc!$F5=0,"",Calc!$F5) -> 5.8 | D7: =IF(OR(C7="",Calc!E5=1),"",Calc!Q5) -> 1.7578579 | E7: =IF(OR(C7="",Calc!E5=1),"",C7) -> 5.8 | G7: =IF(C7="","",IF(Calc!E5=1,$Q$9*C7,C7)) -> 5.8 | H7: =IF(C7="","",IF(Calc!E5=1,$Q$10*C7,C7)) -> 5.8 | I7: =IF(C7="","",LN(H7)) -> 1.7578579 | K7: =IF(C7="","",IF(Calc!E5=1,$R$9*C7,C7)) -> 5.8 | M7: Min | N7: =MIN($C$5:$C$54) -> 1.7 | P7: sy | Q7: =IFERROR(SQRT(($Q$3-LN($N$7))^2/($Q$6-$Q$5)^2),"") | R7: =IFERROR(SQRT(($R$4-$N$7)^2/($R$6-$R$5)^2),"")
B8: 4 | C8: =IF(Calc!$F6=0,"",Calc!$F6) -> 17 | D8: =IF(OR(C8="",Calc!E6=1),"",Calc!Q6) -> 2.8332133 | E8: =IF(OR(C8="",Calc!E6=1),"",C8) -> 17 | G8: =IF(C8="","",IF(Calc!E6=1,$Q$9*C8,C8)) -> 17 | H8: =IF(C8="","",IF(Calc!E6=1,$Q$10*C8,C8)) -> 17 | I8: =IF(C8="","",LN(H8)) -> 2.8332133 | K8: =IF(C8="","",IF(Calc!E6=1,$R$9*C8,C8)) -> 17 | M8: Median | N8: =MEDIAN($C$5:$C$54) -> 6.05 | P8: f(sy,z) | Q8: =IFERROR((1-NORMDIST($Q$5-$Q$7/$N$4,0,1,TRUE))/(1-NORMDIST($Q$5,0,1,TRUE)),"") | R8: =IFERROR((1-NORMDIST($R$5-$R$7/$N$4,0,1,TRUE))/(1-NORMDIST($R$5,0,1,TRUE)),"")
B9: 5 | C9: =IF(Calc!$F7=0,"",Calc!$F7) -> 1.7 | D9: =IF(OR(C9="",Calc!E7=1),"",Calc!Q7) -> 0.53062825 | E9: =IF(OR(C9="",Calc!E7=1),"",C9) -> 1.7 | G9: =IF(C9="","",IF(Calc!E7=1,$Q$9*C9,C9)) -> 1.7 | H9: =IF(C9="","",IF(Calc!E7=1,$Q$10*C9,C9)) -> 1.7 | I9: =IF(C9="","",LN(H9)) -> 0.53062825 | K9: =IF(C9="","",IF(Calc!E7=1,$R$9*C9,C9)) -> 1.7 | M9: Max | N9: =MAXA($C$5:$C$54) -> 21 | P9: AM_beta | Q9: =IFERROR($N$4/$N$5*NORMDIST($Q$5-$Q$7,0,1,1)*EXP(-$Q$7*$Q$5+($Q$7)^2/2),"") | R9: =IFERROR($N$4/$N$5*NORMDIST($R$5-$R$7,0,1,1)*EXP(-$R$7*$R$5+($R$7)^2/2),"")
B10: 6 | C10: =IF(Calc!$F8=0,"",Calc!$F8) -> 2.7 | D10: =IF(OR(C10="",Calc!E8=1),"",Calc!Q8) -> 0.99325177 | E10: =IF(OR(C10="",Calc!E8=1),"",C10) -> 2.7 | G10: =IF(C10="","",IF(Calc!E8=1,$Q$9*C10,C10)) -> 2.7 | H10: =IF(C10="","",IF(Calc!E8=1,$Q$10*C10,C10)) -> 2.7 | I10: =IF(C10="","",LN(H10)) -> 0.99325177 | K10: =IF(C10="","",IF(Calc!E8=1,$R$9*C10,C10)) -> 2.7 | P10: GM_beta | Q10: =IFERROR(EXP((-($N$4-$N$5)*$N$4)/$N$5*LN(Q8)-$Q$7*$Q$5-($N$4-$N$5)/(2*$N$5*$N$4)*($Q$7)^2),"")
B11: 7 | C11: =IF(Calc!$F9=0,"",Calc!$F9) -> 6.3 | D11: =IF(OR(C11="",Calc!E9=1),"",Calc!Q9) -> 1.8405496 | E11: =IF(OR(C11="",Calc!E9=1),"",C11) -> 6.3 | G11: =IF(C11="","",IF(Calc!E9=1,$Q$9*C11,C11)) -> 6.3 | H11: =IF(C11="","",IF(Calc!E9=1,$Q$10*C11,C11)) -> 6.3 | I11: =IF(C11="","",LN(H11)) -> 1.8405496 | K11: =IF(C11="","",IF(Calc!E9=1,$R$9*C11,C11)) -> 6.3
B12: 8 | C12: =IF(Calc!$F10=0,"",Calc!$F10) -> 18.9 | D12: =IF(OR(C12="",Calc!E10=1),"",Calc!Q10) -> 2.9391619 | E12: =IF(OR(C12="",Calc!E10=1),"",C12) -> 18.9 | G12: =IF(C12="","",IF(Calc!E10=1,$Q$9*C12,C12)) -> 18.9 | H12: =IF(C12="","",IF(Calc!E10=1,$Q$10*C12,C12)) -> 18.9 | I12: =IF(C12="","",LN(H12)) -> 2.9391619 | K12: =IF(C12="","",IF(Calc!E10=1,$R$9*C12,C12)) -> 18.9 | P12: AM | Q12: =AVERAGE($G$5:$G$54) -> 9.4125 | R12: =AVERAGE($K$5:$K$54) -> 9.4125
B13: 9 | C13: =IF(Calc!$F11=0,"",Calc!$F11) | D13: =IF(OR(C13="",Calc!E11=1),"",Calc!Q11) | E13: =IF(OR(C13="",Calc!E11=1),"",C13) | G13: =IF(C13="","",IF(Calc!E11=1,$Q$9*C13,C13)) | H13: =IF(C13="","",IF(Calc!E11=1,$Q$10*C13,C13)) | I13: =IF(C13="","",LN(H13)) | K13: =IF(C13="","",IF(Calc!E11=1,$R$9*C13,C13)) | P13: SD | Q13: =_xlfn.STDEV.S($G$5:$G$54) -> 8.1553554 | R13: =STDEV($K$5:$K$54) -> 8.1553554
B14: 10 | C14: =IF(Calc!$F12=0,"",Calc!$F12) | D14: =IF(OR(C14="",Calc!E12=1),"",Calc!Q12) | E14: =IF(OR(C14="",Calc!E12=1),"",C14) | G14: =IF(C14="","",IF(Calc!E12=1,$Q$9*C14,C14)) | H14: =IF(C14="","",IF(Calc!E12=1,$Q$10*C14,C14)) | I14: =IF(C14="","",LN(H14)) | K14: =IF(C14="","",IF(Calc!E12=1,$R$9*C14,C14)) | P14: GM | Q14: =EXP(AVERAGE($I$5:$I$54)) -> 6.1881112
B15: 11 | C15: =IF(Calc!$F13=0,"",Calc!$F13) | D15: =IF(OR(C15="",Calc!E13=1),"",Calc!Q13) | E15: =IF(OR(C15="",Calc!E13=1),"",C15) | G15: =IF(C15="","",IF(Calc!E13=1,$Q$9*C15,C15)) | H15: =IF(C15="","",IF(Calc!E13=1,$Q$10*C15,C15)) | I15: =IF(C15="","",LN(H15)) | K15: =IF(C15="","",IF(Calc!E13=1,$R$9*C15,C15)) | P15: GSD | Q15: =IF(($Q$12/$Q$14)<=1,1,EXP(Q17)) -> 2.6620751
B16: 12 | C16: =IF(Calc!$F14=0,"",Calc!$F14) | D16: =IF(OR(C16="",Calc!E14=1),"",Calc!Q14) | E16: =IF(OR(C16="",Calc!E14=1),"",C16) | G16: =IF(C16="","",IF(Calc!E14=1,$Q$9*C16,C16)) | H16: =IF(C16="","",IF(Calc!E14=1,$Q$10*C16,C16)) | I16: =IF(C16="","",LN(H16)) | K16: =IF(C16="","",IF(Calc!E14=1,$R$9*C16,C16)) | P16: y bar | Q16: =AVERAGE($I$5:$I$54) -> 1.8226299
B17: 13 | C17: =IF(Calc!$F15=0,"",Calc!$F15) | D17: =IF(OR(C17="",Calc!E15=1),"",Calc!Q15) | E17: =IF(OR(C17="",Calc!E15=1),"",C17) | G17: =IF(C17="","",IF(Calc!E15=1,$Q$9*C17,C17)) | H17: =IF(C17="","",IF(Calc!E15=1,$Q$10*C17,C17)) | I17: =IF(C17="","",LN(H17)) | K17: =IF(C17="","",IF(Calc!E15=1,$R$9*C17,C17)) | P17: sy | Q17: =IF(($Q$12/$Q$14)<=1,0,SQRT(2*$N$4/($N$4-1)*LN($Q$12/$Q$14))) -> 0.97910594
B18: 14 | C18: =IF(Calc!$F16=0,"",Calc!$F16) | D18: =IF(OR(C18="",Calc!E16=1),"",Calc!Q16) | E18: =IF(OR(C18="",Calc!E16=1),"",C18) | G18: =IF(C18="","",IF(Calc!E16=1,$Q$9*C18,C18)) | H18: =IF(C18="","",IF(Calc!E16=1,$Q$10*C18,C18)) | I18: =IF(C18="","",LN(H18)) | K18: =IF(C18="","",IF(Calc!E16=1,$R$9*C18,C18)) | P18: X95 | Q18: =IF(N5=0,EXP(Q16+1.645*Q17),EXP(LN($Q$14)-($Q$7)^2/(2*$N$4)+1.645*$Q$17)) -> 30.977439 | R18: =$R$12+(1.645*$R$13) -> 22.82806
B19: 15 | C19: =IF(Calc!$F17=0,"",Calc!$F17) | D19: =IF(OR(C19="",Calc!E17=1),"",Calc!Q17) | E19: =IF(OR(C19="",Calc!E17=1),"",C19) | G19: =IF(C19="","",IF(Calc!E17=1,$Q$9*C19,C19)) | H19: =IF(C19="","",IF(Calc!E17=1,$Q$10*C19,C19)) | I19: =IF(C19="","",LN(H19)) | K19: =IF(C19="","",IF(Calc!E17=1,$R$9*C19,C19)) | P19: UTL | Q19: =IF(N5=0,'Stats - distribution'!D24,EXP(LN($Q$14)-($Q$7)^2/(2*$N$4)+'Stats - distribution'!D23*$Q$17)) -> 52.971738 | R19: =$R$12+('Stats - distribution'!D23*$R$13) -> 26.310396
B20: 16 | C20: =IF(Calc!$F18=0,"",Calc!$F18) | D20: =IF(OR(C20="",Calc!E18=1),"",Calc!Q18) | E20: =IF(OR(C20="",Calc!E18=1),"",C20) | G20: =IF(C20="","",IF(Calc!E18=1,$Q$9*C20,C20)) | H20: =IF(C20="","",IF(Calc!E18=1,$Q$10*C20,C20)) | I20: =IF(C20="","",LN(H20)) | K20: =IF(C20="","",IF(Calc!E18=1,$R$9*C20,C20))
B21: 17 | C21: =IF(Calc!$F19=0,"",Calc!$F19) | D21: =IF(OR(C21="",Calc!E19=1),"",Calc!Q19) | E21: =IF(OR(C21="",Calc!E19=1),"",C21) | G21: =IF(C21="","",IF(Calc!E19=1,$Q$9*C21,C21)) | H21: =IF(C21="","",IF(Calc!E19=1,$Q$10*C21,C21)) | I21: =IF(C21="","",LN(H21)) | K21: =IF(C21="","",IF(Calc!E19=1,$R$9*C21,C21))
B22: 18 | C22: =IF(Calc!$F20=0,"",Calc!$F20) | D22: =IF(OR(C22="",Calc!E20=1),"",Calc!Q20) | E22: =IF(OR(C22="",Calc!E20=1),"",C22) | G22: =IF(C22="","",IF(Calc!E20=1,$Q$9*C22,C22)) | H22: =IF(C22="","",IF(Calc!E20=1,$Q$10*C22,C22)) | I22: =IF(C22="","",LN(H22)) | K22: =IF(C22="","",IF(Calc!E20=1,$R$9*C22,C22))
B23: 19 | C23: =IF(Calc!$F21=0,"",Calc!$F21) | D23: =IF(OR(C23="",Calc!E21=1),"",Calc!Q21) | E23: =IF(OR(C23="",Calc!E21=1),"",C23) | G23: =IF(C23="","",IF(Calc!E21=1,$Q$9*C23,C23)) | H23: =IF(C23="","",IF(Calc!E21=1,$Q$10*C23,C23)) | I23: =IF(C23="","",LN(H23)) | K23: =IF(C23="","",IF(Calc!E21=1,$R$9*C23,C23))
B24: 20 | C24: =IF(Calc!$F22=0,"",Calc!$F22) | D24: =IF(OR(C24="",Calc!E22=1),"",Calc!Q22) | E24: =IF(OR(C24="",Calc!E22=1),"",C24) | G24: =IF(C24="","",IF(Calc!E22=1,$Q$9*C24,C24)) | H24: =IF(C24="","",IF(Calc!E22=1,$Q$10*C24,C24)) | I24: =IF(C24="","",LN(H24)) | K24: =IF(C24="","",IF(Calc!E22=1,$R$9*C24,C24))
B25: 21 | C25: =IF(Calc!$F23=0,"",Calc!$F23) | D25: =IF(OR(C25="",Calc!E23=1),"",Calc!Q23) | E25: =IF(OR(C25="",Calc!E23=1),"",C25) | G25: =IF(C25="","",IF(Calc!E23=1,$Q$9*C25,C25)) | H25: =IF(C25="","",IF(Calc!E23=1,$Q$10*C25,C25)) | I25: =IF(C25="","",LN(H25)) | K25: =IF(C25="","",IF(Calc!E23=1,$R$9*C25,C25))
B26: 22 | C26: =IF(Calc!$F24=0,"",Calc!$F24) | D26: =IF(OR(C26="",Calc!E24=1),"",Calc!Q24) | E26: =IF(OR(C26="",Calc!E24=1),"",C26) | G26: =IF(C26="","",IF(Calc!E24=1,$Q$9*C26,C26)) | H26: =IF(C26="","",IF(Calc!E24=1,$Q$10*C26,C26)) | I26: =IF(C26="","",LN(H26)) | K26: =IF(C26="","",IF(Calc!E24=1,$R$9*C26,C26))
B27: 23 | C27: =IF(Calc!$F25=0,"",Calc!$F25) | D27: =IF(OR(C27="",Calc!E25=1),"",Calc!Q25) | E27: =IF(OR(C27="",Calc!E25=1),"",C27) | G27: =IF(C27="","",IF(Calc!E25=1,$Q$9*C27,C27)) | H27: =IF(C27="","",IF(Calc!E25=1,$Q$10*C27,C27)) | I27: =IF(C27="","",LN(H27)) | K27: =IF(C27="","",IF(Calc!E25=1,$R$9*C27,C27))
B28: 24 | C28: =IF(Calc!$F26=0,"",Calc!$F26) | D28: =IF(OR(C28="",Calc!E26=1),"",Calc!Q26) | E28: =IF(OR(C28="",Calc!E26=1),"",C28) | G28: =IF(C28="","",IF(Calc!E26=1,$Q$9*C28,C28)) | H28: =IF(C28="","",IF(Calc!E26=1,$Q$10*C28,C28)) | I28: =IF(C28="","",LN(H28)) | K28: =IF(C28="","",IF(Calc!E26=1,$R$9*C28,C28))
B29: 25 | C29: =IF(Calc!$F27=0,"",Calc!$F27) | D29: =IF(OR(C29="",Calc!E27=1),"",Calc!Q27) | E29: =IF(OR(C29="",Calc!E27=1),"",C29) | G29: =IF(C29="","",IF(Calc!E27=1,$Q$9*C29,C29)) | H29: =IF(C29="","",IF(Calc!E27=1,$Q$10*C29,C29)) | I29: =IF(C29="","",LN(H29)) | K29: =IF(C29="","",IF(Calc!E27=1,$R$9*C29,C29))
B30: 26 | C30: =IF(Calc!$F28=0,"",Calc!$F28) | D30: =IF(OR(C30="",Calc!E28=1),"",Calc!Q28) | E30: =IF(OR(C30="",Calc!E28=1),"",C30) | G30: =IF(C30="","",IF(Calc!E28=1,$Q$9*C30,C30)) | H30: =IF(C30="","",IF(Calc!E28=1,$Q$10*C30,C30)) | I30: =IF(C30="","",LN(H30)) | K30: =IF(C30="","",IF(Calc!E28=1,$R$9*C30,C30))
B31: 27 | C31: =IF(Calc!$F29=0,"",Calc!$F29) | D31: =IF(OR(C31="",Calc!E29=1),"",Calc!Q29) | E31: =IF(OR(C31="",Calc!E29=1),"",C31) | G31: =IF(C31="","",IF(Calc!E29=1,$Q$9*C31,C31)) | H31: =IF(C31="","",IF(Calc!E29=1,$Q$10*C31,C31)) | I31: =IF(C31="","",LN(H31)) | K31: =IF(C31="","",IF(Calc!E29=1,$R$9*C31,C31))
... B54: 50 | C54: =IF(Calc!$F52=0,"",Calc!$F52) | D54: =IF(OR(C54="",Calc!E52=1),"",Calc!Q52) | E54: =IF(OR(C54="",Calc!E52=1),"",C54) | G54: =IF(C54="","",IF(Calc!E52=1,$Q$9*C54,C54)) | H54: =IF(C54="","",IF(Calc!E52=1,$Q$10*C54,C54)) | I54: =IF(C54="","",LN(H54)) | K54: =IF(C54="","",IF(Calc!E52=1,$R$9*C54,C54))

Sheet Calc
L1: Log-Normal | M1: Normal | N1: Log-normal | V1: Antall | W1: Målinger (n) | X1: =COUNTIF($C$3:$C$52,">"&0)+COUNTIF($C$3:$C$52,"?*") -> 8 | AA1: Distribution | AB1: {=IF(Information!$B$9=INDEX(Tekst!$B$1:$U$300,224,Tabeller!$C$28),INDEX(Tekst!$B$1:$U$300,201,Tabeller!$C$28),Survey!$U$4)} -> la YH-HJELP velge
C2: Level | D2: Volume | E2: Less than detection limit | F2: Calc | G2: Benyttede tall | H2: 0: Anbefalt (se Regler for håndtering av verdier under DG) | I2: 1:DG | J2: 2: DG/SQRT(2) | K2: 3: DG/2 | L2: x (mean) | M2: x (mean) | N2: x (gm) | O2: ln (x (gm)) | P2: LN (benyttede tall) | Q2: LN (Calc) | W2: Målinger under DG (m) | X2: =COUNTIF($C$3:$C$52,"?*") -> 0 | AA2: Method | AB2: {=IF(Information!$B$9=INDEX(Tekst!$B$1:$U$300,224,Tabeller!$C$28),INDEX(Tekst!$B$1:$U$300,194,Tabeller!$C$28),Survey!$B$16)} -> 0: Anbefalt (se Regler for håndtering av verdier under DG) | AC2: =VALUE(LEFT(AB2,1)) -> 0
B3: =Survey!L6 -> 1 | C3: =IF(Survey!M6="","",Survey!M6) -> 21 | D3: =Survey!N6 -> 0 | E3: =IF(LEFT(C3,1)="<",1,IF(ISNUMBER(LEFT(C3,1)+0),2,0)) -> 2 | F3: {=IF(Survey!$F$13=INDEX(Tekst!$B$1:$U$300,259,Tabeller!$C$28),IF(E3=1,(RIGHT(C3,LEN(C3)-1)+0)*Survey!$E$13,IF(E3=2,C3*Survey!$E$13,"")),IF(E3=1,((RIGHT(C3,LEN(C3)-1)+0)*Survey!$E$13)/(D3/1000),IF(E3=2,(C3*Survey!$E$13)/(D3/1000),"")))} -> 21 | G3: =IF(ISNUMBER($F3),INDEX($I$3:$N$52,$B3,'Tables (statistics)'!$H$149),"") -> 21 | I3: =IFERROR(F3,"") -> 21 | J3: =IF(AND(ISNUMBER($F3),$F3>0),IF($E3=1,$F3/SQRT(2),$F3),"") -> 21 | K3: =IF(AND(ISNUMBER($F3),$F3>0),IF($E3=1,$F3/2,$F3),"") -> 21 | L3: =Beta!G5 -> 21 | M3: =Beta!K5 -> 21 | N3: =Beta!H5 -> 21 | O3: =Beta!I5 -> 3.0445224 | P3: =IFERROR(LN(G3),"") -> 3.0445224 | Q3: =IFERROR(LN(F3),"") -> 3.0445224 | W3: Measurements above DL (k) | X3: =X1-X2 -> 8
B4: =Survey!L7 -> 2 | C4: =IF(Survey!M7="","",Survey!M7) -> 1.9 | D4: =Survey!N7 -> 0 | E4: =IF(LEFT(C4,1)="<",1,IF(ISNUMBER(LEFT(C4,1)+0),2,0)) -> 2 | F4: {=IF(Survey!$F$13=INDEX(Tekst!$B$1:$U$300,259,Tabeller!$C$28),IF(E4=1,(RIGHT(C4,LEN(C4)-1)+0)*Survey!$E$13,IF(E4=2,C4*Survey!$E$13,"")),IF(E4=1,((RIGHT(C4,LEN(C4)-1)+0)*Survey!$E$13)/(D4/1000),IF(E4=2,(C4*Survey!$E$13)/(D4/1000),"")))} -> 1.9 | G4: =IF(ISNUMBER($F4),INDEX($I$3:$N$52,$B4,'Tables (statistics)'!$H$149),"") -> 1.9 | I4: =IFERROR(F4,"") -> 1.9 | J4: =IF(AND(ISNUMBER($F4),$F4>0),IF($E4=1,$F4/SQRT(2),$F4),"") -> 1.9 | K4: =IF(AND(ISNUMBER($F4),$F4>0),IF($E4=1,$F4/2,$F4),"") -> 1.9 | L4: =Beta!G6 -> 1.9 | M4: =Beta!K6 -> 1.9 | N4: =Beta!H6 -> 1.9 | O4: =Beta!I6 -> 0.64185389 | P4: =IFERROR(LN(G4),"") -> 0.64185389 | Q4: =IFERROR(LN(F4),"") -> 0.64185389
B5: =Survey!L8 -> 3 | C5: =IF(Survey!M8="","",Survey!M8) -> 5.8 | D5: =Survey!N8 -> 0 | E5: =IF(LEFT(C5,1)="<",1,IF(ISNUMBER(LEFT(C5,1)+0),2,0)) -> 2 | F5: {=IF(Survey!$F$13=INDEX(Tekst!$B$1:$U$300,259,Tabeller!$C$28),IF(E5=1,(RIGHT(C5,LEN(C5)-1)+0)*Survey!$E$13,IF(E5=2,C5*Survey!$E$13,"")),IF(E5=1,((RIGHT(C5,LEN(C5)-1)+0)*Survey!$E$13)/(D5/1000),IF(E5=2,(C5*Survey!$E$13)/(D5/1000),"")))} -> 5.8 | G5: =IF(ISNUMBER($F5),INDEX($I$3:$N$52,$B5,'Tables (statistics)'!$H$149),"") -> 5.8 | I5: =IFERROR(F5,"") -> 5.8 | J5: =IF(AND(ISNUMBER($F5),$F5>0),IF($E5=1,$F5/SQRT(2),$F5),"") -> 5.8 | K5: =IF(AND(ISNUMBER($F5),$F5>0),IF($E5=1,$F5/2,$F5),"") -> 5.8 | L5: =Beta!G7 -> 5.8 | M5: =Beta!K7 -> 5.8 | N5: =Beta!H7 -> 5.8 | O5: =Beta!I7 -> 1.7578579 | P5: =IFERROR(LN(G5),"") -> 1.7578579 | Q5: =IFERROR(LN(F5),"") -> 1.7578579 | W5: Lowest measured value (min) | X5: =IF($X$1=0,"",IF($X$3=0,"N/A",ROUND(MIN($F$3:$F$52),3))) -> 1.7 | Y5: =IF($X$1<2,"",ROUND(MIN($G$3:$G$52),3)) -> 1.7
B6: =Survey!L9 -> 4 | C6: =IF(Survey!M9="","",Survey!M9) -> 17 | D6: =Survey!N9 -> 0 | E6: =IF(LEFT(C6,1)="<",1,IF(ISNUMBER(LEFT(C6,1)+0),2,0)) -> 2 | F6: {=IF(Survey!$F$13=INDEX(Tekst!$B$1:$U$300,259,Tabeller!$C$28),IF(E6=1,(RIGHT(C6,LEN(C6)-1)+0)*Survey!$E$13,IF(E6=2,C6*Survey!$E$13,"")),IF(E6=1,((RIGHT(C6,LEN(C6)-1)+0)*Survey!$E$13)/(D6/1000),IF(E6=2,(C6*Survey!$E$13)/(D6/1000),"")))} -> 17 | G6: =IF(ISNUMBER($F6),INDEX($I$3:$N$52,$B6,'Tables (statistics)'!$H$149),"") -> 17 | I6: =IFERROR(F6,"") -> 17 | J6: =IF(AND(ISNUMBER($F6),$F6>0),IF($E6=1,$F6/SQRT(2),$F6),"") -> 17 | K6: =IF(AND(ISNUMBER($F6),$F6>0),IF($E6=1,$F6/2,$F6),"") -> 17 | L6: =Beta!G8 -> 17 | M6: =Beta!K8 -> 17 | N6: =Beta!H8 -> 17 | O6: =Beta!I8 -> 2.8332133 | P6: =IFERROR(LN(G6),"") -> 2.8332133 | Q6: =IFERROR(LN(F6),"") -> 2.8332133 | W6: Median | X6: =IF($X$1=0,"",IF($X$3=0,"N/A",ROUND(MEDIAN($F$3:$F$52),3))) -> 6.05 | Y6: =IF($X$1<2,"",ROUND(MEDIAN($G$3:$G$52),3)) -> 6.05
B7: =Survey!L10 -> 5 | C7: =IF(Survey!M10="","",Survey!M10) -> 1.7 | D7: =Survey!N10 -> 0 | E7: =IF(LEFT(C7,1)="<",1,IF(ISNUMBER(LEFT(C7,1)+0),2,0)) -> 2 | F7: {=IF(Survey!$F$13=INDEX(Tekst!$B$1:$U$300,259,Tabeller!$C$28),IF(E7=1,(RIGHT(C7,LEN(C7)-1)+0)*Survey!$E$13,IF(E7=2,C7*Survey!$E$13,"")),IF(E7=1,((RIGHT(C7,LEN(C7)-1)+0)*Survey!$E$13)/(D7/1000),IF(E7=2,(C7*Survey!$E$13)/(D7/1000),"")))} -> 1.7 | G7: =IF(ISNUMBER($F7),INDEX($I$3:$N$52,$B7,'Tables (statistics)'!$H$149),"") -> 1.7 | I7: =IFERROR(F7,"") -> 1.7 | J7: =IF(AND(ISNUMBER($F7),$F7>0),IF($E7=1,$F7/SQRT(2),$F7),"") -> 1.7 | K7: =IF(AND(ISNUMBER($F7),$F7>0),IF($E7=1,$F7/2,$F7),"") -> 1.7 | L7: =Beta!G9 -> 1.7 | M7: =Beta!K9 -> 1.7 | N7: =Beta!H9 -> 1.7 | O7: =Beta!I9 -> 0.53062825 | P7: =IFERROR(LN(G7),"") -> 0.53062825 | Q7: =IFERROR(LN(F7),"") -> 0.53062825 | W7: Highest measured value (max) | X7: =IF($X$1=0,"",IF($X$3=0,"N/A",ROUND(MAX($F$3:$F$52),3))) -> 21 | Y7: =IF($X$1<2,"",ROUND(MAX($G$3:$G$52),3)) -> 21
B8: =Survey!L11 -> 6 | C8: =IF(Survey!M11="","",Survey!M11) -> 2.7 | D8: =Survey!N11 -> 0 | E8: =IF(LEFT(C8,1)="<",1,IF(ISNUMBER(LEFT(C8,1)+0),2,0)) -> 2 | F8: {=IF(Survey!$F$13=INDEX(Tekst!$B$1:$U$300,259,Tabeller!$C$28),IF(E8=1,(RIGHT(C8,LEN(C8)-1)+0)*Survey!$E$13,IF(E8=2,C8*Survey!$E$13,"")),IF(E8=1,((RIGHT(C8,LEN(C8)-1)+0)*Survey!$E$13)/(D8/1000),IF(E8=2,(C8*Survey!$E$13)/(D8/1000),"")))} -> 2.7 | G8: =IF(ISNUMBER($F8),INDEX($I$3:$N$52,$B8,'Tables (statistics)'!$H$149),"") -> 2.7 | I8: =IFERROR(F8,"") -> 2.7 | J8: =IF(AND(ISNUMBER($F8),$F8>0),IF($E8=1,$F8/SQRT(2),$F8),"") -> 2.7 | K8: =IF(AND(ISNUMBER($F8),$F8>0),IF($E8=1,$F8/2,$F8),"") -> 2.7 | L8: =Beta!G10 -> 2.7 | M8: =Beta!K10 -> 2.7 | N8: =Beta!H10 -> 2.7 | O8: =Beta!I10 -> 0.99325177 | P8: =IFERROR(LN(G8),"") -> 0.99325177 | Q8: =IFERROR(LN(F8),"") -> 0.99325177 | W8: Variation width (spread) | X8: =IFERROR(X7-X5,"") -> 19.3 | Y8: =IFERROR(Y7-Y5,"") -> 19.3
