Workbook
Name _GoBack: Tekst!$C$1
Name lAnswers: INDIRECT(_xlfn.CONCAT("Tekst!$",Tabeller!$D$28,"$258:$",Tabeller!$D$28,"$259"))
Name lDistribution: INDIRECT(_xlfn.CONCAT("Tekst!$",Tabeller!$D$28,"$201:$",Tabeller!$D$28,"$203"))
Name lStatistikkMetode: INDIRECT(_xlfn.CONCAT("Tekst!$",Tabeller!$D$28,"$194:$",Tabeller!$D$28,"$198"))
Name lVersion: INDIRECT(_xlfn.CONCAT("Tekst!$",Tabeller!$D$28,"$224:$",Tabeller!$D$28,"$225"))
Name Validation_CAS: OFFSET(Grenseverdier!$R$5,,,COUNTIF(Grenseverdier!$R$5:$R$625,"?*"))
Name Validation_name: OFFSET(Grenseverdier!$P$5,,,COUNTIF(Grenseverdier!$P$5:$P$625,"?*"))

Sheet Information
A1: {=UPPER(INDEX(Tekst!$B$1:$U$300,113,Tabeller!$C$28))} -> INFORMASJON OM YH-HJELP
H4: {=UPPER(INDEX(Tekst!$B$1:$U$300,130,Tabeller!$C$28))} -> FLYTSKJEMA | R4: {=INDEX(Tekst!$B$1:$U$300,215,Tabeller!$C$28)} -> Om YH-HJELP
B5: Språk / language / idioma | H5: {=INDEX(Tekst!$B$1:$U$300,131,Tabeller!$C$28)} -> Kartlegging og vurdering av eksponering
B6: Norsk | R6: {=INDEX(Tekst!$B$1:$U$300,217,Tabeller!$C$28)} -> Versjon | S6: 1.0.6c
I7: {=UPPER(INDEX(Tekst!$B$1:$U$300,262,Tabeller!$C$28))} -> START | R7: {=INDEX(Tekst!$B$1:$U$300,216,Tabeller!$C$28)} -> Dato | S7: 44547
B8: {=INDEX(Tekst!$B$1:$U$300,245,Tabeller!$C$28)} -> Modus
B9: Advanced | H9: {=INDEX(Tekst!$B$1:$U$300,117,Tabeller!$C$28)} -> 1. Innledende vurdering | R9: Standard
H10: {=INDEX(Tekst!$B$1:$U$300,125,Tabeller!$C$28)} -> Informasjonsinnhenting Estimering av eksponeringen | R10: {=INDEX(Tekst!$B$1:$U$300,227,Tabeller!$C$28)} -> Mulig å justere GV i henhold til offshore reduksjonsfaktor
R12: {=INDEX(Tekst!$B$1:$U$300,225,Tabeller!$C$28)} -> Avansert
B13: {=INDEX(Tekst!$B$1:$U$300,135,Tabeller!$C$28)} -> Fargekoder brukt i regnearkene | I13: {=INDEX(Tekst!$B$1:$U$300,122,Tabeller!$C$28)} -> Kan det være eksponering ? | N13: {=UPPER(INDEX(Tekst!$B$1:$U$300,259,Tabeller!$C$28))} -> NEI | P13: {=INDEX(Tekst!$B$1:$U$300,128,Tabeller!$C$28)} -> Avslutt med rapport | R13: {=INDEX(Tekst!$B$1:$U$300,228,Tabeller!$C$28)} -> Alle funksjoner tilgjengelig
C14: {=INDEX(Tekst!$B$1:$U$300,134,Tabeller!$C$28)} -> Input (område) | P14: {=INDEX(Tekst!$B$1:$U$300,129,Tabeller!$C$28)} -> Ny vurdering etter 1 år eller endringer som kan påvirke eksponeringen
C15: {=INDEX(Tekst!$B$1:$U$300,133,Tabeller!$C$28)} -> Resultat (område) | J15: {=UPPER(INDEX(Tekst!$B$1:$U$300,258,Tabeller!$C$28))} -> JA
C16: {=INDEX(Tekst!$B$1:$U$300,113,Tabeller!$C$28)} -> Informasjon om YH-HJELP | R16: {=INDEX(Tekst!$B$1:$U$300,246,Tabeller!$C$28)} -> Ansvarsfraskrivelse
C17: {=INDEX(Tekst!$B$1:$U$300,132,Tabeller!$C$28)} -> Påkrevd input (celle) | I17: {=INDEX(Tekst!$B$1:$U$300,124,Tabeller!$C$28)} -> Sett i gang tiltak eller gå til 1, 2 eller 3 | R17: {=INDEX(Tekst!$B$1:$U$300,221,Tabeller!$C$28)} -> Regnearket er utarbeidet av frivillige i NYF. NYF eller andre som har bidratt til utvikling av regnearket kan ikke gjøres ansvarlig for eventuelle feil i regnearket eller feil vurderinger som følge av bruk av dette regnearket. For dokumentasjon og spørsmål angående regnearket se kontaktinformasjon nedenfor.
C18: {=INDEX(Tekst!$B$1:$U$300,208,Tabeller!$C$28)} -> Valgfri input (celle)
C19: {=INDEX(Tekst!$B$1:$U$300,209,Tabeller!$C$28)} -> Utfylt input (celle)
C20: {=INDEX(Tekst!$B$1:$U$300,265,Tabeller!$C$28)} -> Må endres (celle)
J21: {=UPPER(INDEX(Tekst!$B$1:$U$300,258,Tabeller!$C$28))} -> JA
B22: {=INDEX(Tekst!$B$1:$U$300,115,Tabeller!$C$28)} -> Type vurdering / undersøkelse | D22: =IF(Information!$B$6=Tekst!$B$1,Tekst!$B$114,IF(Information!$B$6=Tekst!$C$1,Tekst!$C$114,"")) -> Bruk fane
B23: {=INDEX(Tekst!$B$1:$U$300,117,Tabeller!$C$28)} -> 1. Innledende vurdering | D23: {=INDEX(Tekst!$B$1:$U$300,240,Tabeller!$C$28)} -> Se Arbeidstilsynets veiledning | H23: {=INDEX(Tekst!$B$1:$U$300,118,Tabeller!$C$28)} -> 2. Forenklet undersøkelse
B24: {=INDEX(Tekst!$B$1:$U$300,118,Tabeller!$C$28)} -> 2. Forenklet undersøkelse | D24: {=INDEX(Tekst!$B$1:$U$300,241,Tabeller!$C$28)} -> Survey | H24: {=INDEX(Tekst!$B$1:$U$300,126,Tabeller!$C$28)} -> 3-5 målinger Vurdering baseres på maksimumsverdien
B25: {=INDEX(Tekst!$B$1:$U$300,119,Tabeller!$C$28)} -> 3. Detaljert undersøkelse | D25: {=INDEX(Tekst!$B$1:$U$300,242,Tabeller!$C$28)} -> Survey + Analysis
B27: {=INDEX(Tekst!$B$1:$U$300,89,Tabeller!$C$28)} -> Flere eksponeringer | D27: {=INDEX(Tekst!$B$1:$U$300,243,Tabeller!$C$28)} -> Benytt E_index | I27: {=INDEX(Tekst!$B$1:$U$300,123,Tabeller!$C$28)} -> Er eksponeringen uakseptabel? | N27: {=UPPER(INDEX(Tekst!$B$1:$U$300,259,Tabeller!$C$28))} -> NEI | P27: {=INDEX(Tekst!$B$1:$U$300,128,Tabeller!$C$28)} -> Avslutt med rapport
P28: {=INDEX(Tekst!$B$1:$U$300,129,Tabeller!$C$28)} -> Ny vurdering etter 1 år eller endringer som kan påvirke eksponeringen
B29: {=INDEX(Tekst!$B$1:$U$300,116,Tabeller!$C$28)} -> Kilder | J29: {=UPPER(INDEX(Tekst!$B$1:$U$300,258,Tabeller!$C$28))} -> JA
B30: {=INDEX(Tekst!$B$1:$U$300,120,Tabeller!$C$28)} -> Arbeidstilsynets temasider om kjemikalier
B31: https://arbeidstilsynet.no/tema/kjemikalier/ | I31: {=INDEX(Tekst!$B$1:$U$300,124,Tabeller!$C$28)} -> Sett i gang tiltak eller gå til 1, 2 eller 3
B33: {=INDEX(Tekst!$B$1:$U$300,121,Tabeller!$C$28)} -> Sammenstilling av internasjonale grenseverdier
B34: https://limitvalue.ifa.dguv.de/
H35: =IF(Information!$B$6=Tekst!$B$1,Tekst!$B$119,IF(Information!$B$6=Tekst!$C$1,Tekst!$C$119,"")) -> 3. Detaljert undersøkelse | R35: {=INDEX(Tekst!$B$1:$U$300,218,Tabeller!$C$28)} -> Kontaktdetaljer
B36: {=INDEX(Tekst!$B$1:$U$300,137,Tabeller!$C$28)} -> Korttidsmålinger (referansetid 15 minutter) | H36: {=INDEX(Tekst!$B$1:$U$300,127,Tabeller!$C$28)} -> Minst 6 målinger Estimert øvre konsentrasjon (EØK) beregnes statistisk | R36: {=INDEX(Tekst!$B$1:$U$300,219,Tabeller!$C$28)} -> Navn | S36: post@yrkeshygiene.no
B37: {=INDEX(Tekst!$B$1:$U$300,136,Tabeller!$C$28)} -> Korttidsmålinger som vurderes opp mot korttidsverdi (referansetid 15 minutter) bør kun vurderes som indikative målinger når n ≤ 5 og som bakgrunnsinformasjon til "Innledende vurdering". For n ≥ 6 bør "Detaljert undersøkelse" benyttes.
R38: {=INDEX(Tekst!$B$1:$U$300,220,Tabeller!$C$28)} -> URL | S38: https://yrkeshygiene.no/kb/yh-hjelp/
I39: {=INDEX(Tekst!$B$1:$U$300,123,Tabeller!$C$28)} -> Er eksponeringen uakseptabel? | N39: {=UPPER(INDEX(Tekst!$B$1:$U$300,259,Tabeller!$C$28))} -> NEI | P39: {=INDEX(Tekst!$B$1:$U$300,128,Tabeller!$C$28)} -> Avslutt med rapport
P40: {=INDEX(Tekst!$B$1:$U$300,129,Tabeller!$C$28)} -> Ny vurdering etter 1 år eller endringer som kan påvirke eksponeringen
J41: {=UPPER(INDEX(Tekst!$B$1:$U$300,258,Tabeller!$C$28))} -> JA
B43: {=INDEX(Tekst!$B$1:$U$300,139,Tabeller!$C$28)} -> Takverdi | I43: {=INDEX(Tekst!$B$1:$U$300,124,Tabeller!$C$28)} -> Sett i gang tiltak eller gå til 1, 2 eller 3
B44: {=INDEX(Tekst!$B$1:$U$300,138,Tabeller!$C$28)} -> "2. Forenklet undersøkelse" og "3. Detaljert undersøkelse" kan ikke benyttes ved vurdering av eksponering opp mot takverdi, ettersom påkrevd måleperiode er lavere enn 15 minutter.

Sheet 1. Estimate exposure
A1: =IF(Information!$B$6=Tekst!$B$1,UPPER(Tekst!$B$108),IF(Information!$B$6=Tekst!$C$1,UPPER(Tekst!$C$108),"")) -> ESTIMER EKSPONERING
B5: =IF(Information!$B$6=Tekst!$B$1,Tekst!$B$91,IF(Information!$B$6=Tekst!$C$1,Tekst!$C$91,"")) -> Stoffets damptrykk | H5: =IF(Information!$B$6=Tekst!$B$1,Tekst!$B$102,IF(Information!$B$6=Tekst!$C$1,Tekst!$C$102,"")) -> MK = Metningskonsentrasjon | EE = Estimert eksponering
B6: =IF(Information!$B$6=Tekst!$B$1,Tekst!$B$92,IF(Information!$B$6=Tekst!$C$1,Tekst!$C$92,"")) -> Atmosfæretrykk | H6: =IF(Information!$B$6=Tekst!$B$1,Tekst!$B$103,IF(Information!$B$6=Tekst!$C$1,Tekst!$C$103,"")) -> MK (ppm)= (stoffetsdamptrykk /atmosfæretrykk) * 1000000
B7: =IF(Information!$B$6=Tekst!$B$1,Tekst!$B$93,IF(Information!$B$6=Tekst!$C$1,Tekst!$C$93,"")) -> Metningskonsentrasjon | C7: =IFERROR((($C$5*INDEX(Tabeller!$I$14:$J$18,MATCH($D$5,Tabeller!$I$14:$I$18,0),2))/($C$6*INDEX(Tabeller!$I$14:$J$18,MATCH($D$6,Tabeller!$I$14:$I$18,0),2)))*1000000,"") | D7: =IF($C$7<>"","ppm","") | H7: =IF(Information!$B$6=Tekst!$B$1,Tekst!$B$105,IF(Information!$B$6=Tekst!$C$1,Tekst!$C$105,"")) -> EE (ppm) = MK * forventet fortynning
B9: =IF(Information!$B$6=Tekst!$B$1,Tekst!$B$94,IF(Information!$B$6=Tekst!$C$1,Tekst!$C$94,"")) -> Forventet fortynning | H9: =IF(Information!$B$6=Tekst!$B$1,Tekst!$B$104,IF(Information!$B$6=Tekst!$C$1,Tekst!$C$104,"")) -> Damptrykk er å finner her - https://chem.nlm.nih.gov/chemidplus/
B11: =IF(Information!$B$6=Tekst!$B$1,Tekst!$B$95,IF(Information!$B$6=Tekst!$C$1,Tekst!$C$95,"")) -> Estimert eksponering | C11: =IFERROR(ROUND($C$7*INDEX($H$14:$I$18,MATCH($C$8,$H$14:$H$18,0),2),0),"") | D11: =IF($C$11<>"","ppm","") | H11: =IF(Information!$B$6=Tekst!$B$1,Tekst!$B$90,IF(Information!$B$6=Tekst!$C$1,Tekst!$C$90,"")) -> 10-er regelen
H12: =IF(Information!$B$6=Tekst!$B$1,Tekst!$B$106,IF(Information!$B$6=Tekst!$C$1,Tekst!$C$106,"")) -> Ventilasjon | I12: =IF(Information!$B$6=Tekst!$B$1,Tekst!$B$107,IF(Information!$B$6=Tekst!$C$1,Tekst!$C$107,"")) -> Forventet fortynning av metningskonsentrasjon
A14: =IF(Information!$B$6=Tekst!$B$1,Tekst!$B$144,IF(Information!$B$6=Tekst!$C$1,Tekst!$C$144,"")) -> !!! Viktig !!! | H14: =IF(Information!$B$6=Tekst!$B$1,Tekst!$B$97,IF(Information!$B$6=Tekst!$C$1,Tekst!$C$97,"")) -> Tank / trangt rom uten ventilasjon | I14: 0.1
A15: =IF(Information!$B$6=Tekst!$B$1,Tekst!$B$96,IF(Information!$B$6=Tekst!$C$1,Tekst!$C$96,"")) -> Kun ment som et estimat på eksponering og bør ikke betraktes som absolutt eksponeringsnivå | H15: =IF(Information!$B$6=Tekst!$B$1,Tekst!$B$98,IF(Information!$B$6=Tekst!$C$1,Tekst!$C$98,"")) -> Dårlig ventilasjon | I15: 0.01
H16: =IF(Information!$B$6=Tekst!$B$1,Tekst!$B$99,IF(Information!$B$6=Tekst!$C$1,Tekst!$C$99,"")) -> God allmennventilasjon (> 6 luftutskiftinger per time) | I16: 0.001
H17: =IF(Information!$B$6=Tekst!$B$1,Tekst!$B$100,IF(Information!$B$6=Tekst!$C$1,Tekst!$C$100,"")) -> Punktavsug | I17: 0.0001
H18: =IF(Information!$B$6=Tekst!$B$1,Tekst!$B$101,IF(Information!$B$6=Tekst!$C$1,Tekst!$C$101,"")) -> Lukket prosessanlegg | I18: 1e-05
B21: =IF(Information!$B$6=Tekst!$B$1,"Nyttige eksponeringsmodeller",IF(Information!$B$6=Tekst!$C$1,"Useful exposure models","")) -> Nyttige eksponeringsmodeller | C21: IHMOD | D21: https://www.aiha.org/public-resources/consumer-resources/topics-of-interest/ih-apps-tools
C22: IHSKIN

Sheet Survey
A1: {=UPPER(INDEX(Tekst!$B$1:$U$300,88,Tabeller!$C$28))} -> SETT INN MÅLEVERDIER
A4: 1. | B4: {=INDEX(Tekst!$B$1:$U$300,31,Tabeller!$C$28)} -> Angi eller velg grenseverdi (GV) | K4: =IF(ISNUMBER(MATCH(Information!$B$9,Tekst!$B$224:$U$224,0)),"3.","6.") -> 6. | L4: {=IFERROR(INDEX(Tekst!$B$1:$U$300,10,Tabeller!$C$28),"")} -> Målinger | R4: 7. | T4: {=IFERROR(INDEX(Tekst!$B$1:$U$300,248,Tabeller!$C$28),"")} -> Velg fordeling: | U4: la YH-HJELP velge
C5: {=INDEX(Tekst!$B$1:$U$300,4,Tabeller!$C$28)} -> Fyll inn aktuell grenseverdi (8 timer) | L5: # | M5: {=_xlfn.CONCAT(IFERROR(INDEX(Tekst!$B$1:$U$300,27,Tabeller!$C$28),"")," (",G12,")")} -> Verdier (ppm) | N5: {=IF($F$13=INDEX(Tekst!$B$1:$U$300,258,Tabeller!$C$28),IF(Information!B6=INDEX(Tekst!$B$1:$U$300,1,Tabeller!$C$28),INDEX(Tekst!$B$1:$U$300,30,Tabeller!$C$28),""),"")} | O5: {=_xlfn.CONCAT(IFERROR(INDEX(Tekst!$B$1:$U$300,210,Tabeller!$C$28),"")," (",$H$11,")")} -> Brukte verdier (ppm)
B6: {=INDEX(Tekst!$B$1:$U$300,72,Tabeller!$C$28)} -> Angi, eller: | L6: 1 | M6: 21 | O6: =Calc!G3 -> 21 | R6: =IF(ISNUMBER(MATCH(Information!$B$9,Tekst!$B$224:$U$224,0)),"4.","8.") -> 8. | S6: {=IF(Analysis!D5>5,IFERROR(INDEX(Tekst!$B$1:$U$300,12,Tabeller!$C$28),""),IF(Analysis!D5>2,IFERROR(INDEX(Tekst!$B$1:$U$300,11,Tabeller!$C$28),""),""))} -> 6 eller flere målinger
B7: {=INDEX(Tekst!$B$1:$U$300,141,Tabeller!$C$28)} -> Velg CAS-nr., eller: | L7: 2 | M7: 1.9 | O7: =Calc!G4 -> 1.9 | S7: {=IF(AND($U$9<6,OR($D$31=Tabeller!$K$3,$D$31=Tabeller!$L$3),$H$31=""),IFERROR(INDEX(Tekst!$B$1:$U$300,136,Tabeller!$C$28),""),IF($U$9<3,IF(COUNTIF($M$6:$M$55,">"&0)<3,IFERROR(INDEX(Tekst!$B$1:$U$300,142,Tabeller!$C$28),""),IFERROR(INDEX(Tekst!$B$1:$U$300,143,Tabeller!$C$28),"")),""))}
B8: {=INDEX(Tekst!$B$1:$U$300,77,Tabeller!$C$28)} -> Velg navn: | C8: styren | L8: 3 | M8: 5.8 | O8: =Calc!G5 -> 5.8
C9: {=INDEX(Tekst!$B$1:$U$300,3,Tabeller!$C$28)} -> Grenseverdi | D9: {=IF(AND(OR($D$31=Tabeller!$K$3,$D$31=Tabeller!$L$3),$H$31<>""),$B$31,IF(AND(OR($H$25<>1,$H$26<>1),$E$12<>""),IFERROR(INDEX(Tekst!$B$1:$U$300,28,Tabeller!$C$28),""),""))} | H9: {=INDEX(Tekst!$B$1:$U$300,29,Tabeller!$C$28)} -> Velg enhet | L9: 4 | M9: 17 | O9: =Calc!G6 -> 17 | S9: {=IFERROR(INDEX(Tekst!$B$1:$U$300,20,Tabeller!$C$28),"")} -> Antall | T9: {=IFERROR(INDEX(Tekst!$B$1:$U$300,15,Tabeller!$C$28),"")} -> Målinger (n) | U9: =Analysis!$D$5 -> 8 | W9: {=IF($W$10="","",IFERROR(INDEX(Tekst!$B$1:$U$300,14,Tabeller!$C$28),""))} -> Vurderingskriterie
L10: 5 | M10: 1.7 | O10: =Calc!G7 -> 1.7 | T10: {=IFERROR(INDEX(Tekst!$B$1:$U$300,16,Tabeller!$C$28),"")} -> Målinger under DG (m) | U10: =Analysis!$D$6 -> 0 | W10: {=IF(AND(Analysis!$D$5<6,Analysis!$D$5>2),CONCATENATE(INDEX('Tables (statistics)'!$B$157:$D$159,MATCH(Analysis!$D$5,'Tables (statistics)'!$B$157:$B$159,0),3),IFERROR(INDEX(Tekst!$B$1:$U$300,13,Tabeller!$C$28),"")),IF(AND(Analysis!$D$5<6,Analysis!$D$5>2),IFERROR(INDEX(Tekst!$B$1:$U$300,42,Tabeller!$C$28),""),IF(Analysis!$D$5>5,IFERROR(INDEX(Tekst!$B$1:$U$300,43,Tabeller!$C$28),""),"")))} -> Øvre 70% konfidensgrense til 95%-il skal være under GV
C11: =IFERROR(IF(AND($H$11<>"",$C$6="",$H$11<>Tabeller!$H$4,$H$11<>Tabeller!$H$6),IF($H$11=Tabeller!$H$3,$E$12*1000,IF($H$11=Tabeller!$H$5,$E$12*1000,"")),$E$12),"") -> 25 | D11: =IF($D$9<>"",$E$11,"") | E11: =IF(AND(OR($D$31=Tabeller!$K$3,$D$31=Tabeller!$L$3),$H$31<>""),$H$31,IF($H$25<>1,$H$25*$E$12,IF($H$26<>1,$H$26*$E$12,IF(ISNUMBER($E$12),$E$12,"")))) -> 25 | H11: ppm | L11: 6 | M11: 2.7 | O11: =Calc!G8 -> 2.7 | U11: =IF(Calc!X3<>0,"",IF(Information!B6=Tekst!$B$1,Tekst!B250,IF(Information!B6=Tekst!C1,Tekst!C250,"")))
E12: =IF(C6<>"",C6,IF(C7<>"",IFERROR(INDEX(Grenseverdier!$B$5:$K$626,MATCH($C$7,Grenseverdier!$B$5:$B$626,0),IF(OR($H$11=Tabeller!$H$3,$H$11=Tabeller!$H$4),3,IF(OR($H$11=Tabeller!$H$5,$H$11=Tabeller!$H$6),4,""))),""),IFERROR(INDEX(Grenseverdier!$B$5:$K$626,MATCH($C$8,Grenseverdier!$C$5:$C$626,0),IF(OR($H$11=Tabeller!$H$4,$H$11=Tabeller!$H$3),3,IF($H$11<>"",4,""))),""))) -> 25 | G12: {=IF(Information!$B$9=INDEX(Tekst!$B$1:$U$300,224,Tabeller!$C$28),$H$11,$H$13)} -> ppm | L12: 7 | M12: 6.3 | O12: =Calc!G9 -> 6.3 | T12: {=IF($U$9<3,"",IFERROR(INDEX(Tekst!$B$1:$U$300,18,Tabeller!$C$28),""))} -> Minste verdi (minimum) | U12: =IF($G$12="","",IF(Calc!X3=0,"N/A",IFERROR(MIN(Calc!$X$5:$Y$5),"N/A"))) -> 1.7
B13: {=INDEX(Tekst!$B$1:$U$300,10,Tabeller!$C$28)} -> Målinger | C13: =IF(Information!$B$6=Tekst!$B$1,Tekst!$B$10,IF(Information!$B$6=Tekst!$C$1,Tekst!$C$10,"")) -> Målinger | D13: {=IFERROR(IF(OR($G$13=0,ABS($G$13)=1),"",IF(AND(ISNUMBER($E$13),ISNUMBER($H$21)),"",CONCATENATE(IFERROR(INDEX(Tekst!$B$1:$U$300,68,Tabeller!$C$28),"")," H21"))),"")} | E13: =IFERROR(IF($G$13=0,1,IF(ABS($G$13)=1,IF($G$13=1,1000,0.001),IF(IF(ABS(INDEX(Tabeller!$G$3:$H$8,MATCH($G$12,Tabeller!$H$3:$H$8,0),1)-INDEX(Tabeller!$G$3:$H$8,MATCH($H$11,Tabeller!$H$3:$H$8,0),1))>1,"JA","NEI")="JA",IF(G13=4,($E$20/$H$21)*1000,IF(G13=-4,($H$21/$E$20)/1000,IF(G13=3,$E$20/$H$21,IF(G13=-3,$H$21/$E$20,IF(G13=2,($E$20/$H$21)/1000,IF(G13=-2,($H$21/$E$20)*1000,"")))))),""))),"") -> 1 | F13: {=IF(OR($G$12=Tabeller!$H$8,$G$12=Tabeller!$H$7),INDEX(Tekst!$B$1:$U$300,258,Tabeller!$C$28),INDEX(Tekst!$B$1:$U$300,259,Tabeller!$C$28))} -> Nei | G13: =IFERROR(IF(INDEX(Tabeller!$G$3:$H$8,MATCH($G$12,Tabeller!$H$3:$H$8,0),1)>6,(INDEX(Tabeller!$G$3:$H$8,MATCH($G$12,Tabeller!$H$3:$H$8,0),1)-3)-INDEX(Tabeller!$G$3:$H$8,MATCH($H$11,Tabeller!$H$3:$H$8,0),1),INDEX(Tabeller!$G$3:$H$8,MATCH($G$12,Tabeller!$H$3:$H$8,0),1)-INDEX(Tabeller!$G$3:$H$8,MATCH($H$11,Tabeller!$H$3:$H$8,0),1)),"") -> 0 | H13: ppm | L13: 8 | M13: 18.9 | O13: =Calc!G10 -> 18.9 | T13: {=IF($U$9<3,"",IFERROR(INDEX(Tekst!$B$1:$U$300,19,Tabeller!$C$28),""))} -> Median | U13: =IF(Calc!X3<2,"N/A",Analysis!$D$11) -> 6.05 | W13: {=IFERROR(IF(AND($U$9>5,Information!$B$9="Standard"),Analysis!$I$21,IF(U4<>INDEX(Tekst!$B$1:$U$300,201,Tabeller!$C$28),"",IF(AND(Analysis!$I$22<>"",Analysis!$I$22<>Tekst!$B$174,Analysis!$I$22<>Tekst!$C$174),Analysis!$I$21,""))),"")} -> Antatt fordeling
L14: 9 | O14: =Calc!G11 | T14: {=IF($U$9<3,"",IFERROR(INDEX(Tekst!$B$1:$U$300,17,Tabeller!$C$28),""))} -> Høyeste verdi (maksimum) | U14: =IFERROR(IF(Calc!X3=0,"N/A",IFERROR(_xlfn.CONCAT(MAX(Calc!$X$7:$Y$7)," (",ROUND((MAX(Calc!$X$7:$Y$7)/$E$11)*100,0)," ",Tabeller!$B$54,")"),"N/A")),"") -> 21 (84 % av GV) | W14: {=IFERROR(IF(AND($U$9>5,Information!$B$9=INDEX(Tekst!$B$1:$U$300,224,Tabeller!$C$28)),Analysis!$M$6,IF(U4<>INDEX(Tekst!$B$1:$U$300,201,Tabeller!$C$28),"",IF(AND(Analysis!$I$22<>"",Analysis!$I$22<>Tekst!$B$174,Analysis!$I$22<>Tekst!$C$174),IF(Analysis!$M$6<>"",Analysis!$M$6,IF(Analysis!$I$22<>"",Analysis!$I$22,"N/A")),""))),"")} -> Hvis n ≤ 10 antas log-normalfordeling
A15: 2. | B15: {=IFERROR(INDEX(Tekst!$B$1:$U$300,193,Tabeller!$C$28),"")} -> Håndtering av verdier under deteksjonsgrensen (DG) | L15: 10 | O15: =Calc!G12
B16: 0: Anbefalt (se Regler for håndtering av verdier under DG) | L16: 11 | O16: =Calc!G13
L17: 12 | O17: =Calc!G14 | S17: {=IF($U$9<6,"",IFERROR(INDEX(Tekst!$B$1:$U$300,23,Tabeller!$C$28),""))} -> Estimert | T17: {=IF($U$9<6,"",IFERROR(INDEX(Tekst!$B$1:$U$300,25,Tabeller!$C$28),""))} -> Estimert Øvre Konsentrasjon (EØK) - U_T(95%, 70%) | U17: =IFERROR(IF($U$9<6,"",IF($W$14='Stats - distribution'!$C$3,CONCATENATE(ROUND(Analysis!$K$17,2)," (",ROUND(Analysis!$K$17/$E$11*100,0)," ",Tabeller!$B$54,")"),IF($W$14='Stats - distribution'!$G$3,CONCATENATE(ROUND(Analysis!$J$17,2)," (",ROUND(Analysis!$J$17/$E$11*100,0)," ",Tabeller!$B$54,")"),IF(AND($U$9<11,$U$9>5),CONCATENATE(ROUND(IF(Analysis!$I$22="Log-normal",Analysis!$K$17,IF(Analysis!$I$22="Normal",Analysis!$J$17,0)),2)," (",ROUND(IF(Analysis!$I$22="Log-normal",Analysis!$K$17,IF(Analysis!$I$22="Normal",Analysis!$J$17,0))/$E$11*100,0)," ",Tabeller!$B$54,")"),IF(Information!$B$6=Tekst!$B$1,Tekst!$B$190,IF(Information!$B$6=Tekst!C1,Tekst!$C$190,"")))))),"") -> 52,97 (212 % av GV)
A18: 3. | B18: {=IFERROR(INDEX(Tekst!$B$1:$U$300,145,Tabeller!$C$28),"")} -> Konverter konsentrasjon (volum-volum <--> masse-volum) | L18: 13 | O18: =Calc!G15
D19: 25°C, 1atm | L19: 14 | O19: =Calc!G16 | T19: {=IFERROR(INDEX(Tekst!$B$1:$U$300,21,Tabeller!$C$28),"")} -> Veiledende konklusjon | V19: {=IFERROR(INDEX(Tekst!$B$1:$U$300,22,Tabeller!$C$28),"")} -> Forslag - periodiske målinger
B20: {=IFERROR(INDEX(Tekst!$B$1:$U$300,146,Tabeller!$C$28),"")} -> Molekylært volum (L) | D20: 24.45 | E20: =IF(ISNUMBER($H$20),$H$20,$D$20) -> 24.45 | H20: {=IFERROR(IF(AND($G$13<>0,ABS($G$13)<>1),IFERROR(INDEX(Tekst!$B$1:$U$300,69,Tabeller!$C$28),""),""),"")} | L20: 15 | O20: =Calc!G17 | T20: {=IFERROR(IF(Calc!$X$1=0,"",IF(Calc!$X$1>5,IF(OR(Calc!$X$8=0,Calc!$X$3<2),INDEX(Tekst!$B$1:$U$300,MATCH('Calc (W-test)'!$U$4,Tekst!$A$1:$A$300,0),Tabeller!$C$28),INDEX(Tekst!$B$1:$U$300,MATCH('Calc (W-test)'!$U$4,Tekst!$A$1:$A$300,0),Tabeller!$C$28)),IF(Calc!$X$3<2,IFERROR(INDEX(Tekst!$B$1:$U$300,190,Tabeller!$C$28),""),INDEX(Tekst!$B$1:$U$300,MATCH('Calc (W-test)'!$U$3,Tekst!$A$1:$A$300,0),Tabeller!$C$28)))),"")} -> Overeksponering kan ikke utelukkes. Tiltak nødvendig. | V20: {=IFERROR(IF(Calc!$X$1=0,"",IF(OR(Calc!$X$8=0,Calc!$X$3<3),IFERROR(INDEX(Tekst!$B$1:$U$300,50,Tabeller!$C$28),""),IF(AND('Calc (W-test)'!$T$4 ="Nei",'Calc (W-test)'!$T$5="Nei"),IFERROR(INDEX(Tekst!$B$1:$U$300,49,Tabeller!$C$28),""),IF(OR($U$9<3,'Stats - distribution'!$L$4="A2",'Stats - distribution'!$L$4="K1"),IFERROR(INDEX(Tekst!$B$1:$U$300,190,Tabeller!$C$28),""),IF(Analysis!$S$8<Tabeller!$B$63,Tabeller!$C$63,IF(Analysis!$S$8<Tabeller!$B$64,Tabeller!$C$64,IF(Analysis!$S$8<Tabeller!$B$65,Tabeller!$C$65,IF(Analysis!$S$8<Tabeller!$B$66,Tabeller!$C$66,Tabeller!$C$67)))))))),"")} -> etter implementring av risikoreduserende tiltak
B21: {=IFERROR(INDEX(Tekst!$B$1:$U$300,147,Tabeller!$C$28),"")} -> Molekylær masse (g/mol) | L21: 16 | O21: =Calc!G18
L22: 17 | O22: =Calc!G19
A23: =IF(ISNUMBER(MATCH(Information!$B$9,Tekst!$B$224:$U$224,0)),"2.","4.") -> 4. | B23: {=IFERROR(INDEX(Tekst!$B$1:$U$300,5,Tabeller!$C$28),"")} -> Reduksjonsfaktor | L23: 18 | O23: =Calc!G20
B24: {=IFERROR(INDEX(Tekst!$B$1:$U$300,6,Tabeller!$C$28),"")} -> Arbeidstid | H24: {=IFERROR(INDEX(Tekst!$B$1:$U$300,9,Tabeller!$C$28),"")} -> Faktor | L24: 19 | O24: =Calc!G21
B25: {=IFERROR(INDEX(Tekst!$B$1:$U$300,7,Tabeller!$C$28),"")} -> Daglig | C25: 8 | D25: {=IFERROR(INDEX(Tekst!$B$1:$U$300,26,Tabeller!$C$28),"")} -> timer | H25: =IFERROR(IF(OR($D$27=Tabeller!$K$3,$D$27=Tabeller!$L$3),0.6,IF(C25<7,"",8/$C$25*(24-$C$25)/16)),"") -> 1 | L25: 20 | O25: =Calc!G22
B26: {=IFERROR(INDEX(Tekst!$B$1:$U$300,8,Tabeller!$C$28),"")} -> Ukentlig | C26: 40 | D26: {=IFERROR(INDEX(Tekst!$B$1:$U$300,26,Tabeller!$C$28),"")} -> timer | H26: =IFERROR(IF(OR($D$27=Tabeller!$K$3,$D$27=Tabeller!$L$3),0.6,IF(C26<40,"",40/$C$26*(168-$C$26)/128)),"") -> 1 | L26: 21 | O26: =Calc!G23 | R26: =IF(ISNUMBER(MATCH(Information!$B$9,Tekst!$B$224:$U$224,0)),"5.","9.") -> 9. | S26: {=IFERROR(INDEX(Tekst!$B$1:$U$300,74,Tabeller!$C$28),"")} -> Samlet vurdering
B27: {=INDEX(Tekst!$B$1:$U$300,263,Tabeller!$C$28)} -> Offshore | D27: Nei | L27: 22 | O27: =Calc!G24
L28: 23 | O28: =Calc!G25
A29: 5. | B29: {=IFERROR(INDEX(Tekst!$B$1:$U$300,70,Tabeller!$C$28),"")} -> Korttidseksponering | L29: 24 | O29: =Calc!G26
H30: {=IF($H$31<>"",IFERROR(INDEX(Tekst!$B$1:$U$300,28,Tabeller!$C$28),""),"")} | L30: 25 | O30: =Calc!G27
B31: {=IFERROR(INDEX(Tekst!$B$1:$U$300,71,Tabeller!$C$28),"")} -> Korttid (15 min) | G31: {=IF(AND($D$31=INDEX(Tekst!$B$1:$U$300,258,Tabeller!$C$28),$D$32=INDEX(Tekst!$B$1:$U$300,258,Tabeller!$C$28)),IF($E$12<=Tabeller!$E$18,Tabeller!$C$18,IF($E$12<=Tabeller!$E$19,Tabeller!$C$19,IF($E$12<=Tabeller!$E$20,Tabeller!$C$20,IF($E$12<Tabeller!$E$21,Tabeller!$C$21,0)))),"")} | H31: {=IFERROR(IF($D$31=INDEX(Tekst!$B$1:$U$300,258,Tabeller!$C$28),IF(AND($D$33<>"",$D$32=INDEX(Tekst!$B$1:$U$300,259,Tabeller!$C$28)),$D$33,$E$12+($E$12*$G$31)),""),"")} | L31: 26 | O31: =Calc!G28
B32: {=IF(OR($D$31<>INDEX(Tekst!$B$1:$U$300,258,Tabeller!$C$28),$D$31<>INDEX(Tekst!$B$1:$U$300,259,Tabeller!$C$28)),IFERROR(INDEX(Tekst!$B$1:$U$300,73,Tabeller!$C$28),""),"")} -> Tommelfingerregel | L32: 27 | O32: =Calc!G29
B33: {=IF(OR($D$32<>INDEX(Tekst!$B$1:$U$300,258,Tabeller!$C$28),$D$32<>INDEX(Tekst!$B$1:$U$300,259,Tabeller!$C$28)),IFERROR(INDEX(Tekst!$B$1:$U$300,72,Tabeller!$C$28),""),"")} -> Angi, eller: | L33: 28 | O33: =Calc!G30
L34: 29 | O34: =Calc!G31
L35: 30 | O35: =Calc!G32
L36: 31 | O36: =Calc!G33
B37: {=IFERROR(INDEX(Tekst!$B$1:$U$300,247,Tabeller!$C$28),"")} -> !!! VIKTIG !!! | L37: 32 | O37: =Calc!G34
B38: {=IFERROR(INDEX(Tekst!$B$1:$U$300,136,Tabeller!$C$28),"")} -> Korttidsmålinger som vurderes opp mot korttidsverdi (referansetid 15 minutter) bør kun vurderes som indikative målinger når n ≤ 5 og som bakgrunnsinformasjon til "Innledende vurdering". For n ≥ 6 bør "Detaljert undersøkelse" benyttes. | L38: 33 | O38: =Calc!G35 | S38: {=IFERROR(INDEX(Tekst!$B$1:$U$300,168,Tabeller!$C$28),"")} -> Brukerveiledning
L39: 34 | O39: =Calc!G36 | S39: 1 | T39: {=IFERROR(INDEX(Tekst!$B$1:$U$300,150,Tabeller!$C$28),"")} -> Angi eller velg grenseverdi (GV) | V39: 5 | W39: {=IFERROR(INDEX(Tekst!$B$1:$U$300,159,Tabeller!$C$28),"")} -> Korttidseksponering
L40: 35 | O40: =Calc!G37 | T40: {=IFERROR(INDEX(Tekst!$B$1:$U$300,151,Tabeller!$C$28),"")} -> a. Registrer GV (ved å bruke agensnavn [C8] eller CAS-no. [C7]) eller registrer GV manuelt (MERK!!! Sett inn grenseverdi i henhold til antall timer per dag/uke som defineres i punkt 4. Korttidsverdi - se punkt 5) b. Velg enhet for GV i celle H11 c. Velg enhet for måledata i celle H13 Dersom aktuelt, konvertering mellom volum-volum (ppm/ppb) <--> volum-masse (mgmˉ³/µgmˉ³) gjøres automatisk basert på input i område 3. | W40: {=IFERROR(INDEX(Tekst!$B$1:$U$300,160,Tabeller!$C$28),"")} -> a. Velg om korttidsverdi skal benyttes i analysen i celle D31 b. Velg om tommelfingerregelen skal benyttes i celle D32 c. Dersom a er "Ja" og b er "Nei", sett korttidsverdi manuelt i celle D33
L41: 36 | O41: =Calc!G38
L42: 37 | O42: =Calc!G39
L43: 38 | O43: =Calc!G40
L44: 39 | O44: =Calc!G41
L45: 40 | O45: =Calc!G42
L46: 41 | O46: =Calc!G43
L47: 42 | O47: =Calc!G44 | V47: =IF(ISNUMBER(MATCH(Information!$B$9,Tekst!$B$224:$U$224,0)),3,6) -> 6 | W47: {=IFERROR(INDEX(Tekst!$B$1:$U$300,161,Tabeller!$C$28),"")} -> Målinger
L48: 43 | O48: =Calc!G45 | W48: {=IFERROR(INDEX(Tekst!$B$1:$U$300,163,Tabeller!$C$28),"")} -> a. Input måledata i cellene M6:M55 b. Viss relevant, for å konvertere masse til masse-volum, input volum i celler N6:N55 c. Kolonne O - Verdier benyttet i beregninger hvor verdier under deteksjonsgrense er kalkulert basert på valgt metode i seksjon 2.
L49: 44 | O49: =Calc!G46
L50: 45 | O50: =Calc!G47
L51: 46 | O51: =Calc!G48 | S51: 2 | T51: {=IFERROR(INDEX(Tekst!$B$1:$U$300,152,Tabeller!$C$28),"")} -> Håndtering av verdier under deteksjonsgrensen (DG)
L52: 47 | O52: =Calc!G49 | T52: {=IFERROR(INDEX(Tekst!$B$1:$U$300,153,Tabeller!$C$28),"")} -> Velg metodikk for håndtering av verdier under deteksjonsgrensen
L53: 48 | O53: =Calc!G50
L54: 49 | O54: =Calc!G51 | S54: 3 | T54: {=IFERROR(INDEX(Tekst!$B$1:$U$300,154,Tabeller!$C$28),"")} -> Konverter konsentrasjon (volum-volum <--> masse-volum)
L55: 50 | O55: =Calc!G52 | T55: {=IFERROR(INDEX(Tekst!$B$1:$U$300,156,Tabeller!$C$28),"")} -> Bruk dersom det er nødvendig å konvertere konsentrasjon a. Input verdi i H21 (molekylær masse for agensen som analyseres) b. Dersom aktuelt, juster molekylært volum (L) i celle H20 | W55: {=IFERROR(INDEX(Tekst!$B$1:$U$300,162,Tabeller!$C$28),"")} -> (Kolonne for volum vil kun vise dersom det er aktuelt)
V57: 7 | W57: {=IFERROR(INDEX(Tekst!$B$1:$U$300,205,Tabeller!$C$28),"")} -> Fordeling
T58: {=IFERROR(INDEX(Tekst!$B$1:$U$300,254,Tabeller!$C$28),"")} -> (Relevante celler viser når de er relevante) | W58: {=IFERROR(INDEX(Tekst!$B$1:$U$300,206,Tabeller!$C$28),"")} -> Hvis relevant, definer fordeling manuelt. Sett til YH-hjelp dersom estimert fordeling skal brukes.
S60: =IF(ISNUMBER(MATCH(Information!$B$9,Tekst!$B$224:$U$224,0)),2,4) -> 4 | T60: {=IFERROR(INDEX(Tekst!$B$1:$U$300,157,Tabeller!$C$28),"")} -> Reduksjonsfaktor
T61: {=IFERROR(INDEX(Tekst!$B$1:$U$300,158,Tabeller!$C$28),"")} -> Juster GV baser på arbeidsdag (C25), arbeidsuke (C26) eller norsk offshore regelverk (D27) [ref. Aktivitetsforskriften §36] | V61: =IF(ISNUMBER(MATCH(Information!$B$9,Tekst!$B$224:$U$224,0)),4,8) -> 8 | W61: {=IFERROR(INDEX(Tekst!$B$1:$U$300,164,Tabeller!$C$28),"")} -> Resultater
W62: {=IFERROR(INDEX(Tekst!$B$1:$U$300,165,Tabeller!$C$28),"")} -> Resultater fra analysen presenteres i dette området
V64: =IF(ISNUMBER(MATCH(Information!$B$9,Tekst!$B$224:$U$224,0)),5,9) -> 9 | W64: {=IFERROR(INDEX(Tekst!$B$1:$U$300,166,Tabeller!$C$28),"")} -> Samlet vurdering
W65: {=IFERROR(INDEX(Tekst!$B$1:$U$300,167,Tabeller!$C$28),"")} -> Legg til samlet vurdering etter behov

Sheet Analysis
A1: {=IFERROR(UPPER(INDEX(Tekst!$B$1:$U$300,87,Tabeller!$C$28)),"")} -> ANALYSE | W1: =IF(Information!B6=Tekst!$B$1,Tekst!$B$210,IF(Information!B6=Tekst!C1,Tekst!$C$210,"")) -> Brukte verdier
W2: =IF('Tables (statistics)'!$H$149=4,IF(Information!B6=Tekst!$B$1,Tekst!B211,IF(Information!B6=Tekst!C1,Tekst!C211,"")),"") -> Aritmetisk | X2: =IF('Tables (statistics)'!$H$149=4,IF(Information!B6=Tekst!$B$1,Tekst!B212,IF(Information!B6=Tekst!C1,Tekst!C212,"")),"") -> Geometrisk
W3: =Survey!O6 -> 21 | X3: =IF('Tables (statistics)'!$H$149=4,Calc!N3,"") -> 21
B4: {=IFERROR(INDEX(Tekst!$B$1:$U$300,32,Tabeller!$C$28),"")} -> Beskrivende statistikk (utvalg) | I4: {=IFERROR(INDEX(Tekst!$B$1:$U$300,48,Tabeller!$C$28),"")} -> Statistisk analyse (av eksponeringen for SEG) | W4: =Survey!O7 -> 1.9 | X4: =IF('Tables (statistics)'!$H$149=4,Calc!N4,"") -> 1.9
B5: {=IFERROR(INDEX(Tekst!$B$1:$U$300,20,Tabeller!$C$28),"")} -> Antall | C5: {=IFERROR(INDEX(Tekst!$B$1:$U$300,15,Tabeller!$C$28),"")} -> Målinger (n) | D5: =Calc!X1 -> 8 | W5: =Survey!O8 -> 5.8 | X5: =IF('Tables (statistics)'!$H$149=4,Calc!N5,"") -> 5.8
C6: {=IFERROR(INDEX(Tekst!$B$1:$U$300,16,Tabeller!$C$28),"")} -> Målinger under DG (m) | D6: =Calc!X2 -> 0 | I6: {=IFERROR(INDEX(Tekst!$B$1:$U$300,40,Tabeller!$C$28),"")} -> Fordeling - test (n > 2, k > 1) | M6: {=IF($D$5<11,IFERROR(INDEX(Tekst!$B$1:$U$300,39,Tabeller!$C$28),""),"")} -> Hvis n ≤ 10 antas log-normalfordeling | Q6: {=IFERROR(INDEX(Tekst!$B$1:$U$300,22,Tabeller!$C$28),"")} -> Forslag - periodiske målinger | W6: =Survey!O9 -> 17 | X6: =IF('Tables (statistics)'!$H$149=4,Calc!N6,"") -> 17
C7: {=IFERROR(INDEX(Tekst!$B$1:$U$300,249,Tabeller!$C$28),"")} -> Målinger over DL (k) | D7: =Calc!X3 -> 8 | J7: {=INDEX(Tekst!$B$1:$U$300,34,Tabeller!$C$28)} -> Normal | K7: {=INDEX(Tekst!$B$1:$U$300,35,Tabeller!$C$28)} -> Log-normal | W7: =Survey!O10 -> 1.7 | X7: =IF('Tables (statistics)'!$H$149=4,Calc!N7,"") -> 1.7
I8: W | J8: =IFERROR(IF(OR($D$13=0,$D$5<3,$D$7<2),"N/A",'Calc (W-test)'!$C$5),"") -> 0.82343296 | K8: =IFERROR(IF(OR($D$13=0,$D$5<3,$D$7<2),"N/A",'Calc (W-test)'!$C$6),"") -> 0.88115971 | Q8: {=IFERROR(INDEX(Tekst!$B$1:$U$300,251,Tabeller!$C$28),"")} -> Nye målinger | R8: J | S8: =IF(Calc!X3=0,"N/A",IFERROR(ROUND(IF($I$22=Tekst!$B$202,EXP(LN($K$17)-LN(Survey!$E$11)),IF($I$22=Tekst!$B$203,$J$17/Survey!$E$11,IF($K$8>$J$8,EXP(LN($K$17)-LN(Survey!$E$11)),$J$17/Survey!$E$11))),2),"")) -> 2.12 | W8: =Survey!O11 -> 2.7 | X8: =IF('Tables (statistics)'!$H$149=4,Calc!N8,"") -> 2.7
D9: {=IFERROR(INDEX(Tekst!$B$1:$U$300,149,Tabeller!$C$28),"")} -> ≥ DG | E9: {=IFERROR(INDEX(Tekst!$B$1:$U$300,148,Tabeller!$C$28),"")} -> DG just. | I9: a = 0.05 | J9: =IFERROR(IF(Information!$B$6=Tekst!$B$1,'Calc (W-test)'!$T$3,INDEX(Tabeller!$K$3:$L$4,MATCH('Calc (W-test)'!$T$3,Tabeller!$K$3:$K$4,0),2)),"") -> Ja | K9: =IFERROR(IF(Information!$B$6=Tekst!$B$1,'Calc (W-test)'!$T$4,INDEX(Tabeller!$K$3:$L$4,MATCH('Calc (W-test)'!$T$4,Tabeller!$K$3:$K$4,0),2)),"") -> Ja | W9: =Survey!O12 -> 6.3 | X9: =IF('Tables (statistics)'!$H$149=4,Calc!N9,"") -> 6.3
C10: {=IFERROR(INDEX(Tekst!$B$1:$U$300,18,Tabeller!$C$28),"")} -> Minste verdi (minimum) | D10: =IFERROR(ROUND(Calc!X5,3),"") -> 1.7 | E10: =IFERROR(ROUND(Calc!Y5,3),"") -> 1.7 | F10: =IF($D$5-$D$6<=0,"","") | M10: {=IF($M$11<>"",IF($D$5<6,IFERROR(INDEX(Tekst!$B$1:$U$300,44,Tabeller!$C$28),""),IF($D$5>5,IFERROR(INDEX(Tekst!$B$1:$U$300,67,Tabeller!$C$28),""),"")),"")} -> Kriterier (n ≥ 6) | W10: =Survey!O13 -> 18.9 | X10: =IF('Tables (statistics)'!$H$149=4,Calc!N10,"") -> 18.9
C11: {=IFERROR(INDEX(Tekst!$B$1:$U$300,19,Tabeller!$C$28),"")} -> Median | D11: =IFERROR(ROUND(Calc!X6,3),"") -> 6.05 | E11: =IFERROR(ROUND(Calc!Y6,3),"") -> 6.05 | I11: {=IFERROR(INDEX(Tekst!$B$1:$U$300,65,Tabeller!$C$28),"")} -> Fordeling - statistikk (n > 2, k > 1) | M11: {=IF(AND($D$5<6,$D$5>2),IFERROR(INDEX(Tekst!$B$1:$U$300,42,Tabeller!$C$28),""),IF($D$5>5,IFERROR(INDEX(Tekst!$B$1:$U$300,43,Tabeller!$C$28),""),""))} -> Øvre 70% konfidensgrense til 95%-il skal være under GV | Q11: {=IFERROR(INDEX(Tekst!$B$1:$U$300,252,Tabeller!$C$28),"")} -> Foreslått vurdering av "J" | W11: =Survey!O14 | X11: =IF('Tables (statistics)'!$H$149=4,Calc!N11,"")
C12: {=IFERROR(INDEX(Tekst!$B$1:$U$300,17,Tabeller!$C$28),"")} -> Høyeste verdi (maksimum) | D12: =IFERROR(ROUND(Calc!X7,3),"") -> 21 | E12: =IFERROR(ROUND(Calc!Y7,3),"") -> 21 | J12: {=INDEX(Tekst!$B$1:$U$300,34,Tabeller!$C$28)} -> Normal | K12: {=INDEX(Tekst!$B$1:$U$300,35,Tabeller!$C$28)} -> Log-normal | Q12: ≤ 0,20 | R12: =IF(Information!$B$6=Tekst!$B$1,Tabeller!$D$63,IF(Information!$B$6=Tekst!$C$1,Tabeller!$E$63,IF(Information!$B$6=Tekst!$D$1,Tabeller!$F$63,""))) -> vurder om nødvendig | W12: =Survey!O15 | X12: =IF('Tables (statistics)'!$H$149=4,Calc!N12,"")
C13: {=IFERROR(INDEX(Tekst!$B$1:$U$300,33,Tabeller!$C$28),"")} -> Variasjonsbredde (spredning) | D13: =IFERROR(ROUND(Calc!X8,3),"") -> 19.3 | E13: =IFERROR(ROUND(Calc!Y8,3),"") -> 19.3 | I13: AM (MVUE) | K13: =IFERROR(IF(OR($D$13=0,$D$5<3,$D$7<2),"N/A",'Stats - distribution'!$D$19),"") -> 9.6828721 | Q13: 0,20 < J ≤ 0,25 | R13: =IF(Information!$B$6=Tekst!$B$1,Tabeller!$D$64,IF(Information!$B$6=Tekst!$C$1,Tabeller!$E$64,IF(Information!$B$6=Tekst!$D$1,Tabeller!$F$64,""))) -> innen 36 måneder | W13: =Survey!O16 | X13: =IF('Tables (statistics)'!$H$149=4,Calc!N13,"")
C14: =IF(Information!$B$6=Tekst!$B$1,CONCATENATE(Tekst!$B$66," ",Tekst!$B$3),IF(Information!$B$6=Tekst!$C$1,CONCATENATE(Tekst!$C$66," ",Tekst!$C$3),"")) -> Prosent over Grenseverdi | D14: =Calc!X9 -> 0 | E14: =Calc!Y9 -> 0 | I14: AM | J14: =IFERROR(IF(OR($D$13=0,$D$5<3,$D$7<2),"N/A",'Stats - distribution'!$H$5),"") -> 9.4125 | Q14: 0,25 < J ≤ 0,50 | R14: =IF(Information!$B$6=Tekst!$B$1,Tabeller!$D$65,IF(Information!$B$6=Tekst!$C$1,Tabeller!$E$65,IF(Information!$B$6=Tekst!$D$1,Tabeller!$F$65,""))) -> innen 24 måneder | W14: =Survey!O17 | X14: =IF('Tables (statistics)'!$H$149=4,Calc!N14,"")
M15: {=IFERROR(INDEX(Tekst!$B$1:$U$300,231,Tabeller!$C$28),"")} -> Håndtering av verdier < DG | Q15: 0,50 < J ≤ 1,00 | R15: =IF(Information!$B$6=Tekst!$B$1,Tabeller!$D$66,IF(Information!$B$6=Tekst!$C$1,Tabeller!$E$66,IF(Information!$B$6=Tekst!$D$1,Tabeller!$F$66,""))) -> innen 12 måneder | W15: =Survey!O18 | X15: =IF('Tables (statistics)'!$H$149=4,Calc!N15,"")
B16: {=IFERROR(INDEX(Tekst!$B$1:$U$300,34,Tabeller!$C$28),"")} -> Normal | C16: {=IFERROR(INDEX(Tekst!$B$1:$U$300,24,Tabeller!$C$28),"")} -> Aritmetisk middelverdi (AM) | D16: =IFERROR(ROUND(Calc!X11,3),"") -> 9.413 | E16: =IFERROR(ROUND(Calc!Y11,3),"") -> 9.413 | I16: {=IFERROR(INDEX(Tekst!$B$1:$U$300,255,Tabeller!$C$28),"")} -> 95%-il (estimat -z) | J16: =IFERROR(IF(OR($D$13=0,$D$5<3,$D$7<2),"N/A",IF(Calc!AC2<>4,E16+E17*1.645,Beta!R18)),"") -> 22.827975 | K16: =IFERROR(IF(OR($D$13=0,$D$5<3,$D$7<2),"N/A",IF(Calc!AC2<>4,E19*E20^1.645,Beta!Q18)),"") -> 34.037426 | M16: =IF(OR(LEFT(Calc!$AB$2,1)="0",Information!$B$9=Tekst!$B$224),IF(OR($D$5<3,$D$7<=2),CONCATENATE("n < 3 or k ≤ 2 ",IF(Information!B6=Tekst!$B$1,Tekst!$B$45,IF(Information!B6=Tekst!C1,Tekst!C45,""))),IF(AND($D$5>=3,$D$7>2),CONCATENATE("n ≥ 3 & k > 2 ",IF(Information!B6=Tekst!$B$1,Tekst!B46,IF(Information!B6=Tekst!C1,Tekst!C46,""))),"")),_xlfn.CONCAT(IF(Information!$B$6=Tekst!$B$1,Tekst!$B$230,IF(Information!$B$6=Tekst!C1,Tekst!$C$230,""))," ",INDEX('Tables (statistics)'!$B$148:$C$153,MATCH(LEFT(Calc!$AB$2,1)*1,'Tables (statistics)'!$B$148:$B$153,0),2))) -> n ≥ 3 & k > 2 Beta metode er brukt | Q16: 1,00 < J | R16: =IF(Information!$B$6=Tekst!$B$1,Tabeller!$D$67,IF(Information!$B$6=Tekst!$C$1,Tabeller!$E$67,IF(Information!$B$6=Tekst!$D$1,Tabeller!$F$67,""))) -> etter implementring av risikoreduserende tiltak | W16: =Survey!O19 | X16: =IF('Tables (statistics)'!$H$149=4,Calc!N16,"")
C17: =IFERROR(_xlfn.CONCAT(INDEX(Tekst!$B$1:$U$300,37,Tabeller!$C$28)," (SD)"),"") -> Standardavvik (SD) | D17: =IFERROR(ROUND(Calc!X12,3),"") -> 8.155 | E17: =IFERROR(ROUND(Calc!Y12,3),"") -> 8.155 | I17: {=IFERROR(INDEX(Tekst!$B$1:$U$300,256,Tabeller!$C$28),"")} -> U_T (EØK 95%, 70%) | J17: =IFERROR(IF(OR($D$13=0,$D$5<3,$D$7<2),"N/A",IF('Tables (statistics)'!$H$149<>4,E16+E17*'Stats - distribution'!D23,Beta!R19)),"") -> 26.310396 | K17: =IFERROR(IF(OR($D$13=0,$D$5<3,$D$7<2),"N/A",IF('Tables (statistics)'!$H$149<>4,E19*E20^'Stats - distribution'!D23,Beta!Q19)),"") -> 52.971738 | W17: =Survey!O20 | X17: =IF('Tables (statistics)'!$H$149=4,Calc!N17,"")
W18: =Survey!O21 | X18: =IF('Tables (statistics)'!$H$149=4,Calc!N18,"")
B19: {=IFERROR(INDEX(Tekst!$B$1:$U$300,35,Tabeller!$C$28),"")} -> Log-normal | C19: =IFERROR(_xlfn.CONCAT(INDEX(Tekst!$B$1:$U$300,212,Tabeller!$C$28)," mean (GM)"),"") -> Geometrisk mean (GM) | D19: =IFERROR(ROUND(Calc!X14,3),"") -> 6.188 | E19: =IFERROR(ROUND(Calc!Y14,3),"") -> 6.188 | I19: {=IFERROR(CONCATENATE(INDEX(Tekst!$B$1:$U$300,66,Tabeller!$C$28)," ",INDEX(Tekst!$B$1:$U$300,3,Tabeller!$C$28)),"")} -> Prosent over Grenseverdi | J19: =IFERROR(IF(OR($D$13=0,$D$5<3,$D$7<2),"N/A",100*(1-NORMDIST(Survey!$E$11,$J$13,STDEV(Calc!$G$3:$G$52),TRUE()))),"") -> 0.10866397 | K19: =IFERROR(IF(OR($D$13=0,$D$5<3,$D$7<2),"N/A",100*(1-LOGNORMDIST(Survey!$E$11,AVERAGE(Calc!$P$3:$P$52),_xlfn.STDEV.S(Calc!$P$3:$P$52)))),"") -> 8.8927186 | M19: {=IFERROR(INDEX(Tekst!$B$1:$U$300,21,Tabeller!$C$28),"")} -> Veiledende konklusjon | Q19: {=IFERROR(INDEX(Tekst!$B$1:$U$300,64,Tabeller!$C$28),"")} -> Anbefalt ny kartlegging | W19: =Survey!O22 | X19: =IF('Tables (statistics)'!$H$149=4,Calc!N19,"")
C20: =IFERROR(_xlfn.CONCAT(INDEX(Tekst!$B$1:$U$300,212,Tabeller!$C$28)," standard deviation (GSD)"),"") -> Geometrisk standard deviation (GSD) | D20: =IFERROR(ROUND(Calc!X15,3),"") -> 2.819 | E20: =IFERROR(ROUND(Calc!Y15,3),"") -> 2.819 | M20: {=IFERROR(IF($D$5=0,"",IF($D$5>5,IF($D$5<6,"N/A",IF(OR($D$13=0,$D$7<=2),INDEX(Tekst!$B$1:$U$300,MATCH('Calc (W-test)'!$U$4,Tekst!$A$1:$A$300,0),Tabeller!$C$28),INDEX(Tekst!$B$1:$U$300,MATCH('Calc (W-test)'!$U$4,Tekst!$A$1:$A$300,0),Tabeller!$C$28))),IF($D$5-$D$6<2,IFERROR(INDEX(Tekst!$B$1:$U$300,190,Tabeller!$C$28),""),INDEX(Tekst!$B$1:$U$300,MATCH('Calc (W-test)'!$U$3,Tekst!$A$1:$A$300,0),Tabeller!$C$28)))),"")} -> Overeksponering kan ikke utelukkes. Tiltak nødvendig. | Q20: {=IF(Analysis!$D$5=0,"",IF(OR(Analysis!$D$13=0,Analysis!$D$5-Analysis!$D$6<3),IFERROR(INDEX(Tekst!$B$1:$U$300,50,Tabeller!$C$28),""),IF(AND('Calc (W-test)'!$T$4 ="Nei",'Calc (W-test)'!$T$5="Nei"),IFERROR(INDEX(Tekst!$B$1:$U$300,49,Tabeller!$C$28),""),IF(Analysis!$S$8<Tabeller!$B$63,Tabeller!$C$63,IF(Analysis!$S$8<Tabeller!$B$64,Tabeller!$C$64,IF(Analysis!$S$8<Tabeller!$B$65,Tabeller!$C$65,IF(Analysis!$S$8<Tabeller!$B$66,Tabeller!$C$66,Tabeller!$C$67)))))))} -> etter implementring av risikoreduserende tiltak | W20: =Survey!O23 | X20: =IF('Tables (statistics)'!$H$149=4,Calc!N20,"")
I21: {=IFERROR(INDEX(Tekst!$B$1:$U$300,47,Tabeller!$C$28),"")} -> Antatt fordeling | W21: =Survey!O24 | X21: =IF('Tables (statistics)'!$H$149=4,Calc!N21,"")
I22: {=IFERROR(INDEX(Tekst!$B$1:$U$300,MATCH('Stats - distribution'!$L$4,Tekst!$A$1:$A$300,0),Tabeller!$C$28),"")} -> Log-normal | W22: =Survey!O25 | X22: =IF('Tables (statistics)'!$H$149=4,Calc!N22,"")
W23: =Survey!O26 | X23: =IF('Tables (statistics)'!$H$149=4,Calc!N23,"")
W24: =Survey!O27 | X24: =IF('Tables (statistics)'!$H$149=4,Calc!N24,"")
I25: {=IFERROR(INDEX(Tekst!$B$1:$U$300,62,Tabeller!$C$28),"")} -> Andel av normalfordeling mindre enn null | W25: =Survey!O28 | X25: =IF('Tables (statistics)'!$H$149=4,Calc!N25,"")
I26: {=IFERROR(INDEX(Tekst!$B$1:$U$300,63,Tabeller!$C$28),"")} -> Prosent av normalfordeling under null | M26: =IFERROR(IF(OR($D$13=0,$D$5<3,$D$7<2),"N/A",ROUND(100*_xlfn.NORM.S.DIST((0-$D$16)/$D$17,TRUE),1)),"") -> 12.4 | W26: =Survey!O29 | X26: =IF('Tables (statistics)'!$H$149=4,Calc!N26,"")
W27: =Survey!O30 | X27: =IF('Tables (statistics)'!$H$149=4,Calc!N27,"")
W28: =Survey!O31 | X28: =IF('Tables (statistics)'!$H$149=4,Calc!N28,"")
W29: =Survey!O32 | X29: =IF('Tables (statistics)'!$H$149=4,Calc!N29,"")
W30: =Survey!O33 | X30: =IF('Tables (statistics)'!$H$149=4,Calc!N30,"")
W31: =Survey!O34 | X31: =IF('Tables (statistics)'!$H$149=4,Calc!N31,"")
W32: =Survey!O35 | X32: =IF('Tables (statistics)'!$H$149=4,Calc!N32,"")
W33: =Survey!O36 | X33: =IF('Tables (statistics)'!$H$149=4,Calc!N33,"")
W34: =Survey!O37 | X34: =IF('Tables (statistics)'!$H$149=4,Calc!N34,"")
W35: =Survey!O38 | X35: =IF('Tables (statistics)'!$H$149=4,Calc!N35,"")
W36: =Survey!O39 | X36: =IF('Tables (statistics)'!$H$149=4,Calc!N36,"")
W37: =Survey!O40 | X37: =IF('Tables (statistics)'!$H$149=4,Calc!N37,"")
W38: =Survey!O41 | X38: =IF('Tables (statistics)'!$H$149=4,Calc!N38,"")
... W52: =Survey!O55 | X52: =IF('Tables (statistics)'!$H$149=4,Calc!N52,"")

Sheet 2-3. Multiple exposure
A1: =IF(Information!$B$6=Tekst!$B$1,UPPER(Tekst!$B$89),IF(Information!$B$6=Tekst!$C$1,UPPER(Tekst!$C$89),"")) -> FLERE EKSPONERINGER
B4: =IF(Information!$B$6=Tekst!$B$1,Tekst!$B$112,IF(Information!$B$6=Tekst!$C$1,Tekst!$C$112,"")) -> Eksponering for flere kjemiske agenser | L4: =IF(Information!$B$6=Tekst!$B$1,Tekst!$B$109,IF(Information!$B$6=Tekst!$C$1,Tekst!$C$109,"")) -> Kriterier ved bruk av
B6: =IF(Information!$B$6=Tekst!$B$1,Tekst!$B$83,IF(Information!$B$6=Tekst!$C$1,Tekst!$C$83,"")) -> Nivå 1 (Eksponeringsindeks) | C6: IE | D6: =IF(Information!$B$6=Tekst!$B$1,Tekst!$B$85,IF(Information!$B$6=Tekst!$C$1,Tekst!$C$85,"")) -> Summen av eksponering delt på de respektive GV | L6: =IF(Information!$B$6=Tekst!$B$1,Tekst!$B$110,IF(Information!$B$6=Tekst!$C$1,Tekst!$C$110,"")) -> Forenklet undersøkelse
L7: 3 | M7: ≤ 0.20
L8: 4 | M8: ≤ 0.15
B9: =IF(Information!$B$6=Tekst!$B$1,Tekst!$B$84,IF(Information!$B$6=Tekst!$C$1,Tekst!$C$84,"")) -> Nivå 2 (Additiv effekt) | C9: IAE | D9: =IF(Information!$B$6=Tekst!$B$1,Tekst!$B$86,IF(Information!$B$6=Tekst!$C$1,Tekst!$C$86,"")) -> Summen av eksponering som har liknende effekt eller påvirker det samme organet delt på respektive GV | L9: 5 | M9: ≤ 0.10
L10: =IF(Information!$B$6=Tekst!$B$1,Tekst!$B$111,IF(Information!$B$6=Tekst!$C$1,Tekst!$C$111,"")) -> Detaljert undersøkelse
L11: > 5 | M11: ≤ 1.00
B14: =IF(Information!$B$6=Tekst!$B$1,Tekst!$B$80,IF(Information!$B$6=Tekst!$C$1,Tekst!$C$80,"")) -> Agens | D14: =IF(Information!$B$6=Tekst!$B$1,Tekst!$B$81,IF(Information!$B$6=Tekst!$C$1,Tekst!$C$81,"")) -> Effekt gruppe
B15: =IF(Information!$B$6=Tekst!$B$1,Tekst!$B$77,IF(Information!$B$6=Tekst!$C$1,Tekst!$C$77,"")) -> Velg navn: | C15: # | D15: =IF(Information!$B$6=Tekst!$B$1,Tekst!$B$78,IF(Information!$B$6=Tekst!$C$1,Tekst!$C$78,"")) -> Helseeffekter | E15: # | F15: =CONCATENATE(IF(Information!$B$6=Tekst!$B$1,Tekst!$B$82,IF(Information!$B$6=Tekst!$C$1,Tekst!$C$82,""))," (mgm¯³)") -> GV - 8t (mgm¯³) | G15: ="C "&" (8 "&IF(Information!$B$6=Tekst!$B$1,Tekst!$B$26,IF(Information!$B$6=Tekst!$C$1,Tekst!$C$26,""))&")" -> C (8 timer) | H15: =IF(Information!$B$6=Tekst!$B$1,Tekst!$B$79,IF(Information!$B$6=Tekst!$C$1,Tekst!$C$79,"")) -> GV-fraksjon | L15: =IF(Information!$B$6=Tekst!$B$1,Tekst!$B$76,IF(Information!$B$6=Tekst!$C$1,Tekst!$C$76,"")) -> Eksponeringsindeks
C16: =IF(B16="","",COUNTA($B$16:B16)) | H16: =IFERROR($G16/$F16,"")
C17: =IF(B17="","",COUNTA($B$16:B17)) | H17: =IFERROR($G17/$F17,"") | L17: =IF(Information!$B$6=Tekst!$B$1,CONCATENATE(Tekst!$B$75," 1"),IF(Information!$B$6=Tekst!$C$1,CONCATENATE(Tekst!$C$75," 1"),"")) -> Nivå 1
C18: =IF(B18="","",COUNTA($B$16:B18)) | H18: =IFERROR($G18/$F18,"") | L18: IE | M18: =IF(AND(COUNTIF($E$16:$E$35,$E$16)=COUNTA($E$16:$E$35),COUNTA($E$16:$E$35)<>""),SUM($H$16:$H$35),"N/A") -> 0 | AB18: This method should be used if the appraiser has insufficient knowledge of the combined effects of all the chemical exposure
C19: =IF(B19="","",COUNTA($B$16:B19)) | H19: =IFERROR($G19/$F19,"")
C20: =IF(B20="","",COUNTA($B$16:B20)) | H20: =IFERROR($G20/$F20,"") | L20: =IF(Information!$B$6=Tekst!$B$1,CONCATENATE(Tekst!$B$75," 2"),IF(Information!$B$6=Tekst!$C$1,CONCATENATE(Tekst!$C$75," 2"),"")) -> Nivå 2
C21: =IF(B21="","",COUNTA($B$16:B21)) | H21: =IFERROR($G21/$F21,"") | L21: IAE, A | M21: =IF(COUNTIFS($E$16:$E$35,"A")=0,"",SUMIFS($H$16:$H$35,$E$16:$E$35,"A"))
C22: =IF(B22="","",COUNTA($B$16:B22)) | H22: =IFERROR($G22/$F22,"") | L22: IAE, B | M22: =IF(COUNTIFS($E$16:$E$35,"B")=0,"",SUMIFS($H$16:$H$35,$E$16:$E$35,"B"))
C23: =IF(B23="","",COUNTA($B$16:B23)) | H23: =IFERROR($G23/$F23,"") | L23: IAE, C | M23: =IF(COUNTIFS($E$16:$E$35,"C")=0,"",SUMIFS($H$16:$H$35,$E$16:$E$35,"C"))
C24: =IF(B24="","",COUNTA($B$16:B24)) | H24: =IFERROR($G24/$F24,"") | L24: IAE, D | M24: =IF(COUNTIFS($E$16:$E$35,"D")=0,"",SUMIFS($H$16:$H$35,$E$16:$E$35,"D"))
C25: =IF(B25="","",COUNTA($B$16:B25)) | H25: =IFERROR($G25/$F25,"") | L25: IAE, E | M25: =IF(COUNTIFS($E$16:$E$35,"E")=0,"",SUMIFS($H$16:$H$35,$E$16:$E$35,"E"))
C26: =IF(B26="","",COUNTA($B$16:B26)) | H26: =IFERROR($G26/$F26,"")
C27: =IF(B27="","",COUNTA($B$16:B27)) | H27: =IFERROR($G27/$F27,"")
C28: =IF(B28="","",COUNTA($B$16:B28)) | H28: =IFERROR($G28/$F28,"")
C29: =IF(B29="","",COUNTA($B$16:B29)) | H29: =IFERROR($G29/$F29,"")
C30: =IF(B30="","",COUNTA($B$16:B30)) | H30: =IFERROR($G30/$F30,"")
C31: =IF(B31="","",COUNTA($B$16:B31)) | H31: =IFERROR($G31/$F31,"")
C32: =IF(B32="","",COUNTA($B$16:B32)) | H32: =IFERROR($G32/$F32,"")
C33: =IF(B33="","",COUNTA($B$16:B33)) | H33: =IFERROR($G33/$F33,"")
C34: =IF(B34="","",COUNTA($B$16:B34)) | H34: =IFERROR($G34/$F34,"")
C35: =IF(B35="","",COUNTA($B$16:B35)) | H35: =IFERROR($G35/$F35,"")

Sheet Beta
B1: BETA | Q1: Antatt log-normal | R1: Antatt normal
G3: Log-normal | K3: Normal | P3: y bar | Q3: =AVERAGE($D$5:$D$54) -> 1.8226299
B4: Lnr | C4: kons (x) | D4: y | E4: x | G4: x (mean) | H4: x (gm) | I4: ln (x (gm)) | K4: x (mean) | M4: =IF(Information!$B$6=Tekst!$B$1,Tekst!$B$15,IF(Information!$B$6=Tekst!C1,Tekst!$C$15,"")) -> Målinger (n) | N4: =Analysis!$D$5 -> 8 | P4: x bar | R4: =AVERAGE($E$5:$E$54) -> 9.4125
B5: 1 | C5: =IF(Calc!$F3=0,"",Calc!$F3) -> 21 | D5: =IF(OR(C5="",Calc!E3=1),"",Calc!Q3) -> 3.0445224 | E5: =IF(OR(C5="",Calc!E3=1),"",C5) -> 21 | G5: =IF(C5="","",IF(Calc!E3=1,$Q$9*C5,C5)) -> 21 | H5: =IF(C5="","",IF(Calc!E3=1,$Q$10*C5,C5)) -> 21 | I5: =IF(C5="","",LN(H5)) -> 3.0445224 | K5: =IF(C5="","",IF(Calc!E3=1,$R$9*C5,C5)) -> 21 | M5: =IF(Information!$B$6=Tekst!$B$1,Tekst!$B$16,IF(Information!$B$6=Tekst!C1,Tekst!$C$16,"")) -> Målinger under DG (m) | N5: =Analysis!$D$6 -> 0 | P5: z | Q5: =IFERROR(_xlfn.NORM.S.INV($N$5/$N$4),"") | R5: =IFERROR(_xlfn.NORM.S.INV($N$5/$N$4),"")
B6: 2 | C6: =IF(Calc!$F4=0,"",Calc!$F4) -> 1.9 | D6: =IF(OR(C6="",Calc!E4=1),"",Calc!Q4) -> 0.64185389 | E6: =IF(OR(C6="",Calc!E4=1),"",C6) -> 1.9 | G6: =IF(C6="","",IF(Calc!E4=1,$Q$9*C6,C6)) -> 1.9 | H6: =IF(C6="","",IF(Calc!E4=1,$Q$10*C6,C6)) -> 1.9 | I6: =IF(C6="","",LN(H6)) -> 0.64185389 | K6: =IF(C6="","",IF(Calc!E4=1,$R$9*C6,C6)) -> 1.9 | M6: n-m | N6: =N4-N5 -> 8 | P6: f(z) | Q6: =IFERROR(_xlfn.NORM.DIST($Q$5,0,1,0)/(1-_xlfn.NORM.DIST($Q$5,0,1,1)),"") | R6: =IFERROR(_xlfn.NORM.DIST($R$5,0,1,0)/(1-_xlfn.NORM.DIST($R$5,0,1,1)),"")
B7: 3 | C7: =IF(Calc!$F5=0,"",Calc!$F5) -> 5.8 | D7: =IF(OR(C7="",Calc!E5=1),"",Calc!Q5) -> 1.7578579 | E7: =IF(OR(C7="",Calc!E5=1),"",C7) -> 5.8 | G7: =IF(C7="","",IF(Calc!E5=1,$Q$9*C7,C7)) -> 5.8 | H7: =IF(C7="","",IF(Calc!E5=1,$Q$10*C7,C7)) -> 5.8 | I7: =IF(C7="","",LN(H7)) -> 1.7578579 | K7: =IF(C7="","",IF(Calc!E5=1,$R$9*C7,C7)) -> 5.8 | M7: Min | N7: =MIN($C$5:$C$54) -> 1.7 | P7: sy | Q7: =IFERROR(SQRT(($Q$3-LN($N$7))^2/($Q$6-$Q$5)^2),"") | R7: =IFERROR(SQRT(($R$4-$N$7)^2/($R$6-$R$5)^2),"")
B8: 4 | C8: =IF(Calc!$F6=0,"",Calc!$F6) -> 17 | D8: =IF(OR(C8="",Calc!E6=1),"",Calc!Q6) -> 2.8332133 | E8: =IF(OR(C8="",Calc!E6=1),"",C8) -> 17 | G8: =IF(C8="","",IF(Calc!E6=1,$Q$9*C8,C8)) -> 17 | H8: =IF(C8="","",IF(Calc!E6=1,$Q$10*C8,C8)) -> 17 | I8: =IF(C8="","",LN(H8)) -> 2.8332133 | K8: =IF(C8="","",IF(Calc!E6=1,$R$9*C8,C8)) -> 17 | M8: Median | N8: =MEDIAN($C$5:$C$54) -> 6.05 | P8: f(sy,z) | Q8: =IFERROR((1-NORMDIST($Q$5-$Q$7/$N$4,0,1,TRUE))/(1-NORMDIST($Q$5,0,1,TRUE)),"") | R8: =IFERROR((1-NORMDIST($R$5-$R$7/$N$4,0,1,TRUE))/(1-NORMDIST($R$5,0,1,TRUE)),"")
B9: 5 | C9: =IF(Calc!$F7=0,"",Calc!$F7) -> 1.7 | D9: =IF(OR(C9="",Calc!E7=1),"",Calc!Q7) -> 0.53062825 | E9: =IF(OR(C9="",Calc!E7=1),"",C9) -> 1.7 | G9: =IF(C9="","",IF(Calc!E7=1,$Q$9*C9,C9)) -> 1.7 | H9: =IF(C9="","",IF(Calc!E7=1,$Q$10*C9,C9)) -> 1.7 | I9: =IF(C9="","",LN(H9)) -> 0.53062825 | K9: =IF(C9="","",IF(Calc!E7=1,$R$9*C9,C9)) -> 1.7 | M9: Max | N9: =MAXA($C$5:$C$54) -> 21 | P9: AM_beta | Q9: =IFERROR($N$4/$N$5*NORMDIST($Q$5-$Q$7,0,1,1)*EXP(-$Q$7*$Q$5+($Q$7)^2/2),"") | R9: =IFERROR($N$4/$N$5*NORMDIST($R$5-$R$7,0,1,1)*EXP(-$R$7*$R$5+($R$7)^2/2),"")
B10: 6 | C10: =IF(Calc!$F8=0,"",Calc!$F8) -> 2.7 | D10: =IF(OR(C10="",Calc!E8=1),"",Calc!Q8) -> 0.99325177 | E10: =IF(OR(C10="",Calc!E8=1),"",C10) -> 2.7 | G10: =IF(C10="","",IF(Calc!E8=1,$Q$9*C10,C10)) -> 2.7 | H10: =IF(C10="","",IF(Calc!E8=1,$Q$10*C10,C10)) -> 2.7 | I10: =IF(C10="","",LN(H10)) -> 0.99325177 | K10: =IF(C10="","",IF(Calc!E8=1,$R$9*C10,C10)) -> 2.7 | P10: GM_beta | Q10: =IFERROR(EXP((-($N$4-$N$5)*$N$4)/$N$5*LN(Q8)-$Q$7*$Q$5-($N$4-$N$5)/(2*$N$5*$N$4)*($Q$7)^2),"")
B11: 7 | C11: =IF(Calc!$F9=0,"",Calc!$F9) -> 6.3 | D11: =IF(OR(C11="",Calc!E9=1),"",Calc!Q9) -> 1.8405496 | E11: =IF(OR(C11="",Calc!E9=1),"",C11) -> 6.3 | G11: =IF(C11="","",IF(Calc!E9=1,$Q$9*C11,C11)) -> 6.3 | H11: =IF(C11="","",IF(Calc!E9=1,$Q$10*C11,C11)) -> 6.3 | I11: =IF(C11="","",LN(H11)) -> 1.8405496 | K11: =IF(C11="","",IF(Calc!E9=1,$R$9*C11,C11)) -> 6.3
B12: 8 | C12: =IF(Calc!$F10=0,"",Calc!$F10) -> 18.9 | D12: =IF(OR(C12="",Calc!E10=1),"",Calc!Q10) -> 2.9391619 | E12: =IF(OR(C12="",Calc!E10=1),"",C12) -> 18.9 | G12: =IF(C12="","",IF(Calc!E10=1,$Q$9*C12,C12)) -> 18.9 | H12: =IF(C12="","",IF(Calc!E10=1,$Q$10*C12,C12)) -> 18.9 | I12: =IF(C12="","",LN(H12)) -> 2.9391619 | K12: =IF(C12="","",IF(Calc!E10=1,$R$9*C12,C12)) -> 18.9 | P12: AM | Q12: =AVERAGE($G$5:$G$54) -> 9.4125 | R12: =AVERAGE($K$5:$K$54) -> 9.4125
B13: 9 | C13: =IF(Calc!$F11=0,"",Calc!$F11) | D13: =IF(OR(C13="",Calc!E11=1),"",Calc!Q11) | E13: =IF(OR(C13="",Calc!E11=1),"",C13) | G13: =IF(C13="","",IF(Calc!E11=1,$Q$9*C13,C13)) | H13: =IF(C13="","",IF(Calc!E11=1,$Q$10*C13,C13)) | I13: =IF(C13="","",LN(H13)) | K13: =IF(C13="","",IF(Calc!E11=1,$R$9*C13,C13)) | P13: SD | Q13: =_xlfn.STDEV.S($G$5:$G$54) -> 8.1553554 | R13: =STDEV($K$5:$K$54) -> 8.1553554
B14: 10 | C14: =IF(Calc!$F12=0,"",Calc!$F12) | D14: =IF(OR(C14="",Calc!E12=1),"",Calc!Q12) | E14: =IF(OR(C14="",Calc!E12=1),"",C14) | G14: =IF(C14="","",IF(Calc!E12=1,$Q$9*C14,C14)) | H14: =IF(C14="","",IF(Calc!E12=1,$Q$10*C14,C14)) | I14: =IF(C14="","",LN(H14)) | K14: =IF(C14="","",IF(Calc!E12=1,$R$9*C14,C14)) | P14: GM | Q14: =EXP(AVERAGE($I$5:$I$54)) -> 6.1881112
B15: 11 | C15: =IF(Calc!$F13=0,"",Calc!$F13) | D15: =IF(OR(C15="",Calc!E13=1),"",Calc!Q13) | E15: =IF(OR(C15="",Calc!E13=1),"",C15) | G15: =IF(C15="","",IF(Calc!E13=1,$Q$9*C15,C15)) | H15: =IF(C15="","",IF(Calc!E13=1,$Q$10*C15,C15)) | I15: =IF(C15="","",LN(H15)) | K15: =IF(C15="","",IF(Calc!E13=1,$R$9*C15,C15)) | P15: GSD | Q15: =IF(($Q$12/$Q$14)<=1,1,EXP(Q17)) -> 2.6620751
B16: 12 | C16: =IF(Calc!$F14=0,"",Calc!$F14) | D16: =IF(OR(C16="",Calc!E14=1),"",Calc!Q14) | E16: =IF(OR(C16="",Calc!E14=1),"",C16) | G16: =IF(C16="","",IF(Calc!E14=1,$Q$9*C16,C16)) | H16: =IF(C16="","",IF(Calc!E14=1,$Q$10*C16,C16)) | I16: =IF(C16="","",LN(H16)) | K16: =IF(C16="","",IF(Calc!E14=1,$R$9*C16,C16)) | P16: y bar | Q16: =AVERAGE($I$5:$I$54) -> 1.8226299
B17: 13 | C17: =IF(Calc!$F15=0,"",Calc!$F15) | D17: =IF(OR(C17="",Calc!E15=1),"",Calc!Q15) | E17: =IF(OR(C17="",Calc!E15=1),"",C17) | G17: =IF(C17="","",IF(Calc!E15=1,$Q$9*C17,C17)) | H17: =IF(C17="","",IF(Calc!E15=1,$Q$10*C17,C17)) | I17: =IF(C17="","",LN(H17)) | K17: =IF(C17="","",IF(Calc!E15=1,$R$9*C17,C17)) | P17: sy | Q17: =IF(($Q$12/$Q$14)<=1,0,SQRT(2*$N$4/($N$4-1)*LN($Q$12/$Q$14))) -> 0.97910594
B18: 14 | C18: =IF(Calc!$F16=0,"",Calc!$F16) | D18: =IF(OR(C18="",Calc!E16=1),"",Calc!Q16) | E18: =IF(OR(C18="",Calc!E16=1),"",C18) | G18: =IF(C18="","",IF(Calc!E16=1,$Q$9*C18,C18)) | H18: =IF(C18="","",IF(Calc!E16=1,$Q$10*C18,C18)) | I18: =IF(C18="","",LN(H18)) | K18: =IF(C18="","",IF(Calc!E16=1,$R$9*C18,C18)) | P18: X95 | Q18: =IF(N5=0,EXP(Q16+1.645*Q17),EXP(LN($Q$14)-($Q$7)^2/(2*$N$4)+1.645*$Q$17)) -> 30.977439 | R18: =$R$12+(1.645*$R$13) -> 22.82806
B19: 15 | C19: =IF(Calc!$F17=0,"",Calc!$F17) | D19: =IF(OR(C19="",Calc!E17=1),"",Calc!Q17) | E19: =IF(OR(C19="",Calc!E17=1),"",C19) | G19: =IF(C19="","",IF(Calc!E17=1,$Q$9*C19,C19)) | H19: =IF(C19="","",IF(Calc!E17=1,$Q$10*C19,C19)) | I19: =IF(C19="","",LN(H19)) | K19: =IF(C19="","",IF(Calc!E17=1,$R$9*C19,C19)) | P19: UTL | Q19: =IF(N5=0,'Stats - distribution'!D24,EXP(LN($Q$14)-($Q$7)^2/(2*$N$4)+'Stats - distribution'!D23*$Q$17)) -> 52.971738 | R19: =$R$12+('Stats - distribution'!D23*$R$13) -> 26.310396
B20: 16 | C20: =IF(Calc!$F18=0,"",Calc!$F18) | D20: =IF(OR(C20="",Calc!E18=1),"",Calc!Q18) | E20: =IF(OR(C20="",Calc!E18=1),"",C20) | G20: =IF(C20="","",IF(Calc!E18=1,$Q$9*C20,C20)) | H20: =IF(C20="","",IF(Calc!E18=1,$Q$10*C20,C20)) | I20: =IF(C20="","",LN(H20)) | K20: =IF(C20="","",IF(Calc!E18=1,$R$9*C20,C20))
B21: 17 | C21: =IF(Calc!$F19=0,"",Calc!$F19) | D21: =IF(OR(C21="",Calc!E19=1),"",Calc!Q19) | E21: =IF(OR(C21="",Calc!E19=1),"",C21) | G21: =IF(C21="","",IF(Calc!E19=1,$Q$9*C21,C21)) | H21: =IF(C21="","",IF(Calc!E19=1,$Q$10*C21,C21)) | I21: =IF(C21="","",LN(H21)) | K21: =IF(C21="","",IF(Calc!E19=1,$R$9*C21,C21))
B22: 18 | C22: =IF(Calc!$F20=0,"",Calc!$F20) | D22: =IF(OR(C22="",Calc!E20=1),"",Calc!Q20) | E22: =IF(OR(C22="",Calc!E20=1),"",C22) | G22: =IF(C22="","",IF(Calc!E20=1,$Q$9*C22,C22)) | H22: =IF(C22="","",IF(Calc!E20=1,$Q$10*C22,C22)) | I22: =IF(C22="","",LN(H22)) | K22: =IF(C22="","",IF(Calc!E20=1,$R$9*C22,C22))
B23: 19 | C23: =IF(Calc!$F21=0,"",Calc!$F21) | D23: =IF(OR(C23="",Calc!E21=1),"",Calc!Q21) | E23: =IF(OR(C23="",Calc!E21=1),"",C23) | G23: =IF(C23="","",IF(Calc!E21=1,$Q$9*C23,C23)) | H23: =IF(C23="","",IF(Calc!E21=1,$Q$10*C23,C23)) | I23: =IF(C23="","",LN(H23)) | K23: =IF(C23="","",IF(Calc!E21=1,$R$9*C23,C23))
B24: 20 | C24: =IF(Calc!$F22=0,"",Calc!$F22) | D24: =IF(OR(C24="",Calc!E22=1),"",Calc!Q22) | E24: =IF(OR(C24="",Calc!E22=1),"",C24) | G24: =IF(C24="","",IF(Calc!E22=1,$Q$9*C24,C24)) | H24: =IF(C24="","",IF(Calc!E22=1,$Q$10*C24,C24)) | I24: =IF(C24="","",LN(H24)) | K24: =IF(C24="","",IF(Calc!E22=1,$R$9*C24,C24))
B25: 21 | C25: =IF(Calc!$F23=0,"",Calc!$F23) | D25: =IF(OR(C25="",Calc!E23=1),"",Calc!Q23) | E25: =IF(OR(C25="",Calc!E23=1),"",C25) | G25: =IF(C25="","",IF(Calc!E23=1,$Q$9*C25,C25)) | H25: =IF(C25="","",IF(Calc!E23=1,$Q$10*C25,C25)) | I25: =IF(C25="","",LN(H25)) | K25: =IF(C25="","",IF(Calc!E23=1,$R$9*C25,C25))
B26: 22 | C26: =IF(Calc!$F24=0,"",Calc!$F24) | D26: =IF(OR(C26="",Calc!E24=1),"",Calc!Q24) | E26: =IF(OR(C26="",Calc!E24=1),"",C26) | G26: =IF(C26="","",IF(Calc!E24=1,$Q$9*C26,C26)) | H26: =IF(C26="","",IF(Calc!E24=1,$Q$10*C26,C26)) | I26: =IF(C26="","",LN(H26)) | K26: =IF(C26="","",IF(Calc!E24=1,$R$9*C26,C26))
B27: 23 | C27: =IF(Calc!$F25=0,"",Calc!$F25) | D27: =IF(OR(C27="",Calc!E25=1),"",Calc!Q25) | E27: =IF(OR(C27="",Calc!E25=1),"",C27) | G27: =IF(C27="","",IF(Calc!E25=1,$Q$9*C27,C27)) | H27: =IF(C27="","",IF(Calc!E25=1,$Q$10*C27,C27)) | I27: =IF(C27="","",LN(H27)) | K27: =IF(C27="","",IF(Calc!E25=1,$R$9*C27,C27))
B28: 24 | C28: =IF(Calc!$F26=0,"",Calc!$F26) | D28: =IF(OR(C28="",Calc!E26=1),"",Calc!Q26) | E28: =IF(OR(C28="",Calc!E26=1),"",C28) | G28: =IF(C28="","",IF(Calc!E26=1,$Q$9*C28,C28)) | H28: =IF(C28="","",IF(Calc!E26=1,$Q$10*C28,C28)) | I28: =IF(C28="","",LN(H28)) | K28: =IF(C28="","",IF(Calc!E26=1,$R$9*C28,C28))
B29: 25 | C29: =IF(Calc!$F27=0,"",Calc!$F27) | D29: =IF(OR(C29="",Calc!E27=1),"",Calc!Q27) | E29: =IF(OR(C29="",Calc!E27=1),"",C29) | G29: =IF(C29="","",IF(Calc!E27=1,$Q$9*C29,C29)) | H29: =IF(C29="","",IF(Calc!E27=1,$Q$10*C29,C29)) | I29: =IF(C29="","",LN(H29)) | K29: =IF(C29="","",IF(Calc!E27=1,$R$9*C29,C29))
B30: 26 | C30: =IF(Calc!$F28=0,"",Calc!$F28) | D30: =IF(OR(C30="",Calc!E28=1),"",Calc!Q28) | E30: =IF(OR(C30="",Calc!E28=1),"",C30) | G30: =IF(C30="","",IF(Calc!E28=1,$Q$9*C30,C30)) | H30: =IF(C30="","",IF(Calc!E28=1,$Q$10*C30,C30)) | I30: =IF(C30="","",LN(H30)) | K30: =IF(C30="","",IF(Calc!E28=1,$R$9*C30,C30))
B31: 27 | C31: =IF(Calc!$F29=0,"",Calc!$F29) | D31: =IF(OR(C31="",Calc!E29=1),"",Calc!Q29) | E31: =IF(OR(C31="",Calc!E29=1),"",C31) | G31: =IF(C31="","",IF(Calc!E29=1,$Q$9*C31,C31)) | H31: =IF(C31="","",IF(Calc!E29=1,$Q$10*C31,C31)) | I31: =IF(C31="","",LN(H31)) | K31: =IF(C31="","",IF(Calc!E29=1,$R$9*C31,C31))
... B54: 50 | C54: =IF(Calc!$F52=0,"",Calc!$F52) | D54: =IF(OR(C54="",Calc!E52=1),"",Calc!Q52) | E54: =IF(OR(C54="",Calc!E52=1),"",C54) | G54: =IF(C54="","",IF(Calc!E52=1,$Q$9*C54,C54)) | H54: =IF(C54="","",IF(Calc!E52=1,$Q$10*C54,C54)) | I54: =IF(C54="","",LN(H54)) | K54: =IF(C54="","",IF(Calc!E52=1,$R$9*C54,C54))

Sheet Calc
L1: Log-Normal | M1: Normal | N1: Log-normal | V1: Antall | W1: Målinger (n) | X1: =COUNTIF($C$3:$C$52,">"&0)+COUNTIF($C$3:$C$52,"?*") -> 8 | AA1: Distribution | AB1: {=IF(Information!$B$9=INDEX(Tekst!$B$1:$U$300,224,Tabeller!$C$28),INDEX(Tekst!$B$1:$U$300,201,Tabeller!$C$28),Survey!$U$4)} -> la YH-HJELP velge
C2: Level | D2: Volume | E2: Less than detection limit | F2: Calc | G2: Benyttede tall | H2: 0: Anbefalt (se Regler for håndtering av verdier under DG) | I2: 1:DG | J2: 2: DG/SQRT(2) | K2: 3: DG/2 | L2: x (mean) | M2: x (mean) | N2: x (gm) | O2: ln (x (gm)) | P2: LN (benyttede tall) | Q2: LN (Calc) | W2: Målinger under DG (m) | X2: =COUNTIF($C$3:$C$52,"?*") -> 0 | AA2: Method | AB2: {=IF(Information!$B$9=INDEX(Tekst!$B$1:$U$300,224,Tabeller!$C$28),INDEX(Tekst!$B$1:$U$300,194,Tabeller!$C$28),Survey!$B$16)} -> 0: Anbefalt (se Regler for håndtering av verdier under DG) | AC2: =VALUE(LEFT(AB2,1)) -> 0
B3: =Survey!L6 -> 1 | C3: =IF(Survey!M6="","",Survey!M6) -> 21 | D3: =Survey!N6 -> 0 | E3: =IF(LEFT(C3,1)="<",1,IF(ISNUMBER(LEFT(C3,1)+0),2,0)) -> 2 | F3: {=IF(Survey!$F$13=INDEX(Tekst!$B$1:$U$300,259,Tabeller!$C$28),IF(E3=1,(RIGHT(C3,LEN(C3)-1)+0)*Survey!$E$13,IF(E3=2,C3*Survey!$E$13,"")),IF(E3=1,((RIGHT(C3,LEN(C3)-1)+0)*Survey!$E$13)/(D3/1000),IF(E3=2,(C3*Survey!$E$13)/(D3/1000),"")))} -> 21 | G3: =IF(ISNUMBER($F3),INDEX($I$3:$N$52,$B3,'Tables (statistics)'!$H$149),"") -> 21 | I3: =IFERROR(F3,"") -> 21 | J3: =IF(AND(ISNUMBER($F3),$F3>0),IF($E3=1,$F3/SQRT(2),$F3),"") -> 21 | K3: =IF(AND(ISNUMBER($F3),$F3>0),IF($E3=1,$F3/2,$F3),"") -> 21 | L3: =Beta!G5 -> 21 | M3: =Beta!K5 -> 21 | N3: =Beta!H5 -> 21 | O3: =Beta!I5 -> 3.0445224 | P3: =IFERROR(LN(G3),"") -> 3.0445224 | Q3: =IFERROR(LN(F3),"") -> 3.0445224 | W3: Measurements above DL (k) | X3: =X1-X2 -> 8
B4: =Survey!L7 -> 2 | C4: =IF(Survey!M7="","",Survey!M7) -> 1.9 | D4: =Survey!N7 -> 0 | E4: =IF(LEFT(C4,1)="<",1,IF(ISNUMBER(LEFT(C4,1)+0),2,0)) -> 2 | F4: {=IF(Survey!$F$13=INDEX(Tekst!$B$1:$U$300,259,Tabeller!$C$28),IF(E4=1,(RIGHT(C4,LEN(C4)-1)+0)*Survey!$E$13,IF(E4=2,C4*Survey!$E$13,"")),IF(E4=1,((RIGHT(C4,LEN(C4)-1)+0)*Survey!$E$13)/(D4/1000),IF(E4=2,(C4*Survey!$E$13)/(D4/1000),"")))} -> 1.9 | G4: =IF(ISNUMBER($F4),INDEX($I$3:$N$52,$B4,'Tables (statistics)'!$H$149),"") -> 1.9 | I4: =IFERROR(F4,"") -> 1.9 | J4: =IF(AND(ISNUMBER($F4),$F4>0),IF($E4=1,$F4/SQRT(2),$F4),"") -> 1.9 | K4: =IF(AND(ISNUMBER($F4),$F4>0),IF($E4=1,$F4/2,$F4),"") -> 1.9 | L4: =Beta!G6 -> 1.9 | M4: =Beta!K6 -> 1.9 | N4: =Beta!H6 -> 1.9 | O4: =Beta!I6 -> 0.64185389 | P4: =IFERROR(LN(G4),"") -> 0.64185389 | Q4: =IFERROR(LN(F4),"") -> 0.64185389
B5: =Survey!L8 -> 3 | C5: =IF(Survey!M8="","",Survey!M8) -> 5.8 | D5: =Survey!N8 -> 0 | E5: =IF(LEFT(C5,1)="<",1,IF(ISNUMBER(LEFT(C5,1)+0),2,0)) -> 2 | F5: {=IF(Survey!$F$13=INDEX(Tekst!$B$1:$U$300,259,Tabeller!$C$28),IF(E5=1,(RIGHT(C5,LEN(C5)-1)+0)*Survey!$E$13,IF(E5=2,C5*Survey!$E$13,"")),IF(E5=1,((RIGHT(C5,LEN(C5)-1)+0)*Survey!$E$13)/(D5/1000),IF(E5=2,(C5*Survey!$E$13)/(D5/1000),"")))} -> 5.8 | G5: =IF(ISNUMBER($F5),INDEX($I$3:$N$52,$B5,'Tables (statistics)'!$H$149),"") -> 5.8 | I5: =IFERROR(F5,"") -> 5.8 | J5: =IF(AND(ISNUMBER($F5),$F5>0),IF($E5=1,$F5/SQRT(2),$F5),"") -> 5.8 | K5: =IF(AND(ISNUMBER($F5),$F5>0),IF($E5=1,$F5/2,$F5),"") -> 5.8 | L5: =Beta!G7 -> 5.8 | M5: =Beta!K7 -> 5.8 | N5: =Beta!H7 -> 5.8 | O5: =Beta!I7 -> 1.7578579 | P5: =IFERROR(LN(G5),"") -> 1.7578579 | Q5: =IFERROR(LN(F5),"") -> 1.7578579 | W5: Lowest measured value (min) | X5: =IF($X$1=0,"",IF($X$3=0,"N/A",ROUND(MIN($F$3:$F$52),3))) -> 1.7 | Y5: =IF($X$1<2,"",ROUND(MIN($G$3:$G$52),3)) -> 1.7
B6: =Survey!L9 -> 4 | C6: =IF(Survey!M9="","",Survey!M9) -> 17 | D6: =Survey!N9 -> 0 | E6: =IF(LEFT(C6,1)="<",1,IF(ISNUMBER(LEFT(C6,1)+0),2,0)) -> 2 | F6: {=IF(Survey!$F$13=INDEX(Tekst!$B$1:$U$300,259,Tabeller!$C$28),IF(E6=1,(RIGHT(C6,LEN(C6)-1)+0)*Survey!$E$13,IF(E6=2,C6*Survey!$E$13,"")),IF(E6=1,((RIGHT(C6,LEN(C6)-1)+0)*Survey!$E$13)/(D6/1000),IF(E6=2,(C6*Survey!$E$13)/(D6/1000),"")))} -> 17 | G6: =IF(ISNUMBER($F6),INDEX($I$3:$N$52,$B6,'Tables (statistics)'!$H$149),"") -> 17 | I6: =IFERROR(F6,"") -> 17 | J6: =IF(AND(ISNUMBER($F6),$F6>0),IF($E6=1,$F6/SQRT(2),$F6),"") -> 17 | K6: =IF(AND(ISNUMBER($F6),$F6>0),IF($E6=1,$F6/2,$F6),"") -> 17 | L6: =Beta!G8 -> 17 | M6: =Beta!K8 -> 17 | N6: =Beta!H8 -> 17 | O6: =Beta!I8 -> 2.8332133 | P6: =IFERROR(LN(G6),"") -> 2.8332133 | Q6: =IFERROR(LN(F6),"") -> 2.8332133 | W6: Median | X6: =IF($X$1=0,"",IF($X$3=0,"N/A",ROUND(MEDIAN($F$3:$F$52),3))) -> 6.05 | Y6: =IF($X$1<2,"",ROUND(MEDIAN($G$3:$G$52),3)) -> 6.05
B7: =Survey!L10 -> 5 | C7: =IF(Survey!M10="","",Survey!M10) -> 1.7 | D7: =Survey!N10 -> 0 | E7: =IF(LEFT(C7,1)="<",1,IF(ISNUMBER(LEFT(C7,1)+0),2,0)) -> 2 | F7: {=IF(Survey!$F$13=INDEX(Tekst!$B$1:$U$300,259,Tabeller!$C$28),IF(E7=1,(RIGHT(C7,LEN(C7)-1)+0)*Survey!$E$13,IF(E7=2,C7*Survey!$E$13,"")),IF(E7=1,((RIGHT(C7,LEN(C7)-1)+0)*Survey!$E$13)/(D7/1000),IF(E7=2,(C7*Survey!$E$13)/(D7/1000),"")))} -> 1.7 | G7: =IF(ISNUMBER($F7),INDEX($I$3:$N$52,$B7,'Tables (statistics)'!$H$149),"") -> 1.7 | I7: =IFERROR(F7,"") -> 1.7 | J7: =IF(AND(ISNUMBER($F7),$F7>0),IF($E7=1,$F7/SQRT(2),$F7),"") -> 1.7 | K7: =IF(AND(ISNUMBER($F7),$F7>0),IF($E7=1,$F7/2,$F7),"") -> 1.7 | L7: =Beta!G9 -> 1.7 | M7: =Beta!K9 -> 1.7 | N7: =Beta!H9 -> 1.7 | O7: =Beta!I9 -> 0.53062825 | P7: =IFERROR(LN(G7),"") -> 0.53062825 | Q7: =IFERROR(LN(F7),"") -> 0.53062825 | W7: Highest measured value (max) | X7: =IF($X$1=0,"",IF($X$3=0,"N/A",ROUND(MAX($F$3:$F$52),3))) -> 21 | Y7: =IF($X$1<2,"",ROUND(MAX($G$3:$G$52),3)) -> 21
B8: =Survey!L11 -> 6 | C8: =IF(Survey!M11="","",Survey!M11) -> 2.7 | D8: =Survey!N11 -> 0 | E8: =IF(LEFT(C8,1)="<",1,IF(ISNUMBER(LEFT(C8,1)+0),2,0)) -> 2 | F8: {=IF(Survey!$F$13=INDEX(Tekst!$B$1:$U$300,259,Tabeller!$C$28),IF(E8=1,(RIGHT(C8,LEN(C8)-1)+0)*Survey!$E$13,IF(E8=2,C8*Survey!$E$13,"")),IF(E8=1,((RIGHT(C8,LEN(C8)-1)+0)*Survey!$E$13)/(D8/1000),IF(E8=2,(C8*Survey!$E$13)/(D8/1000),"")))} -> 2.7 | G8: =IF(ISNUMBER($F8),INDEX($I$3:$N$52,$B8,'Tables (statistics)'!$H$149),"") -> 2.7 | I8: =IFERROR(F8,"") -> 2.7 | J8: =IF(AND(ISNUMBER($F8),$F8>0),IF($E8=1,$F8/SQRT(2),$F8),"") -> 2.7 | K8: =IF(AND(ISNUMBER($F8),$F8>0),IF($E8=1,$F8/2,$F8),"") -> 2.7 | L8: =Beta!G10 -> 2.7 | M8: =Beta!K10 -> 2.7 | N8: =Beta!H10 -> 2.7 | O8: =Beta!I10 -> 0.99325177 | P8: =IFERROR(LN(G8),"") -> 0.99325177 | Q8: =IFERROR(LN(F8),"") -> 0.99325177 | W8: Variation width (spread) | X8: =IFERROR(X7-X5,"") -> 19.3 | Y8: =IFERROR(Y7-Y5,"") -> 19.3
B9: =Survey!L12 -> 7 | C9: =IF(Survey!M12="","",Survey!M12) -> 6.3 | D9: =Survey!N12 -> 0 | E9: =IF(LEFT(C9,1)="<",1,IF(ISNUMBER(LEFT(C9,1)+0),2,0)) -> 2 | F9: {=IF(Survey!$F$13=INDEX(Tekst!$B$1:$U$300,259,Tabeller!$C$28),IF(E9=1,(RIGHT(C9,LEN(C9)-1)+0)*Survey!$E$13,IF(E9=2,C9*Survey!$E$13,"")),IF(E9=1,((RIGHT(C9,LEN(C9)-1)+0)*Survey!$E$13)/(D9/1000),IF(E9=2,(C9*Survey!$E$13)/(D9/1000),"")))} -> 6.3 | G9: =IF(ISNUMBER($F9),INDEX($I$3:$N$52,$B9,'Tables (statistics)'!$H$149),"") -> 6.3 | I9: =IFERROR(F9,"") -> 6.3 | J9: =IF(AND(ISNUMBER($F9),$F9>0),IF($E9=1,$F9/SQRT(2),$F9),"") -> 6.3 | K9: =IF(AND(ISNUMBER($F9),$F9>0),IF($E9=1,$F9/2,$F9),"") -> 6.3 | L9: =Beta!G11 -> 6.3 | M9: =Beta!K11 -> 6.3 | N9: =Beta!H11 -> 6.3 | O9: =Beta!I11 -> 1.8405496 | P9: =IFERROR(LN(G9),"") -> 1.8405496 | Q9: =IFERROR(LN(F9),"") -> 1.8405496 | W9: Percent above OEL | X9: =IFERROR((COUNTIFS($G$3:$G$52,">"&Survey!$E$11,$E$3:$E$52,2)/$X$3),"") -> 0 | Y9: =IFERROR((COUNTIFS($G$3:$G$52,">"&Survey!$E$11,$E$3:$E$52,2)/$X$3),"") -> 0
B10: =Survey!L13 -> 8 | C10: =IF(Survey!M13="","",Survey!M13) -> 18.9 | D10: =Survey!N13 -> 0 | E10: =IF(LEFT(C10,1)="<",1,IF(ISNUMBER(LEFT(C10,1)+0),2,0)) -> 2 | F10: {=IF(Survey!$F$13=INDEX(Tekst!$B$1:$U$300,259,Tabeller!$C$28),IF(E10=1,(RIGHT(C10,LEN(C10)-1)+0)*Survey!$E$13,IF(E10=2,C10*Survey!$E$13,"")),IF(E10=1,((RIGHT(C10,LEN(C10)-1)+0)*Survey!$E$13)/(D10/1000),IF(E10=2,(C10*Survey!$E$13)/(D10/1000),"")))} -> 18.9 | G10: =IF(ISNUMBER($F10),INDEX($I$3:$N$52,$B10,'Tables (statistics)'!$H$149),"") -> 18.9 | I10: =IFERROR(F10,"") -> 18.9 | J10: =IF(AND(ISNUMBER($F10),$F10>0),IF($E10=1,$F10/SQRT(2),$F10),"") -> 18.9 | K10: =IF(AND(ISNUMBER($F10),$F10>0),IF($E10=1,$F10/2,$F10),"") -> 18.9 | L10: =Beta!G12 -> 18.9 | M10: =Beta!K12 -> 18.9 | N10: =Beta!H12 -> 18.9 | O10: =Beta!I12 -> 2.9391619 | P10: =IFERROR(LN(G10),"") -> 2.9391619 | Q10: =IFERROR(LN(F10),"") -> 2.9391619
B11: =Survey!L14 -> 9 | C11: =IF(Survey!M14="","",Survey!M14) | D11: =Survey!N14 -> 0 | E11: =IF(LEFT(C11,1)="<",1,IF(ISNUMBER(LEFT(C11,1)+0),2,0)) -> 0 | F11: {=IF(Survey!$F$13=INDEX(Tekst!$B$1:$U$300,259,Tabeller!$C$28),IF(E11=1,(RIGHT(C11,LEN(C11)-1)+0)*Survey!$E$13,IF(E11=2,C11*Survey!$E$13,"")),IF(E11=1,((RIGHT(C11,LEN(C11)-1)+0)*Survey!$E$13)/(D11/1000),IF(E11=2,(C11*Survey!$E$13)/(D11/1000),"")))} | G11: =IF(ISNUMBER($F11),INDEX($I$3:$N$52,$B11,'Tables (statistics)'!$H$149),"") | I11: =IFERROR(F11,"") | J11: =IF(AND(ISNUMBER($F11),$F11>0),IF($E11=1,$F11/SQRT(2),$F11),"") | K11: =IF(AND(ISNUMBER($F11),$F11>0),IF($E11=1,$F11/2,$F11),"") | L11: =Beta!G13 | M11: =Beta!K13 | N11: =Beta!H13 | O11: =Beta!I13 | P11: =IFERROR(LN(G11),"") | Q11: =IFERROR(LN(F11),"") | V11: Normal | W11: Mean (AM) | X11: =IF($X$1<2,"",IF($X$3<2,"N/A",AVERAGE($F$3:$F$52))) -> 9.4125 | Y11: =IF($X$1<2,"",AVERAGE($G$3:$G$52)) -> 9.4125
B12: =Survey!L15 -> 10 | C12: =IF(Survey!M15="","",Survey!M15) | D12: =Survey!N15 -> 0 | E12: =IF(LEFT(C12,1)="<",1,IF(ISNUMBER(LEFT(C12,1)+0),2,0)) -> 0 | F12: {=IF(Survey!$F$13=INDEX(Tekst!$B$1:$U$300,259,Tabeller!$C$28),IF(E12=1,(RIGHT(C12,LEN(C12)-1)+0)*Survey!$E$13,IF(E12=2,C12*Survey!$E$13,"")),IF(E12=1,((RIGHT(C12,LEN(C12)-1)+0)*Survey!$E$13)/(D12/1000),IF(E12=2,(C12*Survey!$E$13)/(D12/1000),"")))} | G12: =IF(ISNUMBER($F12),INDEX($I$3:$N$52,$B12,'Tables (statistics)'!$H$149),"") | I12: =IFERROR(F12,"") | J12: =IF(AND(ISNUMBER($F12),$F12>0),IF($E12=1,$F12/SQRT(2),$F12),"") | K12: =IF(AND(ISNUMBER($F12),$F12>0),IF($E12=1,$F12/2,$F12),"") | L12: =Beta!G14 | M12: =Beta!K14 | N12: =Beta!H14 | O12: =Beta!I14 | P12: =IFERROR(LN(G12),"") | Q12: =IFERROR(LN(F12),"") | W12: Standard Deviation (SD) | X12: =IF($X$1<3,"",IF($X$3<2,"N/A",_xlfn.STDEV.S($F$3:$F$52))) -> 8.1553554 | Y12: =IF($X$1<2,"",_xlfn.STDEV.S($G$3:$G$52)) -> 8.1553554
B13: =Survey!L16 -> 11 | C13: =IF(Survey!M16="","",Survey!M16) | D13: =Survey!N16 -> 0 | E13: =IF(LEFT(C13,1)="<",1,IF(ISNUMBER(LEFT(C13,1)+0),2,0)) -> 0 | F13: {=IF(Survey!$F$13=INDEX(Tekst!$B$1:$U$300,259,Tabeller!$C$28),IF(E13=1,(RIGHT(C13,LEN(C13)-1)+0)*Survey!$E$13,IF(E13=2,C13*Survey!$E$13,"")),IF(E13=1,((RIGHT(C13,LEN(C13)-1)+0)*Survey!$E$13)/(D13/1000),IF(E13=2,(C13*Survey!$E$13)/(D13/1000),"")))} | G13: =IF(ISNUMBER($F13),INDEX($I$3:$N$52,$B13,'Tables (statistics)'!$H$149),"") | I13: =IFERROR(F13,"") | J13: =IF(AND(ISNUMBER($F13),$F13>0),IF($E13=1,$F13/SQRT(2),$F13),"") | K13: =IF(AND(ISNUMBER($F13),$F13>0),IF($E13=1,$F13/2,$F13),"") | L13: =Beta!G15 | M13: =Beta!K15 | N13: =Beta!H15 | O13: =Beta!I15 | P13: =IFERROR(LN(G13),"") | Q13: =IFERROR(LN(F13),"") | W13: Mean (AM) | Y13: =IF($X$1<2,"",IF(AC2<>4,"",Beta!Q12))
B14: =Survey!L17 -> 12 | C14: =IF(Survey!M17="","",Survey!M17) | D14: =Survey!N17 -> 0 | E14: =IF(LEFT(C14,1)="<",1,IF(ISNUMBER(LEFT(C14,1)+0),2,0)) -> 0 | F14: {=IF(Survey!$F$13=INDEX(Tekst!$B$1:$U$300,259,Tabeller!$C$28),IF(E14=1,(RIGHT(C14,LEN(C14)-1)+0)*Survey!$E$13,IF(E14=2,C14*Survey!$E$13,"")),IF(E14=1,((RIGHT(C14,LEN(C14)-1)+0)*Survey!$E$13)/(D14/1000),IF(E14=2,(C14*Survey!$E$13)/(D14/1000),"")))} | G14: =IF(ISNUMBER($F14),INDEX($I$3:$N$52,$B14,'Tables (statistics)'!$H$149),"") | I14: =IFERROR(F14,"") | J14: =IF(AND(ISNUMBER($F14),$F14>0),IF($E14=1,$F14/SQRT(2),$F14),"") | K14: =IF(AND(ISNUMBER($F14),$F14>0),IF($E14=1,$F14/2,$F14),"") | L14: =Beta!G16 | M14: =Beta!K16 | N14: =Beta!H16 | O14: =Beta!I16 | P14: =IFERROR(LN(G14),"") | Q14: =IFERROR(LN(F14),"") | V14: Log-normal | W14: Mean (GM) | X14: =IF($X$1<3,"",IF($X$3<2,"N/A",EXP(AVERAGE($Q$3:$Q$52)))) -> 6.1881112 | Y14: =IF($X$1<2,"",IF(AC2<>4,EXP(AVERAGE($P$3:$P$52)),Beta!$Q$14)) -> 6.1881112
B15: =Survey!L18 -> 13 | C15: =IF(Survey!M18="","",Survey!M18) | D15: =Survey!N18 -> 0 | E15: =IF(LEFT(C15,1)="<",1,IF(ISNUMBER(LEFT(C15,1)+0),2,0)) -> 0 | F15: {=IF(Survey!$F$13=INDEX(Tekst!$B$1:$U$300,259,Tabeller!$C$28),IF(E15=1,(RIGHT(C15,LEN(C15)-1)+0)*Survey!$E$13,IF(E15=2,C15*Survey!$E$13,"")),IF(E15=1,((RIGHT(C15,LEN(C15)-1)+0)*Survey!$E$13)/(D15/1000),IF(E15=2,(C15*Survey!$E$13)/(D15/1000),"")))} | G15: =IF(ISNUMBER($F15),INDEX($I$3:$N$52,$B15,'Tables (statistics)'!$H$149),"") | I15: =IFERROR(F15,"") | J15: =IF(AND(ISNUMBER($F15),$F15>0),IF($E15=1,$F15/SQRT(2),$F15),"") | K15: =IF(AND(ISNUMBER($F15),$F15>0),IF($E15=1,$F15/2,$F15),"") | L15: =Beta!G17 | M15: =Beta!K17 | N15: =Beta!H17 | O15: =Beta!I17 | P15: =IFERROR(LN(G15),"") | Q15: =IFERROR(LN(F15),"") | W15: Standard Deviation (GSD) | X15: =IF($X$1=0,"",IF($X$3<2,"N/A",EXP(_xlfn.STDEV.S($Q$3:$Q$52)))) -> 2.8186527 | Y15: =IF($X$1<2,"",IF(($Y$11/$Y$14)<=1,1,IF(OR(AC2<>4,X2=0),EXP(_xlfn.STDEV.S($P$3:$P$52)),Beta!$Q$15))) -> 2.8186527
B16: =Survey!L19 -> 14 | C16: =IF(Survey!M19="","",Survey!M19) | D16: =Survey!N19 -> 0 | E16: =IF(LEFT(C16,1)="<",1,IF(ISNUMBER(LEFT(C16,1)+0),2,0)) -> 0 | F16: {=IF(Survey!$F$13=INDEX(Tekst!$B$1:$U$300,259,Tabeller!$C$28),IF(E16=1,(RIGHT(C16,LEN(C16)-1)+0)*Survey!$E$13,IF(E16=2,C16*Survey!$E$13,"")),IF(E16=1,((RIGHT(C16,LEN(C16)-1)+0)*Survey!$E$13)/(D16/1000),IF(E16=2,(C16*Survey!$E$13)/(D16/1000),"")))} | G16: =IF(ISNUMBER($F16),INDEX($I$3:$N$52,$B16,'Tables (statistics)'!$H$149),"") | I16: =IFERROR(F16,"") | J16: =IF(AND(ISNUMBER($F16),$F16>0),IF($E16=1,$F16/SQRT(2),$F16),"") | K16: =IF(AND(ISNUMBER($F16),$F16>0),IF($E16=1,$F16/2,$F16),"") | L16: =Beta!G18 | M16: =Beta!K18 | N16: =Beta!H18 | O16: =Beta!I18 | P16: =IFERROR(LN(G16),"") | Q16: =IFERROR(LN(F16),"")
B17: =Survey!L20 -> 15 | C17: =IF(Survey!M20="","",Survey!M20) | D17: =Survey!N20 -> 0 | E17: =IF(LEFT(C17,1)="<",1,IF(ISNUMBER(LEFT(C17,1)+0),2,0)) -> 0 | F17: {=IF(Survey!$F$13=INDEX(Tekst!$B$1:$U$300,259,Tabeller!$C$28),IF(E17=1,(RIGHT(C17,LEN(C17)-1)+0)*Survey!$E$13,IF(E17=2,C17*Survey!$E$13,"")),IF(E17=1,((RIGHT(C17,LEN(C17)-1)+0)*Survey!$E$13)/(D17/1000),IF(E17=2,(C17*Survey!$E$13)/(D17/1000),"")))} | G17: =IF(ISNUMBER($F17),INDEX($I$3:$N$52,$B17,'Tables (statistics)'!$H$149),"") | I17: =IFERROR(F17,"") | J17: =IF(AND(ISNUMBER($F17),$F17>0),IF($E17=1,$F17/SQRT(2),$F17),"") | K17: =IF(AND(ISNUMBER($F17),$F17>0),IF($E17=1,$F17/2,$F17),"") | L17: =Beta!G19 | M17: =Beta!K19 | N17: =Beta!H19 | O17: =Beta!I19 | P17: =IFERROR(LN(G17),"") | Q17: =IFERROR(LN(F17),"")
B18: =Survey!L21 -> 16 | C18: =IF(Survey!M21="","",Survey!M21) | D18: =Survey!N21 -> 0 | E18: =IF(LEFT(C18,1)="<",1,IF(ISNUMBER(LEFT(C18,1)+0),2,0)) -> 0 | F18: {=IF(Survey!$F$13=INDEX(Tekst!$B$1:$U$300,259,Tabeller!$C$28),IF(E18=1,(RIGHT(C18,LEN(C18)-1)+0)*Survey!$E$13,IF(E18=2,C18*Survey!$E$13,"")),IF(E18=1,((RIGHT(C18,LEN(C18)-1)+0)*Survey!$E$13)/(D18/1000),IF(E18=2,(C18*Survey!$E$13)/(D18/1000),"")))} | G18: =IF(ISNUMBER($F18),INDEX($I$3:$N$52,$B18,'Tables (statistics)'!$H$149),"") | I18: =IFERROR(F18,"") | J18: =IF(AND(ISNUMBER($F18),$F18>0),IF($E18=1,$F18/SQRT(2),$F18),"") | K18: =IF(AND(ISNUMBER($F18),$F18>0),IF($E18=1,$F18/2,$F18),"") | L18: =Beta!G20 | M18: =Beta!K20 | N18: =Beta!H20 | O18: =Beta!I20 | P18: =IFERROR(LN(G18),"") | Q18: =IFERROR(LN(F18),"")
B19: =Survey!L22 -> 17 | C19: =IF(Survey!M22="","",Survey!M22) | D19: =Survey!N22 -> 0 | E19: =IF(LEFT(C19,1)="<",1,IF(ISNUMBER(LEFT(C19,1)+0),2,0)) -> 0 | F19: {=IF(Survey!$F$13=INDEX(Tekst!$B$1:$U$300,259,Tabeller!$C$28),IF(E19=1,(RIGHT(C19,LEN(C19)-1)+0)*Survey!$E$13,IF(E19=2,C19*Survey!$E$13,"")),IF(E19=1,((RIGHT(C19,LEN(C19)-1)+0)*Survey!$E$13)/(D19/1000),IF(E19=2,(C19*Survey!$E$13)/(D19/1000),"")))} | G19: =IF(ISNUMBER($F19),INDEX($I$3:$N$52,$B19,'Tables (statistics)'!$H$149),"") | I19: =IFERROR(F19,"") | J19: =IF(AND(ISNUMBER($F19),$F19>0),IF($E19=1,$F19/SQRT(2),$F19),"") | K19: =IF(AND(ISNUMBER($F19),$F19>0),IF($E19=1,$F19/2,$F19),"") | L19: =Beta!G21 | M19: =Beta!K21 | N19: =Beta!H21 | O19: =Beta!I21 | P19: =IFERROR(LN(G19),"") | Q19: =IFERROR(LN(F19),"")
B20: =Survey!L23 -> 18 | C20: =IF(Survey!M23="","",Survey!M23) | D20: =Survey!N23 -> 0 | E20: =IF(LEFT(C20,1)="<",1,IF(ISNUMBER(LEFT(C20,1)+0),2,0)) -> 0 | F20: {=IF(Survey!$F$13=INDEX(Tekst!$B$1:$U$300,259,Tabeller!$C$28),IF(E20=1,(RIGHT(C20,LEN(C20)-1)+0)*Survey!$E$13,IF(E20=2,C20*Survey!$E$13,"")),IF(E20=1,((RIGHT(C20,LEN(C20)-1)+0)*Survey!$E$13)/(D20/1000),IF(E20=2,(C20*Survey!$E$13)/(D20/1000),"")))} | G20: =IF(ISNUMBER($F20),INDEX($I$3:$N$52,$B20,'Tables (statistics)'!$H$149),"") | I20: =IFERROR(F20,"") | J20: =IF(AND(ISNUMBER($F20),$F20>0),IF($E20=1,$F20/SQRT(2),$F20),"") | K20: =IF(AND(ISNUMBER($F20),$F20>0),IF($E20=1,$F20/2,$F20),"") | L20: =Beta!G22 | M20: =Beta!K22 | N20: =Beta!H22 | O20: =Beta!I22 | P20: =IFERROR(LN(G20),"") | Q20: =IFERROR(LN(F20),"")
B21: =Survey!L24 -> 19 | C21: =IF(Survey!M24="","",Survey!M24) | D21: =Survey!N24 -> 0 | E21: =IF(LEFT(C21,1)="<",1,IF(ISNUMBER(LEFT(C21,1)+0),2,0)) -> 0 | F21: {=IF(Survey!$F$13=INDEX(Tekst!$B$1:$U$300,259,Tabeller!$C$28),IF(E21=1,(RIGHT(C21,LEN(C21)-1)+0)*Survey!$E$13,IF(E21=2,C21*Survey!$E$13,"")),IF(E21=1,((RIGHT(C21,LEN(C21)-1)+0)*Survey!$E$13)/(D21/1000),IF(E21=2,(C21*Survey!$E$13)/(D21/1000),"")))} | G21: =IF(ISNUMBER($F21),INDEX($I$3:$N$52,$B21,'Tables (statistics)'!$H$149),"") | I21: =IFERROR(F21,"") | J21: =IF(AND(ISNUMBER($F21),$F21>0),IF($E21=1,$F21/SQRT(2),$F21),"") | K21: =IF(AND(ISNUMBER($F21),$F21>0),IF($E21=1,$F21/2,$F21),"") | L21: =Beta!G23 | M21: =Beta!K23 | N21: =Beta!H23 | O21: =Beta!I23 | P21: =IFERROR(LN(G21),"") | Q21: =IFERROR(LN(F21),"")
B22: =Survey!L25 -> 20 | C22: =IF(Survey!M25="","",Survey!M25) | D22: =Survey!N25 -> 0 | E22: =IF(LEFT(C22,1)="<",1,IF(ISNUMBER(LEFT(C22,1)+0),2,0)) -> 0 | F22: {=IF(Survey!$F$13=INDEX(Tekst!$B$1:$U$300,259,Tabeller!$C$28),IF(E22=1,(RIGHT(C22,LEN(C22)-1)+0)*Survey!$E$13,IF(E22=2,C22*Survey!$E$13,"")),IF(E22=1,((RIGHT(C22,LEN(C22)-1)+0)*Survey!$E$13)/(D22/1000),IF(E22=2,(C22*Survey!$E$13)/(D22/1000),"")))} | G22: =IF(ISNUMBER($F22),INDEX($I$3:$N$52,$B22,'Tables (statistics)'!$H$149),"") | I22: =IFERROR(F22,"") | J22: =IF(AND(ISNUMBER($F22),$F22>0),IF($E22=1,$F22/SQRT(2),$F22),"") | K22: =IF(AND(ISNUMBER($F22),$F22>0),IF($E22=1,$F22/2,$F22),"") | L22: =Beta!G24 | M22: =Beta!K24 | N22: =Beta!H24 | O22: =Beta!I24 | P22: =IFERROR(LN(G22),"") | Q22: =IFERROR(LN(F22),"")
B23: =Survey!L26 -> 21 | C23: =IF(Survey!M26="","",Survey!M26) | D23: =Survey!N26 -> 0 | E23: =IF(LEFT(C23,1)="<",1,IF(ISNUMBER(LEFT(C23,1)+0),2,0)) -> 0 | F23: {=IF(Survey!$F$13=INDEX(Tekst!$B$1:$U$300,259,Tabeller!$C$28),IF(E23=1,(RIGHT(C23,LEN(C23)-1)+0)*Survey!$E$13,IF(E23=2,C23*Survey!$E$13,"")),IF(E23=1,((RIGHT(C23,LEN(C23)-1)+0)*Survey!$E$13)/(D23/1000),IF(E23=2,(C23*Survey!$E$13)/(D23/1000),"")))} | G23: =IF(ISNUMBER($F23),INDEX($I$3:$N$52,$B23,'Tables (statistics)'!$H$149),"") | I23: =IFERROR(F23,"") | J23: =IF(AND(ISNUMBER($F23),$F23>0),IF($E23=1,$F23/SQRT(2),$F23),"") | K23: =IF(AND(ISNUMBER($F23),$F23>0),IF($E23=1,$F23/2,$F23),"") | L23: =Beta!G25 | M23: =Beta!K25 | N23: =Beta!H25 | O23: =Beta!I25 | P23: =IFERROR(LN(G23),"") | Q23: =IFERROR(LN(F23),"")
B24: =Survey!L27 -> 22 | C24: =IF(Survey!M27="","",Survey!M27) | D24: =Survey!N27 -> 0 | E24: =IF(LEFT(C24,1)="<",1,IF(ISNUMBER(LEFT(C24,1)+0),2,0)) -> 0 | F24: {=IF(Survey!$F$13=INDEX(Tekst!$B$1:$U$300,259,Tabeller!$C$28),IF(E24=1,(RIGHT(C24,LEN(C24)-1)+0)*Survey!$E$13,IF(E24=2,C24*Survey!$E$13,"")),IF(E24=1,((RIGHT(C24,LEN(C24)-1)+0)*Survey!$E$13)/(D24/1000),IF(E24=2,(C24*Survey!$E$13)/(D24/1000),"")))} | G24: =IF(ISNUMBER($F24),INDEX($I$3:$N$52,$B24,'Tables (statistics)'!$H$149),"") | I24: =IFERROR(F24,"") | J24: =IF(AND(ISNUMBER($F24),$F24>0),IF($E24=1,$F24/SQRT(2),$F24),"") | K24: =IF(AND(ISNUMBER($F24),$F24>0),IF($E24=1,$F24/2,$F24),"") | L24: =Beta!G26 | M24: =Beta!K26 | N24: =Beta!H26 | O24: =Beta!I26 | P24: =IFERROR(LN(G24),"") | Q24: =IFERROR(LN(F24),"")
B25: =Survey!L28 -> 23 | C25: =IF(Survey!M28="","",Survey!M28) | D25: =Survey!N28 -> 0 | E25: =IF(LEFT(C25,1)="<",1,IF(ISNUMBER(LEFT(C25,1)+0),2,0)) -> 0 | F25: {=IF(Survey!$F$13=INDEX(Tekst!$B$1:$U$300,259,Tabeller!$C$28),IF(E25=1,(RIGHT(C25,LEN(C25)-1)+0)*Survey!$E$13,IF(E25=2,C25*Survey!$E$13,"")),IF(E25=1,((RIGHT(C25,LEN(C25)-1)+0)*Survey!$E$13)/(D25/1000),IF(E25=2,(C25*Survey!$E$13)/(D25/1000),"")))} | G25: =IF(ISNUMBER($F25),INDEX($I$3:$N$52,$B25,'Tables (statistics)'!$H$149),"") | I25: =IFERROR(F25,"") | J25: =IF(AND(ISNUMBER($F25),$F25>0),IF($E25=1,$F25/SQRT(2),$F25),"") | K25: =IF(AND(ISNUMBER($F25),$F25>0),IF($E25=1,$F25/2,$F25),"") | L25: =Beta!G27 | M25: =Beta!K27 | N25: =Beta!H27 | O25: =Beta!I27 | P25: =IFERROR(LN(G25),"") | Q25: =IFERROR(LN(F25),"")
B26: =Survey!L29 -> 24 | C26: =IF(Survey!M29="","",Survey!M29) | D26: =Survey!N29 -> 0 | E26: =IF(LEFT(C26,1)="<",1,IF(ISNUMBER(LEFT(C26,1)+0),2,0)) -> 0 | F26: {=IF(Survey!$F$13=INDEX(Tekst!$B$1:$U$300,259,Tabeller!$C$28),IF(E26=1,(RIGHT(C26,LEN(C26)-1)+0)*Survey!$E$13,IF(E26=2,C26*Survey!$E$13,"")),IF(E26=1,((RIGHT(C26,LEN(C26)-1)+0)*Survey!$E$13)/(D26/1000),IF(E26=2,(C26*Survey!$E$13)/(D26/1000),"")))} | G26: =IF(ISNUMBER($F26),INDEX($I$3:$N$52,$B26,'Tables (statistics)'!$H$149),"") | I26: =IFERROR(F26,"") | J26: =IF(AND(ISNUMBER($F26),$F26>0),IF($E26=1,$F26/SQRT(2),$F26),"") | K26: =IF(AND(ISNUMBER($F26),$F26>0),IF($E26=1,$F26/2,$F26),"") | L26: =Beta!G28 | M26: =Beta!K28 | N26: =Beta!H28 | O26: =Beta!I28 | P26: =IFERROR(LN(G26),"") | Q26: =IFERROR(LN(F26),"")
B27: =Survey!L30 -> 25 | C27: =IF(Survey!M30="","",Survey!M30) | D27: =Survey!N30 -> 0 | E27: =IF(LEFT(C27,1)="<",1,IF(ISNUMBER(LEFT(C27,1)+0),2,0)) -> 0 | F27: {=IF(Survey!$F$13=INDEX(Tekst!$B$1:$U$300,259,Tabeller!$C$28),IF(E27=1,(RIGHT(C27,LEN(C27)-1)+0)*Survey!$E$13,IF(E27=2,C27*Survey!$E$13,"")),IF(E27=1,((RIGHT(C27,LEN(C27)-1)+0)*Survey!$E$13)/(D27/1000),IF(E27=2,(C27*Survey!$E$13)/(D27/1000),"")))} | G27: =IF(ISNUMBER($F27),INDEX($I$3:$N$52,$B27,'Tables (statistics)'!$H$149),"") | I27: =IFERROR(F27,"") | J27: =IF(AND(ISNUMBER($F27),$F27>0),IF($E27=1,$F27/SQRT(2),$F27),"") | K27: =IF(AND(ISNUMBER($F27),$F27>0),IF($E27=1,$F27/2,$F27),"") | L27: =Beta!G29 | M27: =Beta!K29 | N27: =Beta!H29 | O27: =Beta!I29 | P27: =IFERROR(LN(G27),"") | Q27: =IFERROR(LN(F27),"")
... B52: =Survey!L55 -> 50 | C52: =IF(Survey!M55="","",Survey!M55) | D52: =Survey!N55 -> 0 | E52: =IF(LEFT(C52,1)="<",1,IF(ISNUMBER(LEFT(C52,1)+0),2,0)) -> 0 | F52: {=IF(Survey!$F$13=INDEX(Tekst!$B$1:$U$300,259,Tabeller!$C$28),IF(E52=1,(RIGHT(C52,LEN(C52)-1)+0)*Survey!$E$13,IF(E52=2,C52*Survey!$E$13,"")),IF(E52=1,((RIGHT(C52,LEN(C52)-1)+0)*Survey!$E$13)/(D52/1000),IF(E52=2,(C52*Survey!$E$13)/(D52/1000),"")))} | G52: =IF(ISNUMBER($F52),INDEX($I$3:$N$52,$B52,'Tables (statistics)'!$H$149),"") | I52: =IFERROR(F52,"") | J52: =IF(AND(ISNUMBER($F52),$F52>0),IF($E52=1,$F52/SQRT(2),$F52),"") | K52: =IF(AND(ISNUMBER($F52),$F52>0),IF($E52=1,$F52/2,$F52),"") | L52: =Beta!G54 | M52: =Beta!K54 | N52: =Beta!H54 | O52: =Beta!I54 | P52: =IFERROR(LN(G52),"") | Q52: =IFERROR(LN(F52),"")

Sheet Calc (W-test)
B1: Calc (W-test)
R2: Accept normal or log-normal | U2: Suggested conclusion
B3: d | C3: =($F$4^2)*(Calc!$X$3-1) -> 465.56875 | E3: AM | F3: =AVERAGE($F$9:$F$58) -> 9.4125 | H3: =AVERAGE($H$9:$H$58) -> 1.8226299 | R3: Normal | S3: =HLOOKUP(0.05,'Tables (statistics)'!$B$37:$G$86,Calc!$X$1) -> 0.818 | T3: =IF(OR($C$5="",Calc!$X$3<3),"",IF($C$5<=$S$3,"Nei","Ja")) -> Ja | U3: =IF(AND(Calc!$X$1>2,Calc!$X$1<6),IF(Calc!$X$7>=IF(Survey!E11="",Survey!$E$12,Survey!$E$11),"K1",IF((Calc!$X$7/IF(Survey!E11="",Survey!$E$12,Survey!$E$11))>INDEX('Tables (statistics)'!$B$142:$D$144,MATCH(Calc!$X$1,'Tables (statistics)'!$B$142:$B$144,0),3),"K2","K3")),"K4") -> K4
B4: k | C4: =INT(Calc!$X$3/2) -> 4 | E4: SD | F4: =STDEV($F$9:$F$58) -> 8.1553554 | H4: =STDEV($H$9:$H$58) -> 1.036259 | R4: Lognormal | S4: =$S$3 -> 0.818 | T4: =IF(OR($C$6="",Calc!$X$3<3),"",IF($C$6<=$S$4,"Nei","Ja")) -> Ja | U4: =IF(Calc!$X$1<6,"N/A",IF(MAXA(Calc!$X$7,Calc!$Y$7)>=Survey!E11,"K11",IF(OR(AND(Analysis!$K$9="Nei",Analysis!$J$9="Nei"),AND(Analysis!$K$8="N/A",Analysis!$J$8="N/A")),"K12",IF('Stats - distribution'!$H$4>5,IF(Analysis!$K$17>=Survey!E11,"K13","K14"),"K15")))) -> K13
B5: w | C5: =IF(OR(ISERROR($O$6),Calc!$X$3<3),"",($O$6^2)/$C$3) -> 0.82343296 | E5: GM | H5: =EXP($H$3) -> 6.1881112
B6: w (ln-data) | C6: =IF(OR(ISERROR($P$6),Calc!$X$3<3),"",($P$6^2)/(($H$4^2)*(Calc!$X$3-1))) -> 0.88115971 | E6: GSD | H6: =EXP($H$4) -> 2.8186527 | N6: Sum | O6: =SUM($O$9:$O$58) -> 19.5797 | P6: =SUM($P$9:$P$58) -> 2.5736213
E7: From Beta
B8: i | C8: ai | F8: x | G8: min->max (x) | H8: ln(x) | J8: xn-i+1 | K8: ln(xn-i+1) | L8: xi | M8: ln(xi) | O8: ai(xn-i+1-xi) | P8: ai(ln(xn-i+1)-ln(xi)) | AE8: Support
B9: =IF($C$4=0,"",1) -> 1 | C9: =IFERROR(VLOOKUP($B9,'Tables (statistics)'!$B$5:$AW$30,Calc!$X$3,FALSE),"") -> 0.6052 | E9: 1 | F9: =IF(AND(ISNUMBER(Beta!$E5),Calc!$X$3>0),Beta!$E5,"") -> 21 | G9: =IF($E9<Calc!$X$3+1,SMALL($F$9:$F$58,$E9),"") -> 1.7 | H9: =IF(ISNUMBER($G9),LN($G9),"") -> 0.53062825 | J9: =IFERROR(IF($B9<$C$4+1,LARGE($G$9:$G$58,$B9),NA()),"") -> 21 | K9: =IF($J9<>"",LN($J9),"") -> 3.0445224 | L9: =IFERROR(IF($B9<$C$4+1,SMALL($G$9:$G$58,$B9),NA()),"") -> 1.7 | M9: =IF($L9<>"",LN($L9),"") -> 0.53062825 | O9: =IF($B9="","",$C9*($J9-$L9)) -> 11.68036 | P9: =IF($B9="","",$C9*($K9-$M9)) -> 1.5214088 | AE9: =IFERROR(LN(Survey!#REF!),"") | AG9: Mean (y) | AH9: =AVERAGE($AE$9:$AE$58) -> #DIV/0!
B10: =IF(B9<$C$4,B9+1,"") -> 2 | C10: =IFERROR(VLOOKUP($B10,'Tables (statistics)'!$B$5:$AW$30,Calc!$X$3,FALSE),"") -> 0.3164 | E10: 2 | F10: =IF(AND(ISNUMBER(Beta!$E6),Calc!$X$3>0),Beta!$E6,"") -> 1.9 | G10: =IF($E10<Calc!$X$3+1,SMALL($F$9:$F$58,$E10),"") -> 1.9 | H10: =IF(ISNUMBER($G10),LN($G10),"") -> 0.64185389 | J10: =IFERROR(IF($B10<$C$4+1,LARGE($G$9:$G$58,$B10),NA()),"") -> 18.9 | K10: =IF($J10<>"",LN($J10),"") -> 2.9391619 | L10: =IFERROR(IF($B10<$C$4+1,SMALL($G$9:$G$58,$B10),NA()),"") -> 1.9 | M10: =IF($L10<>"",LN($L10),"") -> 0.64185389 | O10: =IF($B10="","",$C10*($J10-$L10)) -> 5.3788 | P10: =IF($B10="","",$C10*($K10-$M10)) -> 0.72686826 | AE10: =IFERROR(LN(Survey!#REF!),"") | AG10: Standard Deviation (s_y) | AH10: =STDEV($AE$9:$AE$32) -> #DIV/0!
B11: =IF(B10<$C$4,B10+1,"") -> 3 | C11: =IFERROR(VLOOKUP($B11,'Tables (statistics)'!$B$5:$AW$30,Calc!$X$3,FALSE),"") -> 0.1743 | E11: 3 | F11: =IF(AND(ISNUMBER(Beta!$E7),Calc!$X$3>0),Beta!$E7,"") -> 5.8 | G11: =IF($E11<Calc!$X$3+1,SMALL($F$9:$F$58,$E11),"") -> 2.7 | H11: =IF(ISNUMBER($G11),LN($G11),"") -> 0.99325177 | J11: =IFERROR(IF($B11<$C$4+1,LARGE($G$9:$G$58,$B11),NA()),"") -> 17 | K11: =IF($J11<>"",LN($J11),"") -> 2.8332133 | L11: =IFERROR(IF($B11<$C$4+1,SMALL($G$9:$G$58,$B11),NA()),"") -> 2.7 | M11: =IF($L11<>"",LN($L11),"") -> 0.99325177 | O11: =IF($B11="","",$C11*($J11-$L11)) -> 2.49249 | P11: =IF($B11="","",$C11*($K11-$M11)) -> 0.3207053 | U11: K1 | V11: Eksponeringen over grenseverdi. Tiltak nødvendig | W11: Exposure above OEL. Mitigation needed. | AE11: =IFERROR(LN(Survey!#REF!),"")
B12: =IF(B11<$C$4,B11+1,"") -> 4 | C12: =IFERROR(VLOOKUP($B12,'Tables (statistics)'!$B$5:$AW$30,Calc!$X$3,FALSE),"") -> 0.0561 | E12: 4 | F12: =IF(AND(ISNUMBER(Beta!$E8),Calc!$X$3>0),Beta!$E8,"") -> 17 | G12: =IF($E12<Calc!$X$3+1,SMALL($F$9:$F$58,$E12),"") -> 5.8 | H12: =IF(ISNUMBER($G12),LN($G12),"") -> 1.7578579 | J12: =IFERROR(IF($B12<$C$4+1,LARGE($G$9:$G$58,$B12),NA()),"") -> 6.3 | K12: =IF($J12<>"",LN($J12),"") -> 1.8405496 | L12: =IFERROR(IF($B12<$C$4+1,SMALL($G$9:$G$58,$B12),NA()),"") -> 5.8 | M12: =IF($L12<>"",LN($L12),"") -> 1.7578579 | O12: =IF($B12="","",$C12*($J12-$L12)) -> 0.02805 | P12: =IF($B12="","",$C12*($K12-$M12)) -> 0.0046390053 | U12: K2 | V12: Overeksponering kan ikke utelukkes. Tiltak / detaljert kartlegging nødvendig | W12: Over exposure cannot be ruled out. Mitigation / detailed assessment needed. | AE12: =IFERROR(LN(Survey!#REF!),"")
B13: =IF(B12<$C$4,B12+1,"") | C13: =IFERROR(VLOOKUP($B13,'Tables (statistics)'!$B$5:$AW$30,Calc!$X$3,FALSE),"") | E13: 5 | F13: =IF(AND(ISNUMBER(Beta!$E9),Calc!$X$3>0),Beta!$E9,"") -> 1.7 | G13: =IF($E13<Calc!$X$3+1,SMALL($F$9:$F$58,$E13),"") -> 6.3 | H13: =IF(ISNUMBER($G13),LN($G13),"") -> 1.8405496 | J13: =IFERROR(IF($B13<$C$4+1,LARGE($G$9:$G$58,$B13),NA()),"") | K13: =IF($J13<>"",LN($J13),"") | L13: =IFERROR(IF($B13<$C$4+1,SMALL($G$9:$G$58,$B13),NA()),"") | M13: =IF($L13<>"",LN($L13),"") | O13: =IF($B13="","",$C13*($J13-$L13)) | P13: =IF($B13="","",$C13*($K13-$M13)) | U13: K3 | V13: Eksponeringen kan trolig ansees som akseptabel | W13: The exposure is assumed to be acceptable | AE13: =IFERROR(LN(Survey!#REF!),"")
B14: =IF(B13<$C$4,B13+1,"") | C14: =IFERROR(VLOOKUP($B14,'Tables (statistics)'!$B$5:$AW$30,Calc!$X$3,FALSE),"") | E14: 6 | F14: =IF(AND(ISNUMBER(Beta!$E10),Calc!$X$3>0),Beta!$E10,"") -> 2.7 | G14: =IF($E14<Calc!$X$3+1,SMALL($F$9:$F$58,$E14),"") -> 17 | H14: =IF(ISNUMBER($G14),LN($G14),"") -> 2.8332133 | J14: =IFERROR(IF($B14<$C$4+1,LARGE($G$9:$G$58,$B14),NA()),"") | K14: =IF($J14<>"",LN($J14),"") | L14: =IFERROR(IF($B14<$C$4+1,SMALL($G$9:$G$58,$B14),NA()),"") | M14: =IF($L14<>"",LN($L14),"") | O14: =IF($B14="","",$C14*($J14-$L14)) | P14: =IF($B14="","",$C14*($K14-$M14)) | U14: K4 | V14: N/A | W14: N/A | AE14: =IFERROR(LN(Survey!#REF!),"")
B15: =IF(B14<$C$4,B14+1,"") | C15: =IFERROR(VLOOKUP($B15,'Tables (statistics)'!$B$5:$AW$30,Calc!$X$3,FALSE),"") | E15: 7 | F15: =IF(AND(ISNUMBER(Beta!$E11),Calc!$X$3>0),Beta!$E11,"") -> 6.3 | G15: =IF($E15<Calc!$X$3+1,SMALL($F$9:$F$58,$E15),"") -> 18.9 | H15: =IF(ISNUMBER($G15),LN($G15),"") -> 2.9391619 | J15: =IFERROR(IF($B15<$C$4+1,LARGE($G$9:$G$58,$B15),NA()),"") | K15: =IF($J15<>"",LN($J15),"") | L15: =IFERROR(IF($B15<$C$4+1,SMALL($G$9:$G$58,$B15),NA()),"") | M15: =IF($L15<>"",LN($L15),"") | O15: =IF($B15="","",$C15*($J15-$L15)) | P15: =IF($B15="","",$C15*($K15-$M15)) | AE15: =IFERROR(LN(Survey!#REF!),"")
B16: =IF(B15<$C$4,B15+1,"") | C16: =IFERROR(VLOOKUP($B16,'Tables (statistics)'!$B$5:$AW$30,Calc!$X$3,FALSE),"") | E16: 8 | F16: =IF(AND(ISNUMBER(Beta!$E12),Calc!$X$3>0),Beta!$E12,"") -> 18.9 | G16: =IF($E16<Calc!$X$3+1,SMALL($F$9:$F$58,$E16),"") -> 21 | H16: =IF(ISNUMBER($G16),LN($G16),"") -> 3.0445224 | J16: =IFERROR(IF($B16<$C$4+1,LARGE($G$9:$G$58,$B16),NA()),"") | K16: =IF($J16<>"",LN($J16),"") | L16: =IFERROR(IF($B16<$C$4+1,SMALL($G$9:$G$58,$B16),NA()),"") | M16: =IF($L16<>"",LN($L16),"") | O16: =IF($B16="","",$C16*($J16-$L16)) | P16: =IF($B16="","",$C16*($K16-$M16)) | AE16: =IFERROR(LN(Survey!#REF!),"")
B17: =IF(B16<$C$4,B16+1,"") | C17: =IFERROR(VLOOKUP($B17,'Tables (statistics)'!$B$5:$AW$30,Calc!$X$3,FALSE),"") | E17: 9 | F17: =IF(AND(ISNUMBER(Beta!$E13),Calc!$X$3>0),Beta!$E13,"") | G17: =IF($E17<Calc!$X$3+1,SMALL($F$9:$F$58,$E17),"") | H17: =IF(ISNUMBER($G17),LN($G17),"") | J17: =IFERROR(IF($B17<$C$4+1,LARGE($G$9:$G$58,$B17),NA()),"") | K17: =IF($J17<>"",LN($J17),"") | L17: =IFERROR(IF($B17<$C$4+1,SMALL($G$9:$G$58,$B17),NA()),"") | M17: =IF($L17<>"",LN($L17),"") | O17: =IF($B17="","",$C17*($J17-$L17)) | P17: =IF($B17="","",$C17*($K17-$M17)) | V17: Antatt fordeling | W17: Assumed distribution: | AE17: =IFERROR(LN(Survey!#REF!),"")
B18: =IF(B17<$C$4,B17+1,"") | C18: =IFERROR(VLOOKUP($B18,'Tables (statistics)'!$B$5:$AW$30,Calc!$X$3,FALSE),"") | E18: 10 | F18: =IF(AND(ISNUMBER(Beta!$E14),Calc!$X$3>0),Beta!$E14,"") | G18: =IF($E18<Calc!$X$3+1,SMALL($F$9:$F$58,$E18),"") | H18: =IF(ISNUMBER($G18),LN($G18),"") | J18: =IFERROR(IF($B18<$C$4+1,LARGE($G$9:$G$58,$B18),NA()),"") | K18: =IF($J18<>"",LN($J18),"") | L18: =IFERROR(IF($B18<$C$4+1,SMALL($G$9:$G$58,$B18),NA()),"") | M18: =IF($L18<>"",LN($L18),"") | O18: =IF($B18="","",$C18*($J18-$L18)) | P18: =IF($B18="","",$C18*($K18-$M18)) | U18: A1 | V18: For få målinger over DG | W18: Too few measurements above DL | AE18: =IFERROR(LN(Survey!#REF!),"")
B19: =IF(B18<$C$4,B18+1,"") | C19: =IFERROR(VLOOKUP($B19,'Tables (statistics)'!$B$5:$AW$30,Calc!$X$3,FALSE),"") | E19: 11 | F19: =IF(AND(ISNUMBER(Beta!$E15),Calc!$X$3>0),Beta!$E15,"") | G19: =IF($E19<Calc!$X$3+1,SMALL($F$9:$F$58,$E19),"") | H19: =IF(ISNUMBER($G19),LN($G19),"") | J19: =IFERROR(IF($B19<$C$4+1,LARGE($G$9:$G$58,$B19),NA()),"") | K19: =IF($J19<>"",LN($J19),"") | L19: =IFERROR(IF($B19<$C$4+1,SMALL($G$9:$G$58,$B19),NA()),"") | M19: =IF($L19<>"",LN($L19),"") | O19: =IF($B19="","",$C19*($J19-$L19)) | P19: =IF($B19="","",$C19*($K19-$M19)) | U19: A2 | V19: Hverken normal- eller log-normalfordeling | W19: Neither normal or log-normal distribution | AE19: =IFERROR(LN(Survey!#REF!),"")
B20: =IF(B19<$C$4,B19+1,"") | C20: =IFERROR(VLOOKUP($B20,'Tables (statistics)'!$B$5:$AW$30,Calc!$X$3,FALSE),"") | E20: 12 | F20: =IF(AND(ISNUMBER(Beta!$E16),Calc!$X$3>0),Beta!$E16,"") | G20: =IF($E20<Calc!$X$3+1,SMALL($F$9:$F$58,$E20),"") | H20: =IF(ISNUMBER($G20),LN($G20),"") | J20: =IFERROR(IF($B20<$C$4+1,LARGE($G$9:$G$58,$B20),NA()),"") | K20: =IF($J20<>"",LN($J20),"") | L20: =IFERROR(IF($B20<$C$4+1,SMALL($G$9:$G$58,$B20),NA()),"") | M20: =IF($L20<>"",LN($L20),"") | O20: =IF($B20="","",$C20*($J20-$L20)) | P20: =IF($B20="","",$C20*($K20-$M20)) | U20: A3 | V20: Log-normal | W20: Log-normal | AE20: =IFERROR(LN(Survey!#REF!),"")
B21: =IF(B20<$C$4,B20+1,"") | C21: =IFERROR(VLOOKUP($B21,'Tables (statistics)'!$B$5:$AW$30,Calc!$X$3,FALSE),"") | E21: 13 | F21: =IF(AND(ISNUMBER(Beta!$E17),Calc!$X$3>0),Beta!$E17,"") | G21: =IF($E21<Calc!$X$3+1,SMALL($F$9:$F$58,$E21),"") | H21: =IF(ISNUMBER($G21),LN($G21),"") | J21: =IFERROR(IF($B21<$C$4+1,LARGE($G$9:$G$58,$B21),NA()),"") | K21: =IF($J21<>"",LN($J21),"") | L21: =IFERROR(IF($B21<$C$4+1,SMALL($G$9:$G$58,$B21),NA()),"") | M21: =IF($L21<>"",LN($L21),"") | O21: =IF($B21="","",$C21*($J21-$L21)) | P21: =IF($B21="","",$C21*($K21-$M21)) | U21: A4 | V21: Normal | W21: Normal | AE21: =IFERROR(LN(Survey!#REF!),"")
B22: =IF(B21<$C$4,B21+1,"") | C22: =IFERROR(VLOOKUP($B22,'Tables (statistics)'!$B$5:$AW$30,Calc!$X$3,FALSE),"") | E22: 14 | F22: =IF(AND(ISNUMBER(Beta!$E18),Calc!$X$3>0),Beta!$E18,"") | G22: =IF($E22<Calc!$X$3+1,SMALL($F$9:$F$58,$E22),"") | H22: =IF(ISNUMBER($G22),LN($G22),"") | J22: =IFERROR(IF($B22<$C$4+1,LARGE($G$9:$G$58,$B22),NA()),"") | K22: =IF($J22<>"",LN($J22),"") | L22: =IFERROR(IF($B22<$C$4+1,SMALL($G$9:$G$58,$B22),NA()),"") | M22: =IF($L22<>"",LN($L22),"") | O22: =IF($B22="","",$C22*($J22-$L22)) | P22: =IF($B22="","",$C22*($K22-$M22)) | AE22: =IFERROR(LN(Survey!#REF!),"")
B23: =IF(B22<$C$4,B22+1,"") | C23: =IFERROR(VLOOKUP($B23,'Tables (statistics)'!$B$5:$AW$30,Calc!$X$3,FALSE),"") | E23: 15 | F23: =IF(AND(ISNUMBER(Beta!$E19),Calc!$X$3>0),Beta!$E19,"") | G23: =IF($E23<Calc!$X$3+1,SMALL($F$9:$F$58,$E23),"") | H23: =IF(ISNUMBER($G23),LN($G23),"") | J23: =IFERROR(IF($B23<$C$4+1,LARGE($G$9:$G$58,$B23),NA()),"") | K23: =IF($J23<>"",LN($J23),"") | L23: =IFERROR(IF($B23<$C$4+1,SMALL($G$9:$G$58,$B23),NA()),"") | M23: =IF($L23<>"",LN($L23),"") | O23: =IF($B23="","",$C23*($J23-$L23)) | P23: =IF($B23="","",$C23*($K23-$M23)) | V23: Konklusjon (n > 5) | W23: Conclusion (n > 5) | AE23: =IFERROR(LN(Survey!#REF!),"")
B24: =IF(B23<$C$4,B23+1,"") | C24: =IFERROR(VLOOKUP($B24,'Tables (statistics)'!$B$5:$AW$30,Calc!$X$3,FALSE),"") | E24: 16 | F24: =IF(AND(ISNUMBER(Beta!$E20),Calc!$X$3>0),Beta!$E20,"") | G24: =IF($E24<Calc!$X$3+1,SMALL($F$9:$F$58,$E24),"") | H24: =IF(ISNUMBER($G24),LN($G24),"") | J24: =IFERROR(IF($B24<$C$4+1,LARGE($G$9:$G$58,$B24),NA()),"") | K24: =IF($J24<>"",LN($J24),"") | L24: =IFERROR(IF($B24<$C$4+1,SMALL($G$9:$G$58,$B24),NA()),"") | M24: =IF($L24<>"",LN($L24),"") | O24: =IF($B24="","",$C24*($J24-$L24)) | P24: =IF($B24="","",$C24*($K24-$M24)) | U24: K11 | V24: Eksponeringen over grenseverdi. Tiltak nødvendig. | W24: Exposure above OEL. Mitigation needed. | AE24: =IFERROR(LN(Survey!#REF!),"")
B25: =IF(B24<$C$4,B24+1,"") | C25: =IFERROR(VLOOKUP($B25,'Tables (statistics)'!$B$5:$AW$30,Calc!$X$3,FALSE),"") | E25: 17 | F25: =IF(AND(ISNUMBER(Beta!$E21),Calc!$X$3>0),Beta!$E21,"") | G25: =IF($E25<Calc!$X$3+1,SMALL($F$9:$F$58,$E25),"") | H25: =IF(ISNUMBER($G25),LN($G25),"") | J25: =IFERROR(IF($B25<$C$4+1,LARGE($G$9:$G$58,$B25),NA()),"") | K25: =IF($J25<>"",LN($J25),"") | L25: =IFERROR(IF($B25<$C$4+1,SMALL($G$9:$G$58,$B25),NA()),"") | M25: =IF($L25<>"",LN($L25),"") | O25: =IF($B25="","",$C25*($J25-$L25)) | P25: =IF($B25="","",$C25*($K25-$M25)) | U25: K12 | V25: Forutsetningene for statistisk vurdering ikke tilstede. Faglig vurdering nødvendig. | W25: A statistical assessment cannot be conducted. Professional judgment needed. | AE25: =IFERROR(LN(Survey!#REF!),"")
B26: =IF(B25<$C$4,B25+1,"") | C26: =IFERROR(VLOOKUP($B26,'Tables (statistics)'!$B$5:$AW$30,Calc!$X$3,FALSE),"") | E26: 18 | F26: =IF(AND(ISNUMBER(Beta!$E22),Calc!$X$3>0),Beta!$E22,"") | G26: =IF($E26<Calc!$X$3+1,SMALL($F$9:$F$58,$E26),"") | H26: =IF(ISNUMBER($G26),LN($G26),"") | J26: =IFERROR(IF($B26<$C$4+1,LARGE($G$9:$G$58,$B26),NA()),"") | K26: =IF($J26<>"",LN($J26),"") | L26: =IFERROR(IF($B26<$C$4+1,SMALL($G$9:$G$58,$B26),NA()),"") | M26: =IF($L26<>"",LN($L26),"") | O26: =IF($B26="","",$C26*($J26-$L26)) | P26: =IF($B26="","",$C26*($K26-$M26)) | U26: K13 | V26: Overeksponering kan ikke utelukkes. Tiltak nødvendig. | W26: Over exposure cannot be ruled out. Mitigation / detailed assessment needed. | AE26: =IFERROR(LN(Survey!#REF!),"")
B27: =IF(B26<$C$4,B26+1,"") | C27: =IFERROR(VLOOKUP($B27,'Tables (statistics)'!$B$5:$AW$30,Calc!$X$3,FALSE),"") | E27: 19 | F27: =IF(AND(ISNUMBER(Beta!$E23),Calc!$X$3>0),Beta!$E23,"") | G27: =IF($E27<Calc!$X$3+1,SMALL($F$9:$F$58,$E27),"") | H27: =IF(ISNUMBER($G27),LN($G27),"") | J27: =IFERROR(IF($B27<$C$4+1,LARGE($G$9:$G$58,$B27),NA()),"") | K27: =IF($J27<>"",LN($J27),"") | L27: =IFERROR(IF($B27<$C$4+1,SMALL($G$9:$G$58,$B27),NA()),"") | M27: =IF($L27<>"",LN($L27),"") | O27: =IF($B27="","",$C27*($J27-$L27)) | P27: =IF($B27="","",$C27*($K27-$M27)) | U27: K14 | V27: Eksponeringen kan trolig ansees som akseptabel | W27: The exposure is assumed to be acceptable | AE27: =IFERROR(LN(Survey!#REF!),"")
B28: =IF(B27<$C$4,B27+1,"") | C28: =IFERROR(VLOOKUP($B28,'Tables (statistics)'!$B$5:$AW$30,Calc!$X$3,FALSE),"") | E28: 20 | F28: =IF(AND(ISNUMBER(Beta!$E24),Calc!$X$3>0),Beta!$E24,"") | G28: =IF($E28<Calc!$X$3+1,SMALL($F$9:$F$58,$E28),"") | H28: =IF(ISNUMBER($G28),LN($G28),"") | J28: =IFERROR(IF($B28<$C$4+1,LARGE($G$9:$G$58,$B28),NA()),"") | K28: =IF($J28<>"",LN($J28),"") | L28: =IFERROR(IF($B28<$C$4+1,SMALL($G$9:$G$58,$B28),NA()),"") | M28: =IF($L28<>"",LN($L28),"") | O28: =IF($B28="","",$C28*($J28-$L28)) | P28: =IF($B28="","",$C28*($K28-$M28)) | U28: K15 | V28: N/A | W28: N/A | AE28: =IFERROR(LN(Survey!#REF!),"")
B29: =IF(B28<$C$4,B28+1,"") | C29: =IFERROR(VLOOKUP($B29,'Tables (statistics)'!$B$5:$AW$30,Calc!$X$3,FALSE),"") | E29: 21 | F29: =IF(AND(ISNUMBER(Beta!$E25),Calc!$X$3>0),Beta!$E25,"") | G29: =IF($E29<Calc!$X$3+1,SMALL($F$9:$F$58,$E29),"") | H29: =IF(ISNUMBER($G29),LN($G29),"") | J29: =IFERROR(IF($B29<$C$4+1,LARGE($G$9:$G$58,$B29),NA()),"") | K29: =IF($J29<>"",LN($J29),"") | L29: =IFERROR(IF($B29<$C$4+1,SMALL($G$9:$G$58,$B29),NA()),"") | M29: =IF($L29<>"",LN($L29),"") | O29: =IF($B29="","",$C29*($J29-$L29)) | P29: =IF($B29="","",$C29*($K29-$M29)) | AE29: =IFERROR(LN(Survey!#REF!),"")
B30: =IF(B29<$C$4,B29+1,"") | C30: =IFERROR(VLOOKUP($B30,'Tables (statistics)'!$B$5:$AW$30,Calc!$X$3,FALSE),"") | E30: 22 | F30: =IF(AND(ISNUMBER(Beta!$E26),Calc!$X$3>0),Beta!$E26,"") | G30: =IF($E30<Calc!$X$3+1,SMALL($F$9:$F$58,$E30),"") | H30: =IF(ISNUMBER($G30),LN($G30),"") | J30: =IFERROR(IF($B30<$C$4+1,LARGE($G$9:$G$58,$B30),NA()),"") | K30: =IF($J30<>"",LN($J30),"") | L30: =IFERROR(IF($B30<$C$4+1,SMALL($G$9:$G$58,$B30),NA()),"") | M30: =IF($L30<>"",LN($L30),"") | O30: =IF($B30="","",$C30*($J30-$L30)) | P30: =IF($B30="","",$C30*($K30-$M30)) | AE30: =IFERROR(LN(Survey!#REF!),"")
B31: =IF(B30<$C$4,B30+1,"") | C31: =IFERROR(VLOOKUP($B31,'Tables (statistics)'!$B$5:$AW$30,Calc!$X$3,FALSE),"") | E31: 23 | F31: =IF(AND(ISNUMBER(Beta!$E27),Calc!$X$3>0),Beta!$E27,"") | G31: =IF($E31<Calc!$X$3+1,SMALL($F$9:$F$58,$E31),"") | H31: =IF(ISNUMBER($G31),LN($G31),"") | J31: =IFERROR(IF($B31<$C$4+1,LARGE($G$9:$G$58,$B31),NA()),"") | K31: =IF($J31<>"",LN($J31),"") | L31: =IFERROR(IF($B31<$C$4+1,SMALL($G$9:$G$58,$B31),NA()),"") | M31: =IF($L31<>"",LN($L31),"") | O31: =IF($B31="","",$C31*($J31-$L31)) | P31: =IF($B31="","",$C31*($K31-$M31)) | AE31: =IFERROR(LN(Survey!#REF!),"")
B32: =IF(B31<$C$4,B31+1,"") | C32: =IFERROR(VLOOKUP($B32,'Tables (statistics)'!$B$5:$AW$30,Calc!$X$3,FALSE),"") | E32: 24 | F32: =IF(AND(ISNUMBER(Beta!$E28),Calc!$X$3>0),Beta!$E28,"") | G32: =IF($E32<Calc!$X$3+1,SMALL($F$9:$F$58,$E32),"") | H32: =IF(ISNUMBER($G32),LN($G32),"") | J32: =IFERROR(IF($B32<$C$4+1,LARGE($G$9:$G$58,$B32),NA()),"") | K32: =IF($J32<>"",LN($J32),"") | L32: =IFERROR(IF($B32<$C$4+1,SMALL($G$9:$G$58,$B32),NA()),"") | M32: =IF($L32<>"",LN($L32),"") | O32: =IF($B32="","",$C32*($J32-$L32)) | P32: =IF($B32="","",$C32*($K32-$M32)) | AE32: =IFERROR(LN(Survey!#REF!),"")
B33: =IF(B32<$C$4,B32+1,"") | C33: =IFERROR(VLOOKUP($B33,'Tables (statistics)'!$B$5:$AW$30,Calc!$X$3,FALSE),"") | E33: 25 | F33: =IF(AND(ISNUMBER(Beta!$E29),Calc!$X$3>0),Beta!$E29,"") | G33: =IF($E33<Calc!$X$3+1,SMALL($F$9:$F$58,$E33),"") | H33: =IF(ISNUMBER($G33),LN($G33),"") | J33: =IFERROR(IF($B33<$C$4+1,LARGE($G$9:$G$58,$B33),NA()),"") | K33: =IF($J33<>"",LN($J33),"") | L33: =IFERROR(IF($B33<$C$4+1,SMALL($G$9:$G$58,$B33),NA()),"") | M33: =IF($L33<>"",LN($L33),"") | O33: =IF($B33="","",$C33*($J33-$L33)) | P33: =IF($B33="","",$C33*($K33-$M33)) | AE33: =IFERROR(LN(Survey!#REF!),"")
B34: =IF(B33<$C$4,B33+1,"") | C34: =IFERROR(VLOOKUP($B34,'Tables (statistics)'!$B$5:$AW$30,Calc!$X$3,FALSE),"") | E34: 26 | F34: =IF(AND(ISNUMBER(Beta!$E30),Calc!$X$3>0),Beta!$E30,"") | G34: =IF($E34<Calc!$X$3+1,SMALL($F$9:$F$58,$E34),"") | H34: =IF(ISNUMBER($G34),LN($G34),"") | J34: =IFERROR(IF($B34<$C$4+1,LARGE($G$9:$G$58,$B34),NA()),"") | K34: =IF($J34<>"",LN($J34),"") | L34: =IFERROR(IF($B34<$C$4+1,SMALL($G$9:$G$58,$B34),NA()),"") | M34: =IF($L34<>"",LN($L34),"") | O34: =IF($B34="","",$C34*($J34-$L34)) | P34: =IF($B34="","",$C34*($K34-$M34)) | AE34: =IFERROR(LN(Survey!#REF!),"")
B35: =IF(B34<$C$4,B34+1,"") | C35: =IFERROR(VLOOKUP($B35,'Tables (statistics)'!$B$5:$AW$30,Calc!$X$3,FALSE),"") | E35: 27 | F35: =IF(AND(ISNUMBER(Beta!$E31),Calc!$X$3>0),Beta!$E31,"") | G35: =IF($E35<Calc!$X$3+1,SMALL($F$9:$F$58,$E35),"") | H35: =IF(ISNUMBER($G35),LN($G35),"") | J35: =IFERROR(IF($B35<$C$4+1,LARGE($G$9:$G$58,$B35),NA()),"") | K35: =IF($J35<>"",LN($J35),"") | L35: =IFERROR(IF($B35<$C$4+1,SMALL($G$9:$G$58,$B35),NA()),"") | M35: =IF($L35<>"",LN($L35),"") | O35: =IF($B35="","",$C35*($J35-$L35)) | P35: =IF($B35="","",$C35*($K35-$M35)) | AE35: =IFERROR(LN(Survey!#REF!),"")
B36: =IF(B35<$C$4,B35+1,"") | C36: =IFERROR(VLOOKUP($B36,'Tables (statistics)'!$B$5:$AW$30,Calc!$X$3,FALSE),"") | E36: 28 | F36: =IF(AND(ISNUMBER(Beta!$E32),Calc!$X$3>0),Beta!$E32,"") | G36: =IF($E36<Calc!$X$3+1,SMALL($F$9:$F$58,$E36),"") | H36: =IF(ISNUMBER($G36),LN($G36),"") | J36: =IFERROR(IF($B36<$C$4+1,LARGE($G$9:$G$58,$B36),NA()),"") | K36: =IF($J36<>"",LN($J36),"") | L36: =IFERROR(IF($B36<$C$4+1,SMALL($G$9:$G$58,$B36),NA()),"") | M36: =IF($L36<>"",LN($L36),"") | O36: =IF($B36="","",$C36*($J36-$L36)) | P36: =IF($B36="","",$C36*($K36-$M36)) | AE36: =IFERROR(LN(Survey!#REF!),"")
B37: =IF(B36<$C$4,B36+1,"") | C37: =IFERROR(VLOOKUP($B37,'Tables (statistics)'!$B$5:$AW$30,Calc!$X$3,FALSE),"") | E37: 29 | F37: =IF(AND(ISNUMBER(Beta!$E33),Calc!$X$3>0),Beta!$E33,"") | G37: =IF($E37<Calc!$X$3+1,SMALL($F$9:$F$58,$E37),"") | H37: =IF(ISNUMBER($G37),LN($G37),"") | J37: =IFERROR(IF($B37<$C$4+1,LARGE($G$9:$G$58,$B37),NA()),"") | K37: =IF($J37<>"",LN($J37),"") | L37: =IFERROR(IF($B37<$C$4+1,SMALL($G$9:$G$58,$B37),NA()),"") | M37: =IF($L37<>"",LN($L37),"") | O37: =IF($B37="","",$C37*($J37-$L37)) | P37: =IF($B37="","",$C37*($K37-$M37)) | AE37: =IFERROR(LN(Survey!#REF!),"")
B38: =IF(B37<$C$4,B37+1,"") | C38: =IFERROR(VLOOKUP($B38,'Tables (statistics)'!$B$5:$AW$30,Calc!$X$3,FALSE),"") | E38: 30 | F38: =IF(AND(ISNUMBER(Beta!$E34),Calc!$X$3>0),Beta!$E34,"") | G38: =IF($E38<Calc!$X$3+1,SMALL($F$9:$F$58,$E38),"") | H38: =IF(ISNUMBER($G38),LN($G38),"") | J38: =IFERROR(IF($B38<$C$4+1,LARGE($G$9:$G$58,$B38),NA()),"") | K38: =IF($J38<>"",LN($J38),"") | L38: =IFERROR(IF($B38<$C$4+1,SMALL($G$9:$G$58,$B38),NA()),"") | M38: =IF($L38<>"",LN($L38),"") | O38: =IF($B38="","",$C38*($J38-$L38)) | P38: =IF($B38="","",$C38*($K38-$M38)) | AE38: =IFERROR(LN(Survey!#REF!),"")
B39: =IF(B38<$C$4,B38+1,"") | C39: =IFERROR(VLOOKUP($B39,'Tables (statistics)'!$B$5:$AW$30,Calc!$X$3,FALSE),"") | E39: 31 | F39: =IF(AND(ISNUMBER(Beta!$E35),Calc!$X$3>0),Beta!$E35,"") | G39: =IF($E39<Calc!$X$3+1,SMALL($F$9:$F$58,$E39),"") | H39: =IF(ISNUMBER($G39),LN($G39),"") | J39: =IFERROR(IF($B39<$C$4+1,LARGE($G$9:$G$58,$B39),NA()),"") | K39: =IF($J39<>"",LN($J39),"") | L39: =IFERROR(IF($B39<$C$4+1,SMALL($G$9:$G$58,$B39),NA()),"") | M39: =IF($L39<>"",LN($L39),"") | O39: =IF($B39="","",$C39*($J39-$L39)) | P39: =IF($B39="","",$C39*($K39-$M39)) | AE39: =IFERROR(LN(Survey!#REF!),"")
B40: =IF(B39<$C$4,B39+1,"") | C40: =IFERROR(VLOOKUP($B40,'Tables (statistics)'!$B$5:$AW$30,Calc!$X$3,FALSE),"") | E40: 32 | F40: =IF(AND(ISNUMBER(Beta!$E36),Calc!$X$3>0),Beta!$E36,"") | G40: =IF($E40<Calc!$X$3+1,SMALL($F$9:$F$58,$E40),"") | H40: =IF(ISNUMBER($G40),LN($G40),"") | J40: =IFERROR(IF($B40<$C$4+1,LARGE($G$9:$G$58,$B40),NA()),"") | K40: =IF($J40<>"",LN($J40),"") | L40: =IFERROR(IF($B40<$C$4+1,SMALL($G$9:$G$58,$B40),NA()),"") | M40: =IF($L40<>"",LN($L40),"") | O40: =IF($B40="","",$C40*($J40-$L40)) | P40: =IF($B40="","",$C40*($K40-$M40)) | AE40: =IFERROR(LN(Survey!#REF!),"")
... B58: =IF(B57<$C$4,B57+1,"") | C58: =IFERROR(VLOOKUP($B58,'Tables (statistics)'!$B$5:$AW$30,Calc!$X$3,FALSE),"") | E58: 50 | F58: =IF(AND(ISNUMBER(Beta!$E54),Calc!$X$3>0),Beta!$E54,"") | G58: =IF($E58<Calc!$X$3+1,SMALL($F$9:$F$58,$E58),"") | H58: =IF(ISNUMBER($G58),LN($G58),"") | J58: =IFERROR(IF($B58<$C$4+1,LARGE($G$9:$G$58,$B58),NA()),"") | K58: =IF($J58<>"",LN($J58),"") | L58: =IFERROR(IF($B58<$C$4+1,SMALL($G$9:$G$58,$B58),NA()),"") | M58: =IF($L58<>"",LN($L58),"") | O58: =IF($B58="","",$C58*($J58-$L58)) | P58: =IF($B58="","",$C58*($K58-$M58)) | AE58: =IFERROR(LN(Survey!#REF!),"")

Sheet Data graphs
A1: {=IFERROR(INDEX(Tekst!$B$1:$U$300,51,Tabeller!$C$28),"")} -> Serieplott (måledata benyttet uten korrigering av verdier under DG) | N1: {=IFERROR(INDEX(Tekst!$B$1:$U$300,60,Tabeller!$C$28),"")} -> Log-sannsynlighetsplott og minste kvadratsums linjetilpassing
B2: Ni | C2: Xi (ranked) | D2: No. | E2: Plot data | F2: x-akse tittel | G2: {=IFERROR(INDEX(Tekst!$B$1:$U$300,52,Tabeller!$C$28),"")} -> Nummer | N2: {=IFERROR(INDEX(Tekst!$B$1:$U$300,61,Tabeller!$C$28),"")} -> Sannsynlighetsplott og minste kvadratsums linjetilpassing
B3: 1 | C3: =IFERROR(IF($B3<=Analysis!$D$5+1,SMALL(Calc!$G$3:$G$52,$B3),""),"") -> 1.7 | D3: =IF(ISNUMBER($C3),$B3,"") -> 1 | E3: =IF(ISNUMBER(Calc!G3),Calc!G3,"") -> 21 | F3: y-akse tittel | G3: {=CONCATENATE(IFERROR(INDEX(Tekst!$B$1:$U$300,53,Tabeller!$C$28),"")," (",Survey!$H$11,")")} -> Konsentrasjon (ppm)
B4: 2 | C4: =IFERROR(IF($B4<=Analysis!$D$5+1,SMALL(Calc!$G$3:$G$52,$B4),""),"") -> 1.9 | D4: =IF(ISNUMBER($C4),$B4,NA()) -> 2 | E4: =IF(ISNUMBER(Calc!G4),Calc!G4,NA()) -> 1.9
B5: 3 | C5: =IFERROR(IF($B5<=Analysis!$D$5+1,SMALL(Calc!$G$3:$G$52,$B5),""),"") -> 2.7 | D5: =IF(ISNUMBER($C5),$B5,NA()) -> 3 | E5: =IF(ISNUMBER(Calc!G5),Calc!G5,NA()) -> 5.8
B6: 4 | C6: =IFERROR(IF($B6<=Analysis!$D$5+1,SMALL(Calc!$G$3:$G$52,$B6),""),"") -> 5.8 | D6: =IF(ISNUMBER($C6),$B6,NA()) -> 4 | E6: =IF(ISNUMBER(Calc!G6),Calc!G6,NA()) -> 17
B7: 5 | C7: =IFERROR(IF($B7<=Analysis!$D$5+1,SMALL(Calc!$G$3:$G$52,$B7),""),"") -> 6.3 | D7: =IF(ISNUMBER($C7),$B7,NA()) -> 5 | E7: =IF(ISNUMBER(Calc!G7),Calc!G7,NA()) -> 1.7
B8: 6 | C8: =IFERROR(IF($B8<=Analysis!$D$5+1,SMALL(Calc!$G$3:$G$52,$B8),""),"") -> 17 | D8: =IF(ISNUMBER($C8),$B8,NA()) -> 6 | E8: =IF(ISNUMBER(Calc!G8),Calc!G8,NA()) -> 2.7
B9: 7 | C9: =IFERROR(IF($B9<=Analysis!$D$5+1,SMALL(Calc!$G$3:$G$52,$B9),""),"") -> 18.9 | D9: =IF(ISNUMBER($C9),$B9,NA()) -> 7 | E9: =IF(ISNUMBER(Calc!G9),Calc!G9,NA()) -> 6.3
B10: 8 | C10: =IFERROR(IF($B10<=Analysis!$D$5+1,SMALL(Calc!$G$3:$G$52,$B10),""),"") -> 21 | D10: =IF(ISNUMBER($C10),$B10,NA()) -> 8 | E10: =IF(ISNUMBER(Calc!G10),Calc!G10,NA()) -> 18.9
B11: 9 | C11: =IFERROR(IF($B11<=Analysis!$D$5+1,SMALL(Calc!$G$3:$G$52,$B11),""),"") | D11: =IF(ISNUMBER($C11),$B11,NA()) -> #N/A | E11: =IF(ISNUMBER(Calc!G11),Calc!G11,NA()) -> #N/A
B12: 10 | C12: =IFERROR(IF($B12<=Analysis!$D$5+1,SMALL(Calc!$G$3:$G$52,$B12),""),"") | D12: =IF(ISNUMBER($C12),$B12,NA()) -> #N/A | E12: =IF(ISNUMBER(Calc!G12),Calc!G12,NA()) -> #N/A
B13: 11 | C13: =IFERROR(IF($B13<=Analysis!$D$5+1,SMALL(Calc!$G$3:$G$52,$B13),""),"") | D13: =IF(ISNUMBER($C13),$B13,NA()) -> #N/A | E13: =IF(ISNUMBER(Calc!G13),Calc!G13,NA()) -> #N/A
B14: 12 | C14: =IFERROR(IF($B14<=Analysis!$D$5+1,SMALL(Calc!$G$3:$G$52,$B14),""),"") | D14: =IF(ISNUMBER($C14),$B14,NA()) -> #N/A | E14: =IF(ISNUMBER(Calc!G14),Calc!G14,NA()) -> #N/A
B15: 13 | C15: =IFERROR(IF($B15<=Analysis!$D$5+1,SMALL(Calc!$G$3:$G$52,$B15),""),"") | D15: =IF(ISNUMBER($C15),$B15,NA()) -> #N/A | E15: =IF(ISNUMBER(Calc!G15),Calc!G15,NA()) -> #N/A
... B53: 51 | C53: =IFERROR(IF($B53<=Analysis!$D$5+1,SMALL(Calc!$G$3:$G$52,$B53),""),"") | D53: =IF(ISNUMBER($C53),$B53,NA()) -> #N/A | E53: =IF(ISNUMBER(Calc!G53),Calc!G53,NA()) -> #N/A
A55: {=IFERROR(INDEX(Tekst!$B$1:$U$300,59,Tabeller!$C$28),"")} -> Fordeling
B57: {=IFERROR(INDEX(Tekst!$B$1:$U$300,54,Tabeller!$C$28),"")} -> Log-normalfordelingsplott | E57: {=IFERROR(INDEX(Tekst!$B$1:$U$300,55,Tabeller!$C$28),"")} -> Normalfordelingsplott | H57: x-akse tittel | I57: {=IFERROR(INDEX(Tekst!$B$1:$U$300,52,Tabeller!$C$28),"")} -> Nummer | P57: =IF(Information!O41=Tekst!$B$1,CONCATENATE(Tekst!O71," (y)"),IF(Information!O41=Tekst!P36,CONCATENATE(Tekst!P71," (y)"),"")) -> (y) | Q57: ='Calc (W-test)'!$H$3 -> 1.8226299 | R57: 2-3. Analysis'!$D$22 | T57: Calc (W-test)'!$H$3
A58: 99%-ile/100 | B58: =(Analysis!$D$19*(Analysis!$D$20^(2.33)))/100 -> 0.69226413 | E58: =(Analysis!$D$16-Analysis!$D$17*-2.33)/100 -> 0.2841415 | H58: y-akse tittel | I58: {=CONCATENATE(IFERROR(INDEX(Tekst!$B$1:$U$300,53,Tabeller!$C$28),"")," (",Survey!$H$11,")")} -> Konsentrasjon (ppm) | P58: =IF(Information!O41=Tekst!$B$1,CONCATENATE(Tekst!O72," (s_y)"),IF(Information!O41=Tekst!P36,CONCATENATE(Tekst!P72," (s_y)"),"")) -> (s_y) | Q58: ='Calc (W-test)'!$H$4 -> 1.036259 | R58: 2-3. Analysis'!$D$23 | T58: Calc (W-test)'!$H$4
B59: {=IFERROR(INDEX(Tekst!$B$1:$U$300,56,Tabeller!$C$28),"")} -> AM (MVUE) | C59: {=IFERROR(INDEX(Tekst!$B$1:$U$300,57,Tabeller!$C$28),"")} -> 95%-il | D59: {=IFERROR(INDEX(Tekst!$B$1:$U$300,58,Tabeller!$C$28),"")} -> EØK | E59: AM | F59: {=IFERROR(INDEX(Tekst!$B$1:$U$300,57,Tabeller!$C$28),"")} -> 95%-il | G59: {=IFERROR(INDEX(Tekst!$B$1:$U$300,58,Tabeller!$C$28),"")} -> EØK
A60: Y | B60: 0 | E60: 0
B61: =MAX($C$68:$C$167) -> 0.10641385 | E61: =MAX($F$68:$F$167) -> 0.048919475
A62: X | B62: =Analysis!K$13 -> 9.6828721 | C62: =Analysis!$K$16 -> 34.037426 | D62: =Analysis!$K$17 -> 52.971738 | E62: =Analysis!$J$13 -> 0 | F62: =Analysis!$J$16 -> 22.827975 | G62: =Analysis!$J$17 -> 26.310396
B63: =$B$62 -> 9.6828721 | C63: =$C$62 -> 34.037426 | D63: =$D$62 -> 52.971738 | E63: =$E$62 -> 0 | F63: =$F$62 -> 22.827975 | G63: =$G$62 -> 26.310396
A64: Y | B64: 0 | C64: 0 | D64: 0 | E64: 0 | F64: 0 | G64: 0
B65: =MAX($C$68:$C$167) -> 0.10641385 | C65: =MAX($C$68:$C$167) -> 0.10641385 | D65: =$C$65 -> 0.10641385 | E65: =MAX($F$68:$F$167) -> 0.048919475 | F65: =MAX($F$68:$F$167) -> 0.048919475 | G65: =$F$65 -> 0.048919475
B67: x | C67: F(x) | E67: x | F67: F(x)
B68: =$B$58 -> 0.69226413 | C68: =(EXP(((LN($B68)-'Calc (W-test)'!$H$3)^2)/(-2*('Calc (W-test)'!$H$4^2))))/($B68*'Calc (W-test)'!$H$4*SQRT(2*PI())) -> 0.059558946 | E68: =$E$58 -> 0.2841415 | F68: =_xlfn.NORM.DIST($E68,Analysis!$D$16,Analysis!$D$17,FALSE) -> 0.02614444
B69: =$B68+$B$58 -> 1.3845283 | C69: =(EXP(((LN($B69)-'Calc (W-test)'!$H$3)^2)/(-2*('Calc (W-test)'!$H$4^2))))/($B69*'Calc (W-test)'!$H$4*SQRT(2*PI())) -> 0.097905265 | E69: =$E$58+$E68 -> 0.568283 | F69: =_xlfn.NORM.DIST($E69,Analysis!$D$16,Analysis!$D$17,FALSE) -> 0.027167815
B70: =$B69+$B$58 -> 2.0767924 | C70: =(EXP(((LN($B70)-'Calc (W-test)'!$H$3)^2)/(-2*('Calc (W-test)'!$H$4^2))))/($B70*'Calc (W-test)'!$H$4*SQRT(2*PI())) -> 0.10641385 | E70: =$E$58+$E69 -> 0.8524245 | F70: =_xlfn.NORM.DIST($E70,Analysis!$D$16,Analysis!$D$17,FALSE) -> 0.028196996
B71: =$B70+$B$58 -> 2.7690565 | C71: =(EXP(((LN($B71)-'Calc (W-test)'!$H$3)^2)/(-2*('Calc (W-test)'!$H$4^2))))/($B71*'Calc (W-test)'!$H$4*SQRT(2*PI())) -> 0.10288535 | E71: =$E$58+$E70 -> 1.136566 | F71: =_xlfn.NORM.DIST($E71,Analysis!$D$16,Analysis!$D$17,FALSE) -> 0.029229659
B72: =$B71+$B$58 -> 3.4613207 | C72: =(EXP(((LN($B72)-'Calc (W-test)'!$H$3)^2)/(-2*('Calc (W-test)'!$H$4^2))))/($B72*'Calc (W-test)'!$H$4*SQRT(2*PI())) -> 0.095048248 | E72: =$E$58+$E71 -> 1.4207075 | F72: =_xlfn.NORM.DIST($E72,Analysis!$D$16,Analysis!$D$17,FALSE) -> 0.030263378
B73: =$B72+$B$58 -> 4.1535848 | C73: =(EXP(((LN($B73)-'Calc (W-test)'!$H$3)^2)/(-2*('Calc (W-test)'!$H$4^2))))/($B73*'Calc (W-test)'!$H$4*SQRT(2*PI())) -> 0.08607572 | E73: =$E$58+$E72 -> 1.704849 | F73: =_xlfn.NORM.DIST($E73,Analysis!$D$16,Analysis!$D$17,FALSE) -> 0.031295639
B74: =$B73+$B$58 -> 4.8458489 | C74: =(EXP(((LN($B74)-'Calc (W-test)'!$H$3)^2)/(-2*('Calc (W-test)'!$H$4^2))))/($B74*'Calc (W-test)'!$H$4*SQRT(2*PI())) -> 0.077264956 | E74: =$E$58+$E73 -> 1.9889905 | F74: =_xlfn.NORM.DIST($E74,Analysis!$D$16,Analysis!$D$17,FALSE) -> 0.032323845
B75: =$B74+$B$58 -> 5.5381131 | C75: =(EXP(((LN($B75)-'Calc (W-test)'!$H$3)^2)/(-2*('Calc (W-test)'!$H$4^2))))/($B75*'Calc (W-test)'!$H$4*SQRT(2*PI())) -> 0.069117734 | E75: =$E$58+$E74 -> 2.273132 | F75: =_xlfn.NORM.DIST($E75,Analysis!$D$16,Analysis!$D$17,FALSE) -> 0.033345326
B76: =$B75+$B$58 -> 6.2303772 | C76: =(EXP(((LN($B76)-'Calc (W-test)'!$H$3)^2)/(-2*('Calc (W-test)'!$H$4^2))))/($B76*'Calc (W-test)'!$H$4*SQRT(2*PI())) -> 0.061789978 | E76: =$E$58+$E75 -> 2.5572735 | F76: =_xlfn.NORM.DIST($E76,Analysis!$D$16,Analysis!$D$17,FALSE) -> 0.034357352
B77: =$B76+$B$58 -> 6.9226413 | C77: =(EXP(((LN($B77)-'Calc (W-test)'!$H$3)^2)/(-2*('Calc (W-test)'!$H$4^2))))/($B77*'Calc (W-test)'!$H$4*SQRT(2*PI())) -> 0.055287343 | E77: =$E$58+$E76 -> 2.841415 | F77: =_xlfn.NORM.DIST($E77,Analysis!$D$16,Analysis!$D$17,FALSE) -> 0.035357143
B78: =$B77+$B$58 -> 7.6149055 | C78: =(EXP(((LN($B78)-'Calc (W-test)'!$H$3)^2)/(-2*('Calc (W-test)'!$H$4^2))))/($B78*'Calc (W-test)'!$H$4*SQRT(2*PI())) -> 0.04955328 | E78: =$E$58+$E77 -> 3.1255565 | F78: =_xlfn.NORM.DIST($E78,Analysis!$D$16,Analysis!$D$17,FALSE) -> 0.036341881
B79: =$B78+$B$58 -> 8.3071696 | C79: =(EXP(((LN($B79)-'Calc (W-test)'!$H$3)^2)/(-2*('Calc (W-test)'!$H$4^2))))/($B79*'Calc (W-test)'!$H$4*SQRT(2*PI())) -> 0.044509391 | E79: =$E$58+$E78 -> 3.409698 | F79: =_xlfn.NORM.DIST($E79,Analysis!$D$16,Analysis!$D$17,FALSE) -> 0.037308725
B80: =$B79+$B$58 -> 8.9994337 | C80: =(EXP(((LN($B80)-'Calc (W-test)'!$H$3)^2)/(-2*('Calc (W-test)'!$H$4^2))))/($B80*'Calc (W-test)'!$H$4*SQRT(2*PI())) -> 0.040073823 | E80: =$E$58+$E79 -> 3.6938395 | F80: =_xlfn.NORM.DIST($E80,Analysis!$D$16,Analysis!$D$17,FALSE) -> 0.038254821
... B167: =$B166+$B$58 -> 69.226413 | C167: =(EXP(((LN($B167)-'Calc (W-test)'!$H$3)^2)/(-2*('Calc (W-test)'!$H$4^2))))/($B167*'Calc (W-test)'!$H$4*SQRT(2*PI())) -> 0.00036815986 | E167: =$E$58+$E166 -> 28.41415 | F167: =_xlfn.NORM.DIST($E167,Analysis!$D$16,Analysis!$D$17,FALSE) -> 0.0032405255
B171: Determine Y cross point | F171: Log-normal | I171: Normal | M171: Plot points
A172: 1e-05 | B172: =Analysis!D$12 -> 21 | F172: X-axis | G172: Y-axis | J172: X-axis | K172: Y-axis | Q172: =B2 -> Ni | R172: =C2 -> Xi (ranked) | S172: =D2 -> No. | T172: Xi (ranked) calc | U172: =E2 -> Plot data | V172: Plot position | W172: plot position calc | X172: z-value | Y172: z-value calc | Z172: ln(x) calc | AA172: ln(x)
A173: 0.0001 | B173: =IF(AND($A172<$B$172,$B$172<=$A173),$A173,0) -> 0 | D173: X | F173: =$B$183 -> 100 | G173: 5 | J173: =CEILING(Analysis!$D$12*1.2,5) -> 30 | Q173: =B3 -> 1 | R173: =IF(ISNUMBER(C3),C3,NA()) -> 1.7 | S173: =D3 -> 1 | T173: =IFERROR($R173,FALSE) -> 1.7 | U173: =IFERROR($E3,"") -> 21 | V173: =IF($Q173<Analysis!$D$5+1,(($Q173)/(Analysis!$D$5+1)),FALSE) -> 0.11111111 | W173: =IF(ISNUMBER($V173),$V173,"") -> 0.11111111 | X173: =IFERROR(NORMSINV($V173)+5,NA()) -> 3.7793597 | Y173: =IFERROR($X173,"") -> 3.7793597 | Z173: =IF(ISNUMBER($R173),LN($R173),"") -> 0.53062825 | AA173: =IF(ISNUMBER($R173),LN($R173),NA()) -> 0.53062825 | AD173: =IF(ISNUMBER(V173),V173,"") -> 0.11111111
A174: 0.001 | B174: =IF(AND($A173<$B$172,$B$172<=$A174),$A174,0) -> 0 | D174: =IF(ISNUMBER(Survey!#REF!),Survey!#REF!,"") | F174: =$F$173 -> 100 | G174: 2.33 | H174: =$G$173+G174 -> 7.33 | I174: 0.99 | J174: =$J$173 -> 30 | K174: =$H174 -> 7.33 | M174: Least Squares | Q174: =B4 -> 2 | R174: =IF(ISNUMBER(C4),C4,NA()) -> 1.9 | S174: =D4 -> 2 | T174: =IFERROR($R174,FALSE) -> 1.9 | U174: =IFERROR($E4,"") -> 1.9 | V174: =IF($Q174<Analysis!$D$5+1,(($Q174)/(Analysis!$D$5+1)),FALSE) -> 0.22222222 | W174: =IF(ISNUMBER($V174),$V174,"") -> 0.22222222 | X174: =IFERROR(NORMSINV($V174)+5,NA()) -> 4.2352903 | Y174: =IFERROR($X174,"") -> 4.2352903 | Z174: =IF(ISNUMBER($R174),LN($R174),"") -> 0.64185389 | AA174: =IF(ISNUMBER($R174),LN($R174),NA()) -> 0.64185389 | AD174: =IF(ISNUMBER(V174),V174,"") -> 0.22222222
A175: 0.01 | B175: =IF(AND($A174<$B$172,$B$172<=$A175),$A175,0) -> 0 | D175: =IF(ISNUMBER(Survey!#REF!),Survey!#REF!,"") | F175: =$F$173 -> 100 | G175: 2.05 | H175: =$G$173+G175 -> 7.05 | I175: 0.98 | J175: =$J$173 -> 30 | K175: =$H175 -> 7.05 | N175: x | O175: LN(x) | Q175: =B5 -> 3 | R175: =IF(ISNUMBER(C5),C5,NA()) -> 2.7 | S175: =D5 -> 3 | T175: =IFERROR($R175,FALSE) -> 2.7 | U175: =IFERROR($E5,"") -> 5.8 | V175: =IF($Q175<Analysis!$D$5+1,(($Q175)/(Analysis!$D$5+1)),FALSE) -> 0.33333333 | W175: =IF(ISNUMBER($V175),$V175,"") -> 0.33333333 | X175: =IFERROR(NORMSINV($V175)+5,NA()) -> 4.5692727 | Y175: =IFERROR($X175,"") -> 4.5692727 | Z175: =IF(ISNUMBER($R175),LN($R175),"") -> 0.99325177 | AA175: =IF(ISNUMBER($R175),LN($R175),NA()) -> 0.99325177 | AD175: =IF(ISNUMBER(V175),V175,"") -> 0.33333333
A176: 0.1 | B176: =IF(AND($A175<$B$172,$B$172<=$A176),$A176,0) -> 0 | D176: =IF(ISNUMBER(Survey!#REF!),Survey!#REF!,"") | F176: =$F$173 -> 100 | G176: 1.645 | H176: =$G$173+G176 -> 6.645 | I176: 0.95 | J176: =$J$173 -> 30 | K176: =$H176 -> 6.645 | M176: Stigning | N176: =SLOPE($Y$173:$Y$223,$T$173:$T$223) -> 0.091904104 | O176: =SLOPE($Y$173:$Y$223,$Z$173:$Z$223) -> 0.74890742 | Q176: =B6 -> 4 | R176: =IF(ISNUMBER(C6),C6,NA()) -> 5.8 | S176: =D6 -> 4 | T176: =IFERROR($R176,FALSE) -> 5.8 | U176: =IFERROR($E6,"") -> 17 | V176: =IF($Q176<Analysis!$D$5+1,(($Q176)/(Analysis!$D$5+1)),FALSE) -> 0.44444444 | W176: =IF(ISNUMBER($V176),$V176,"") -> 0.44444444 | X176: =IFERROR(NORMSINV($V176)+5,NA()) -> 4.8602897 | Y176: =IFERROR($X176,"") -> 4.8602897 | Z176: =IF(ISNUMBER($R176),LN($R176),"") -> 1.7578579 | AA176: =IF(ISNUMBER($R176),LN($R176),NA()) -> 1.7578579 | AD176: =IF(ISNUMBER(V176),V176,"") -> 0.44444444
A177: 1 | B177: =IF(AND($A176<$B$172,$B$172<=$A177),$A177,0) -> 0 | D177: =IF(ISNUMBER(Survey!#REF!),Survey!#REF!,"") | F177: =$F$173 -> 100 | G177: 1.28 | H177: =$G$173+G177 -> 6.28 | I177: 0.9 | J177: =$J$173 -> 30 | K177: =$H177 -> 6.28 | M177: Skjæringspunkt Y | N177: =INTERCEPT($Y$173:$Y$223,$T$173:$T$223) -> 4.1349526 | O177: =INTERCEPT($Y$173:$Y$223,$Z$173:$Z$223) -> 3.6350189 | Q177: =B7 -> 5 | R177: =IF(ISNUMBER(C7),C7,NA()) -> 6.3 | S177: =D7 -> 5 | T177: =IFERROR($R177,FALSE) -> 6.3 | U177: =IFERROR($E7,"") -> 1.7 | V177: =IF($Q177<Analysis!$D$5+1,(($Q177)/(Analysis!$D$5+1)),FALSE) -> 0.55555556 | W177: =IF(ISNUMBER($V177),$V177,"") -> 0.55555556 | X177: =IFERROR(NORMSINV($V177)+5,NA()) -> 5.1397103 | Y177: =IFERROR($X177,"") -> 5.1397103 | Z177: =IF(ISNUMBER($R177),LN($R177),"") -> 1.8405496 | AA177: =IF(ISNUMBER($R177),LN($R177),NA()) -> 1.8405496 | AD177: =IF(ISNUMBER(V177),V177,"") -> 0.55555556
A178: 10 | B178: =IF(AND($A177<$B$172,$B$172<=$A178),$A178,0) -> 0 | D178: =IF(ISNUMBER(Survey!#REF!),Survey!#REF!,"") | F178: =$F$173 -> 100 | G178: 1 | H178: =$G$173+G178 -> 6 | I178: 0.84 | J178: =$J$173 -> 30 | K178: =$H178 -> 6 | M178: X1 | N178: =($N$180-$N$177)/$N$176 -> -17.789767 | O178: =EXP($O$182) -> 0.21968371 | Q178: =B8 -> 6 | R178: =IF(ISNUMBER(C8),C8,NA()) -> 17 | S178: =D8 -> 6 | T178: =IFERROR($R178,FALSE) -> 17 | U178: =IFERROR($E8,"") -> 2.7 | V178: =IF($Q178<Analysis!$D$5+1,(($Q178)/(Analysis!$D$5+1)),FALSE) -> 0.66666667 | W178: =IF(ISNUMBER($V178),$V178,"") -> 0.66666667 | X178: =IFERROR(NORMSINV($V178)+5,NA()) -> 5.4307273 | Y178: =IFERROR($X178,"") -> 5.4307273 | Z178: =IF(ISNUMBER($R178),LN($R178),"") -> 2.8332133 | AA178: =IF(ISNUMBER($R178),LN($R178),NA()) -> 2.8332133 | AD178: =IF(ISNUMBER(V178),V178,"") -> 0.66666667
A179: 100 | B179: =IF(AND($A178<$B$172,$B$172<=$A179),$A179,0) -> 100 | D179: =IF(ISNUMBER(Survey!#REF!),Survey!#REF!,"") | F179: =$F$173 -> 100 | G179: 0.67 | H179: =$G$173+G179 -> 5.67 | I179: 0.75 | J179: =$J$173 -> 30 | K179: =$H179 -> 5.67 | M179: X2 | N179: =($N$181-$N$177)/$N$176 -> 34.765013 | O179: =EXP($O$183) -> 138.91037 | Q179: =B9 -> 7 | R179: =IF(ISNUMBER(C9),C9,NA()) -> 18.9 | S179: =D9 -> 7 | T179: =IFERROR($R179,FALSE) -> 18.9 | U179: =IFERROR($E9,"") -> 6.3 | V179: =IF($Q179<Analysis!$D$5+1,(($Q179)/(Analysis!$D$5+1)),FALSE) -> 0.77777778 | W179: =IF(ISNUMBER($V179),$V179,"") -> 0.77777778 | X179: =IFERROR(NORMSINV($V179)+5,NA()) -> 5.7647097 | Y179: =IFERROR($X179,"") -> 5.7647097 | Z179: =IF(ISNUMBER($R179),LN($R179),"") -> 2.9391619 | AA179: =IF(ISNUMBER($R179),LN($R179),NA()) -> 2.9391619 | AD179: =IF(ISNUMBER(V179),V179,"") -> 0.77777778
A180: 1000 | B180: =IF(AND($A179<$B$172,$B$172<=$A180),$A180,0) -> 0 | D180: =IF(ISNUMBER(Survey!#REF!),Survey!#REF!,"") | F180: =$F$173 -> 100 | G180: 0 | H180: =$G$173+G180 -> 5 | I180: 0.5 | J180: =$J$173 -> 30 | K180: =$H180 -> 5 | M180: Y1 | N180: 2.5 | O180: 2.5 | Q180: =B10 -> 8 | R180: =IF(ISNUMBER(C10),C10,NA()) -> 21 | S180: =D10 -> 8 | T180: =IFERROR($R180,FALSE) -> 21 | U180: =IFERROR($E10,"") -> 18.9 | V180: =IF($Q180<Analysis!$D$5+1,(($Q180)/(Analysis!$D$5+1)),FALSE) -> 0.88888889 | W180: =IF(ISNUMBER($V180),$V180,"") -> 0.88888889 | X180: =IFERROR(NORMSINV($V180)+5,NA()) -> 6.2206403 | Y180: =IFERROR($X180,"") -> 6.2206403 | Z180: =IF(ISNUMBER($R180),LN($R180),"") -> 3.0445224 | AA180: =IF(ISNUMBER($R180),LN($R180),NA()) -> 3.0445224 | AD180: =IF(ISNUMBER(V180),V180,"") -> 0.88888889
A181: 10000 | B181: =IF(AND($A180<$B$172,$B$172<=$A181),$A181,0) -> 0 | D181: =IF(ISNUMBER(Survey!#REF!),Survey!#REF!,"") | F181: =$F$173 -> 100 | G181: -0.67 | H181: =$G$173+G181 -> 4.33 | I181: 0.25 | J181: =$J$173 -> 30 | K181: =$H181 -> 4.33 | M181: Y2 | N181: 7.33 | O181: 7.33 | Q181: =B11 -> 9 | R181: =IF(ISNUMBER(C11),C11,NA()) -> #N/A | S181: =D11 -> #N/A | T181: =IFERROR($R181,FALSE) -> FALSE | U181: =IFERROR($E11,"") | V181: =IF($Q181<Analysis!$D$5+1,(($Q181)/(Analysis!$D$5+1)),FALSE) -> FALSE | W181: =IF(ISNUMBER($V181),$V181,"") | X181: =IFERROR(NORMSINV($V181)+5,NA()) -> #N/A | Y181: =IFERROR($X181,"") | Z181: =IF(ISNUMBER($R181),LN($R181),"") | AA181: =IF(ISNUMBER($R181),LN($R181),NA()) -> #N/A | AD181: =IF(ISNUMBER(V181),V181,"")
D182: =IF(ISNUMBER(Survey!#REF!),Survey!#REF!,"") | F182: =$F$173 -> 100 | G182: -1 | H182: =$G$173+G182 -> 4 | I182: 0.16 | J182: =$J$173 -> 30 | K182: =$H182 -> 4 | M182: ln(x)1 | O182: =($O$180-$O$177)/$O$176 -> -1.5155664 | Q182: =B12 -> 10 | R182: =IF(ISNUMBER(C12),C12,NA()) -> #N/A | S182: =D12 -> #N/A | T182: =IFERROR($R182,FALSE) -> FALSE | U182: =IFERROR($E12,"") | V182: =IF($Q182<Analysis!$D$5+1,(($Q182)/(Analysis!$D$5+1)),FALSE) -> FALSE | W182: =IF(ISNUMBER($V182),$V182,"") | X182: =IFERROR(NORMSINV($V182)+5,NA()) -> #N/A | Y182: =IFERROR($X182,"") | Z182: =IF(ISNUMBER($R182),LN($R182),"") | AA182: =IF(ISNUMBER($R182),LN($R182),NA()) -> #N/A | AD182: =IF(ISNUMBER(V182),V182,"")
B183: =SUM($B$173:$B$181) -> 100 | D183: =IF(ISNUMBER(Survey!#REF!),Survey!#REF!,"") | F183: =$F$173 -> 100 | G183: -1.28 | H183: =$G$173+G183 -> 3.72 | I183: 0.1 | J183: =$J$173 -> 30 | K183: =$H183 -> 3.72 | M183: ln(x)2 | O183: =($O$181-$O$177)/$O$176 -> 4.9338289 | Q183: =B13 -> 11 | R183: =IF(ISNUMBER(C13),C13,NA()) -> #N/A | S183: =D13 -> #N/A | T183: =IFERROR($R183,FALSE) -> FALSE | U183: =IFERROR($E13,"") | V183: =IF($Q183<Analysis!$D$5+1,(($Q183)/(Analysis!$D$5+1)),FALSE) -> FALSE | W183: =IF(ISNUMBER($V183),$V183,"") | X183: =IFERROR(NORMSINV($V183)+5,NA()) -> #N/A | Y183: =IFERROR($X183,"") | Z183: =IF(ISNUMBER($R183),LN($R183),"") | AA183: =IF(ISNUMBER($R183),LN($R183),NA()) -> #N/A | AD183: =IF(ISNUMBER(V183),V183,"")
D184: =IF(ISNUMBER(Survey!#REF!),Survey!#REF!,"") | F184: =$F$173 -> 100 | G184: -1.645 | H184: =$G$173+G184 -> 3.355 | I184: 0.05 | J184: =$J$173 -> 30 | K184: =$H184 -> 3.355 | Q184: =B14 -> 12 | R184: =IF(ISNUMBER(C14),C14,NA()) -> #N/A | S184: =D14 -> #N/A | T184: =IFERROR($R184,FALSE) -> FALSE | U184: =IFERROR($E14,"") | V184: =IF($Q184<Analysis!$D$5+1,(($Q184)/(Analysis!$D$5+1)),FALSE) -> FALSE | W184: =IF(ISNUMBER($V184),$V184,"") | X184: =IFERROR(NORMSINV($V184)+5,NA()) -> #N/A | Y184: =IFERROR($X184,"") | Z184: =IF(ISNUMBER($R184),LN($R184),"") | AA184: =IF(ISNUMBER($R184),LN($R184),NA()) -> #N/A | AD184: =IF(ISNUMBER(V184),V184,"")
D185: =IF(ISNUMBER(Survey!#REF!),Survey!#REF!,"") | F185: =$F$173 -> 100 | G185: -2.05 | H185: =$G$173+G185 -> 2.95 | I185: 0.02 | J185: =$J$173 -> 30 | K185: =$H185 -> 2.95 | Q185: =B15 -> 13 | R185: =IF(ISNUMBER(C15),C15,NA()) -> #N/A | S185: =D15 -> #N/A | T185: =IFERROR($R185,FALSE) -> FALSE | U185: =IFERROR($E15,"") | V185: =IF($Q185<Analysis!$D$5+1,(($Q185)/(Analysis!$D$5+1)),FALSE) -> FALSE | W185: =IF(ISNUMBER($V185),$V185,"") | X185: =IFERROR(NORMSINV($V185)+5,NA()) -> #N/A | Y185: =IFERROR($X185,"") | Z185: =IF(ISNUMBER($R185),LN($R185),"") | AA185: =IF(ISNUMBER($R185),LN($R185),NA()) -> #N/A | AD185: =IF(ISNUMBER(V185),V185,"")
D186: =IF(ISNUMBER(Survey!#REF!),Survey!#REF!,"") | F186: =$F$173 -> 100 | G186: -2.33 | H186: =$G$173+G186 -> 2.67 | I186: 0.01 | J186: =$J$173 -> 30 | K186: =$H186 -> 2.67 | Q186: =B16 -> 14 | R186: =IF(ISNUMBER(C16),C16,NA()) -> #N/A | S186: =D16 -> #N/A | T186: =IFERROR($R186,FALSE) -> FALSE | U186: =IFERROR($E16,"") | V186: =IF($Q186<Analysis!$D$5+1,(($Q186)/(Analysis!$D$5+1)),FALSE) -> FALSE | W186: =IF(ISNUMBER($V186),$V186,"") | X186: =IFERROR(NORMSINV($V186)+5,NA()) -> #N/A | Y186: =IFERROR($X186,"") | Z186: =IF(ISNUMBER($R186),LN($R186),"") | AA186: =IF(ISNUMBER($R186),LN($R186),NA()) -> #N/A | AD186: =IF(ISNUMBER(V186),V186,"")
D187: =IF(ISNUMBER(Survey!#REF!),Survey!#REF!,"") | Q187: =B17 -> 15 | R187: =IF(ISNUMBER(C17),C17,NA()) -> #N/A | S187: =D17 -> #N/A | T187: =IFERROR($R187,FALSE) -> FALSE | U187: =IFERROR($E17,"") | V187: =IF($Q187<Analysis!$D$5+1,(($Q187)/(Analysis!$D$5+1)),FALSE) -> FALSE | W187: =IF(ISNUMBER($V187),$V187,"") | X187: =IFERROR(NORMSINV($V187)+5,NA()) -> #N/A | Y187: =IFERROR($X187,"") | Z187: =IF(ISNUMBER($R187),LN($R187),"") | AA187: =IF(ISNUMBER($R187),LN($R187),NA()) -> #N/A | AD187: =IF(ISNUMBER(V187),V187,"")
D188: =IF(ISNUMBER(Survey!#REF!),Survey!#REF!,"") | Q188: =B18 -> 16 | R188: =IF(ISNUMBER(C18),C18,NA()) -> #N/A | S188: =D18 -> #N/A | T188: =IFERROR($R188,FALSE) -> FALSE | U188: =IFERROR($E18,"") | V188: =IF($Q188<Analysis!$D$5+1,(($Q188)/(Analysis!$D$5+1)),FALSE) -> FALSE | W188: =IF(ISNUMBER($V188),$V188,"") | X188: =IFERROR(NORMSINV($V188)+5,NA()) -> #N/A | Y188: =IFERROR($X188,"") | Z188: =IF(ISNUMBER($R188),LN($R188),"") | AA188: =IF(ISNUMBER($R188),LN($R188),NA()) -> #N/A | AD188: =IF(ISNUMBER(V188),V188,"")
D189: =IF(ISNUMBER(Survey!#REF!),Survey!#REF!,"") | Q189: =B19 -> 17 | R189: =IF(ISNUMBER(C19),C19,NA()) -> #N/A | S189: =D19 -> #N/A | T189: =IFERROR($R189,FALSE) -> FALSE | U189: =IFERROR($E19,"") | V189: =IF($Q189<Analysis!$D$5+1,(($Q189)/(Analysis!$D$5+1)),FALSE) -> FALSE | W189: =IF(ISNUMBER($V189),$V189,"") | X189: =IFERROR(NORMSINV($V189)+5,NA()) -> #N/A | Y189: =IFERROR($X189,"") | Z189: =IF(ISNUMBER($R189),LN($R189),"") | AA189: =IF(ISNUMBER($R189),LN($R189),NA()) -> #N/A | AD189: =IF(ISNUMBER(V189),V189,"")
D190: =IF(ISNUMBER(Survey!#REF!),Survey!#REF!,"") | Q190: =B20 -> 18 | R190: =IF(ISNUMBER(C20),C20,NA()) -> #N/A | S190: =D20 -> #N/A | T190: =IFERROR($R190,FALSE) -> FALSE | U190: =IFERROR($E20,"") | V190: =IF($Q190<Analysis!$D$5+1,(($Q190)/(Analysis!$D$5+1)),FALSE) -> FALSE | W190: =IF(ISNUMBER($V190),$V190,"") | X190: =IFERROR(NORMSINV($V190)+5,NA()) -> #N/A | Y190: =IFERROR($X190,"") | Z190: =IF(ISNUMBER($R190),LN($R190),"") | AA190: =IF(ISNUMBER($R190),LN($R190),NA()) -> #N/A | AD190: =IF(ISNUMBER(V190),V190,"")
D191: =IF(ISNUMBER(Survey!#REF!),Survey!#REF!,"") | Q191: =B21 -> 19 | R191: =IF(ISNUMBER(C21),C21,NA()) -> #N/A | S191: =D21 -> #N/A | T191: =IFERROR($R191,FALSE) -> FALSE | U191: =IFERROR($E21,"") | V191: =IF($Q191<Analysis!$D$5+1,(($Q191)/(Analysis!$D$5+1)),FALSE) -> FALSE | W191: =IF(ISNUMBER($V191),$V191,"") | X191: =IFERROR(NORMSINV($V191)+5,NA()) -> #N/A | Y191: =IFERROR($X191,"") | Z191: =IF(ISNUMBER($R191),LN($R191),"") | AA191: =IF(ISNUMBER($R191),LN($R191),NA()) -> #N/A | AD191: =IF(ISNUMBER(V191),V191,"")
D192: =IF(ISNUMBER(Survey!#REF!),Survey!#REF!,"") | Q192: =B22 -> 20 | R192: =IF(ISNUMBER(C22),C22,NA()) -> #N/A | S192: =D22 -> #N/A | T192: =IFERROR($R192,FALSE) -> FALSE | U192: =IFERROR($E22,"") | V192: =IF($Q192<Analysis!$D$5+1,(($Q192)/(Analysis!$D$5+1)),FALSE) -> FALSE | W192: =IF(ISNUMBER($V192),$V192,"") | X192: =IFERROR(NORMSINV($V192)+5,NA()) -> #N/A | Y192: =IFERROR($X192,"") | Z192: =IF(ISNUMBER($R192),LN($R192),"") | AA192: =IF(ISNUMBER($R192),LN($R192),NA()) -> #N/A | AD192: =IF(ISNUMBER(V192),V192,"")
D193: =IF(ISNUMBER(Survey!#REF!),Survey!#REF!,"") | Q193: =B23 -> 21 | R193: =IF(ISNUMBER(C23),C23,NA()) -> #N/A | S193: =D23 -> #N/A | T193: =IFERROR($R193,FALSE) -> FALSE | U193: =IFERROR($E23,"") | V193: =IF($Q193<Analysis!$D$5+1,(($Q193)/(Analysis!$D$5+1)),FALSE) -> FALSE | W193: =IF(ISNUMBER($V193),$V193,"") | X193: =IFERROR(NORMSINV($V193)+5,NA()) -> #N/A | Y193: =IFERROR($X193,"") | Z193: =IF(ISNUMBER($R193),LN($R193),"") | AA193: =IF(ISNUMBER($R193),LN($R193),NA()) -> #N/A | AD193: =IF(ISNUMBER(V193),V193,"")
D194: =IF(ISNUMBER(Survey!#REF!),Survey!#REF!,"") | Q194: =B24 -> 22 | R194: =IF(ISNUMBER(C24),C24,NA()) -> #N/A | S194: =D24 -> #N/A | T194: =IFERROR($R194,FALSE) -> FALSE | U194: =IFERROR($E24,"") | V194: =IF($Q194<Analysis!$D$5+1,(($Q194)/(Analysis!$D$5+1)),FALSE) -> FALSE | W194: =IF(ISNUMBER($V194),$V194,"") | X194: =IFERROR(NORMSINV($V194)+5,NA()) -> #N/A | Y194: =IFERROR($X194,"") | Z194: =IF(ISNUMBER($R194),LN($R194),"") | AA194: =IF(ISNUMBER($R194),LN($R194),NA()) -> #N/A | AD194: =IF(ISNUMBER(V194),V194,"")
D195: =IF(ISNUMBER(Survey!#REF!),Survey!#REF!,"") | Q195: =B25 -> 23 | R195: =IF(ISNUMBER(C25),C25,NA()) -> #N/A | S195: =D25 -> #N/A | T195: =IFERROR($R195,FALSE) -> FALSE | U195: =IFERROR($E25,"") | V195: =IF($Q195<Analysis!$D$5+1,(($Q195)/(Analysis!$D$5+1)),FALSE) -> FALSE | W195: =IF(ISNUMBER($V195),$V195,"") | X195: =IFERROR(NORMSINV($V195)+5,NA()) -> #N/A | Y195: =IFERROR($X195,"") | Z195: =IF(ISNUMBER($R195),LN($R195),"") | AA195: =IF(ISNUMBER($R195),LN($R195),NA()) -> #N/A | AD195: =IF(ISNUMBER(V195),V195,"")
D196: =IF(ISNUMBER(Survey!#REF!),Survey!#REF!,"") | Q196: =B26 -> 24 | R196: =IF(ISNUMBER(C26),C26,NA()) -> #N/A | S196: =D26 -> #N/A | T196: =IFERROR($R196,FALSE) -> FALSE | U196: =IFERROR($E26,"") | V196: =IF($Q196<Analysis!$D$5+1,(($Q196)/(Analysis!$D$5+1)),FALSE) -> FALSE | W196: =IF(ISNUMBER($V196),$V196,"") | X196: =IFERROR(NORMSINV($V196)+5,NA()) -> #N/A | Y196: =IFERROR($X196,"") | Z196: =IF(ISNUMBER($R196),LN($R196),"") | AA196: =IF(ISNUMBER($R196),LN($R196),NA()) -> #N/A | AD196: =IF(ISNUMBER(V196),V196,"")
D197: =IF(ISNUMBER(Survey!#REF!),Survey!#REF!,"") | Q197: =B27 -> 25 | R197: =IF(ISNUMBER(C27),C27,NA()) -> #N/A | S197: =D27 -> #N/A | T197: =IFERROR($R197,FALSE) -> FALSE | U197: =IFERROR($E27,"") | V197: =IF($Q197<Analysis!$D$5+1,(($Q197)/(Analysis!$D$5+1)),FALSE) -> FALSE | W197: =IF(ISNUMBER($V197),$V197,"") | X197: =IFERROR(NORMSINV($V197)+5,NA()) -> #N/A | Y197: =IFERROR($X197,"") | Z197: =IF(ISNUMBER($R197),LN($R197),"") | AA197: =IF(ISNUMBER($R197),LN($R197),NA()) -> #N/A | AD197: =IF(ISNUMBER(V197),V197,"")
D198: =IF(ISNUMBER(Survey!#REF!),Survey!#REF!,"") | Q198: =B28 -> 26 | R198: =IF(ISNUMBER(C28),C28,NA()) -> #N/A | S198: =D28 -> #N/A | T198: =IFERROR($R198,FALSE) -> FALSE | U198: =IFERROR($E28,"") | V198: =IF($Q198<Analysis!$D$5+1,(($Q198)/(Analysis!$D$5+1)),FALSE) -> FALSE | W198: =IF(ISNUMBER($V198),$V198,"") | X198: =IFERROR(NORMSINV($V198)+5,NA()) -> #N/A | Y198: =IFERROR($X198,"") | Z198: =IF(ISNUMBER($R198),LN($R198),"") | AA198: =IF(ISNUMBER($R198),LN($R198),NA()) -> #N/A | AD198: =IF(ISNUMBER(V198),V198,"")
... D223: =IF(ISNUMBER(Survey!#REF!),Survey!#REF!,"") | Q223: =B53 -> 51 | R223: =IF(ISNUMBER(C53),C53,NA()) -> #N/A | S223: =D53 -> #N/A | T223: =IFERROR($R223,FALSE) -> FALSE | U223: =IFERROR($E53,"") | V223: =IF($Q223<Analysis!$D$5+1,(($Q223)/(Analysis!$D$5+1)),FALSE) -> FALSE | W223: =IF(ISNUMBER($V223),$V223,"") | X223: =IFERROR(NORMSINV($V223)+5,NA()) -> #N/A | Y223: =IFERROR($X223,"") | Z223: =IF(ISNUMBER($R223),LN($R223),"") | AA223: =IF(ISNUMBER($R223),LN($R223),NA()) -> #N/A | AD223: =IF(ISNUMBER(V223),V223,"")
D224: =IF(ISNUMBER(Survey!#REF!),Survey!#REF!,"")

Sheet Grenseverdier
B2: Kjemikalie
D3: Grenseverdi | G3: Korttidsverdi | I3: Takverdi | K3: Kommentar | O3: =IFERROR(IF(Survey!$C$8=0,"",Survey!$C$8),"") -> styren | Q3: =IFERROR(IF(ISNUMBER(LEFT(Survey!$C$7,1)),Survey!$C$7,""),"")
B4: CAS-nr. | C4: Stoff | D4: ppm | E4: mg/m³ | F4: fiber/cm³ | G4: ppm | H4: mg/m³ | I4: ppm | J4: mg/m³
B5: 75-07-0 | C5: Acetaldehyd | D5: 25 | E5: 45 | O5: =IF(ISNUMBER(FIND($O$3,$C5)),MAXA($O$4:O4)+1,0) -> 0 | P5: =IFERROR(INDEX($B$5:$O$625,MATCH(ROWS($P$5:$P5),$O$5:$O$625,0),2),"") -> Klorpyrifos | Q5: =IF(ISNUMBER(FIND($Q$3,$B5)),MAXA($Q$4:Q4)+1,0) -> 1 | R5: =IFERROR(INDEX($B$5:$Q$625,MATCH(ROWS($R$5:$R5),$Q$5:$Q$625,0),1),"") -> 75-07-0
B6: 60-35-5 | C6: Acetamid | D6: 10 | E6: 25 | O6: =IF(ISNUMBER(FIND($O$3,$C6)),MAXA($O$4:O5)+1,0) -> 0 | P6: =IFERROR(INDEX($B$5:$O$625,MATCH(ROWS($P$5:$P6),$O$5:$O$625,0),2),"") | Q6: =IF(ISNUMBER(FIND($Q$3,$B6)),MAXA($Q$4:Q5)+1,0) -> 2 | R6: =IFERROR(INDEX($B$5:$Q$625,MATCH(ROWS($R$5:$R6),$Q$5:$Q$625,0),1),"") -> 60-35-5
B7: 67-64-1 | C7: Aceton | D7: 125 | E7: 295 | O7: =IF(ISNUMBER(FIND($O$3,$C7)),MAXA($O$4:O6)+1,0) -> 0 | P7: =IFERROR(INDEX($B$5:$O$625,MATCH(ROWS($P$5:$P7),$O$5:$O$625,0),2),"") | Q7: =IF(ISNUMBER(FIND($Q$3,$B7)),MAXA($Q$4:Q6)+1,0) -> 3 | R7: =IFERROR(INDEX($B$5:$Q$625,MATCH(ROWS($R$5:$R7),$Q$5:$Q$625,0),1),"") -> 67-64-1
B8: 75-05-8 | C8: Acetonitril | D8: 30 | E8: 50 | O8: =IF(ISNUMBER(FIND($O$3,$C8)),MAXA($O$4:O7)+1,0) -> 0 | P8: =IFERROR(INDEX($B$5:$O$625,MATCH(ROWS($P$5:$P8),$O$5:$O$625,0),2),"") | Q8: =IF(ISNUMBER(FIND($Q$3,$B8)),MAXA($Q$4:Q7)+1,0) -> 4 | R8: =IFERROR(INDEX($B$5:$Q$625,MATCH(ROWS($R$5:$R8),$Q$5:$Q$625,0),1),"") -> 75-05-8
B9: 50-78-2 | C9: Acetylsalisylsyre | E9: 5 | O9: =IF(ISNUMBER(FIND($O$3,$C9)),MAXA($O$4:O8)+1,0) -> 0 | P9: =IFERROR(INDEX($B$5:$O$625,MATCH(ROWS($P$5:$P9),$O$5:$O$625,0),2),"") | Q9: =IF(ISNUMBER(FIND($Q$3,$B9)),MAXA($Q$4:Q8)+1,0) -> 5 | R9: =IFERROR(INDEX($B$5:$Q$625,MATCH(ROWS($R$5:$R9),$Q$5:$Q$625,0),1),"") -> 50-78-2
C10: AES-ull | F10: 0.5 | O10: =IF(ISNUMBER(FIND($O$3,$C10)),MAXA($O$4:O9)+1,0) -> 0 | P10: =IFERROR(INDEX($B$5:$O$625,MATCH(ROWS($P$5:$P10),$O$5:$O$625,0),2),"") | Q10: =IF(ISNUMBER(FIND($Q$3,$B10)),MAXA($Q$4:Q9)+1,0) -> 6 | R10: =IFERROR(INDEX($B$5:$Q$625,MATCH(ROWS($R$5:$R10),$Q$5:$Q$625,0),1),"") -> 0
B11: 107-02-8 | C11: Akrylaldehyd | D11: 0.1 | E11: 0.25 | O11: =IF(ISNUMBER(FIND($O$3,$C11)),MAXA($O$4:O10)+1,0) -> 0 | P11: =IFERROR(INDEX($B$5:$O$625,MATCH(ROWS($P$5:$P11),$O$5:$O$625,0),2),"") | Q11: =IF(ISNUMBER(FIND($Q$3,$B11)),MAXA($Q$4:Q10)+1,0) -> 7 | R11: =IFERROR(INDEX($B$5:$Q$625,MATCH(ROWS($R$5:$R11),$Q$5:$Q$625,0),1),"") -> 107-02-8
B12: 79-06-1 | C12: Akrylamid | E12: 0.03 | O12: =IF(ISNUMBER(FIND($O$3,$C12)),MAXA($O$4:O11)+1,0) -> 0 | P12: =IFERROR(INDEX($B$5:$O$625,MATCH(ROWS($P$5:$P12),$O$5:$O$625,0),2),"") | Q12: =IF(ISNUMBER(FIND($Q$3,$B12)),MAXA($Q$4:Q11)+1,0) -> 8 | R12: =IFERROR(INDEX($B$5:$Q$625,MATCH(ROWS($R$5:$R12),$Q$5:$Q$625,0),1),"") -> 79-06-1
B13: 107-13-1 | C13: Akrylnitril | D13: 2 | E13: 4 | O13: =IF(ISNUMBER(FIND($O$3,$C13)),MAXA($O$4:O12)+1,0) -> 0 | P13: =IFERROR(INDEX($B$5:$O$625,MATCH(ROWS($P$5:$P13),$O$5:$O$625,0),2),"") | Q13: =IF(ISNUMBER(FIND($Q$3,$B13)),MAXA($Q$4:Q12)+1,0) -> 9 | R13: =IFERROR(INDEX($B$5:$Q$625,MATCH(ROWS($R$5:$R13),$Q$5:$Q$625,0),1),"") -> 107-13-1
B14: 79-10-7 | C14: Akrylsyre | D14: 10 | E14: 30 | O14: =IF(ISNUMBER(FIND($O$3,$C14)),MAXA($O$4:O13)+1,0) -> 0 | P14: =IFERROR(INDEX($B$5:$O$625,MATCH(ROWS($P$5:$P14),$O$5:$O$625,0),2),"") | Q14: =IF(ISNUMBER(FIND($Q$3,$B14)),MAXA($Q$4:Q13)+1,0) -> 10 | R14: =IFERROR(INDEX($B$5:$Q$625,MATCH(ROWS($R$5:$R14),$Q$5:$Q$625,0),1),"") -> 79-10-7
B15: 309-00-2 | C15: Aldrin | E15: 0.25 | O15: =IF(ISNUMBER(FIND($O$3,$C15)),MAXA($O$4:O14)+1,0) -> 0 | P15: =IFERROR(INDEX($B$5:$O$625,MATCH(ROWS($P$5:$P15),$O$5:$O$625,0),2),"") | Q15: =IF(ISNUMBER(FIND($Q$3,$B15)),MAXA($Q$4:Q14)+1,0) -> 11 | R15: =IFERROR(INDEX($B$5:$Q$625,MATCH(ROWS($R$5:$R15),$Q$5:$Q$625,0),1),"") -> 309-00-2
B16: 107-11-9 | C16: Allylamin | D16: 2 | E16: 5 | O16: =IF(ISNUMBER(FIND($O$3,$C16)),MAXA($O$4:O15)+1,0) -> 0 | P16: =IFERROR(INDEX($B$5:$O$625,MATCH(ROWS($P$5:$P16),$O$5:$O$625,0),2),"") | Q16: =IF(ISNUMBER(FIND($Q$3,$B16)),MAXA($Q$4:Q15)+1,0) -> 12 | R16: =IFERROR(INDEX($B$5:$Q$625,MATCH(ROWS($R$5:$R16),$Q$5:$Q$625,0),1),"") -> 107-11-9
B17: 106-92-3 | C17: 1-allyloksy-2,3-epoksypropan | I17: 5 | J17: 22 | O17: =IF(ISNUMBER(FIND($O$3,$C17)),MAXA($O$4:O16)+1,0) -> 0 | P17: =IFERROR(INDEX($B$5:$O$625,MATCH(ROWS($P$5:$P17),$O$5:$O$625,0),2),"") | Q17: =IF(ISNUMBER(FIND($Q$3,$B17)),MAXA($Q$4:Q16)+1,0) -> 13 | R17: =IFERROR(INDEX($B$5:$Q$625,MATCH(ROWS($R$5:$R17),$Q$5:$Q$625,0),1),"") -> 106-92-3
B18: 2179-59-1 | C18: Allylpropyldisulfid | D18: 2 | E18: 12 | O18: =IF(ISNUMBER(FIND($O$3,$C18)),MAXA($O$4:O17)+1,0) -> 0 | P18: =IFERROR(INDEX($B$5:$O$625,MATCH(ROWS($P$5:$P18),$O$5:$O$625,0),2),"") | Q18: =IF(ISNUMBER(FIND($Q$3,$B18)),MAXA($Q$4:Q17)+1,0) -> 14 | R18: =IFERROR(INDEX($B$5:$Q$625,MATCH(ROWS($R$5:$R18),$Q$5:$Q$625,0),1),"") -> 2179-59-1
B19: 7429-90-5 | C19: Aluminiumpulver (pyroteknikk) | E19: 5 | O19: =IF(ISNUMBER(FIND($O$3,$C19)),MAXA($O$4:O18)+1,0) -> 0 | P19: =IFERROR(INDEX($B$5:$O$625,MATCH(ROWS($P$5:$P19),$O$5:$O$625,0),2),"") | Q19: =IF(ISNUMBER(FIND($Q$3,$B19)),MAXA($Q$4:Q18)+1,0) -> 15 | R19: =IFERROR(INDEX($B$5:$Q$625,MATCH(ROWS($R$5:$R19),$Q$5:$Q$625,0),1),"") -> 7429-90-5
C20: Aluminiumløselige salter (beregnet som Al) | E20: 2 | O20: =IF(ISNUMBER(FIND($O$3,$C20)),MAXA($O$4:O19)+1,0) -> 0 | P20: =IFERROR(INDEX($B$5:$O$625,MATCH(ROWS($P$5:$P20),$O$5:$O$625,0),2),"") | Q20: =IF(ISNUMBER(FIND($Q$3,$B20)),MAXA($Q$4:Q19)+1,0) -> 16 | R20: =IFERROR(INDEX($B$5:$Q$625,MATCH(ROWS($R$5:$R20),$Q$5:$Q$625,0),1),"") -> 0
C21: Aluminiumalkyler | E21: 2 | O21: =IF(ISNUMBER(FIND($O$3,$C21)),MAXA($O$4:O20)+1,0) -> 0 | P21: =IFERROR(INDEX($B$5:$O$625,MATCH(ROWS($P$5:$P21),$O$5:$O$625,0),2),"") | Q21: =IF(ISNUMBER(FIND($Q$3,$B21)),MAXA($Q$4:Q20)+1,0) -> 17 | R21: =IFERROR(INDEX($B$5:$Q$625,MATCH(ROWS($R$5:$R21),$Q$5:$Q$625,0),1),"") -> 0
B22: 1344-28-1 | C22: Aluminiumoksid | E22: 10 | O22: =IF(ISNUMBER(FIND($O$3,$C22)),MAXA($O$4:O21)+1,0) -> 0 | P22: =IFERROR(INDEX($B$5:$O$625,MATCH(ROWS($P$5:$P22),$O$5:$O$625,0),2),"") | Q22: =IF(ISNUMBER(FIND($Q$3,$B22)),MAXA($Q$4:Q21)+1,0) -> 18 | R22: =IFERROR(INDEX($B$5:$Q$625,MATCH(ROWS($R$5:$R22),$Q$5:$Q$625,0),1),"") -> 1344-28-1
C23: Aluminium sveiserøyk | E23: 5 | O23: =IF(ISNUMBER(FIND($O$3,$C23)),MAXA($O$4:O22)+1,0) -> 0 | P23: =IFERROR(INDEX($B$5:$O$625,MATCH(ROWS($P$5:$P23),$O$5:$O$625,0),2),"") | Q23: =IF(ISNUMBER(FIND($Q$3,$B23)),MAXA($Q$4:Q22)+1,0) -> 19 | R23: =IFERROR(INDEX($B$5:$Q$625,MATCH(ROWS($R$5:$R23),$Q$5:$Q$625,0),1),"") -> 0
B24: 141-43-5 | C24: 2-aminoetanol | D24: 1 | E24: 2.5 | O24: =IF(ISNUMBER(FIND($O$3,$C24)),MAXA($O$4:O23)+1,0) -> 0 | P24: =IFERROR(INDEX($B$5:$O$625,MATCH(ROWS($P$5:$P24),$O$5:$O$625,0),2),"") | Q24: =IF(ISNUMBER(FIND($Q$3,$B24)),MAXA($Q$4:Q23)+1,0) -> 20 | R24: =IFERROR(INDEX($B$5:$Q$625,MATCH(ROWS($R$5:$R24),$Q$5:$Q$625,0),1),"") -> 141-43-5
B25: 504-29-0 | C25: 2-aminopyridin | D25: 0.5 | E25: 2 | O25: =IF(ISNUMBER(FIND($O$3,$C25)),MAXA($O$4:O24)+1,0) -> 0 | P25: =IFERROR(INDEX($B$5:$O$625,MATCH(ROWS($P$5:$P25),$O$5:$O$625,0),2),"") | Q25: =IF(ISNUMBER(FIND($Q$3,$B25)),MAXA($Q$4:Q24)+1,0) -> 21 | R25: =IFERROR(INDEX($B$5:$Q$625,MATCH(ROWS($R$5:$R25),$Q$5:$Q$625,0),1),"") -> 504-29-0
B26: 7664-41-7 | C26: Ammoniakk | D26: 15 | E26: 11 | G26: 50 | H26: 36 | O26: =IF(ISNUMBER(FIND($O$3,$C26)),MAXA($O$4:O25)+1,0) -> 0 | P26: =IFERROR(INDEX($B$5:$O$625,MATCH(ROWS($P$5:$P26),$O$5:$O$625,0),2),"") | Q26: =IF(ISNUMBER(FIND($Q$3,$B26)),MAXA($Q$4:Q25)+1,0) -> 22 | R26: =IFERROR(INDEX($B$5:$Q$625,MATCH(ROWS($R$5:$R26),$Q$5:$Q$625,0),1),"") -> 7664-41-7
B27: 12125-02-9 | C27: Ammoniumklorid | E27: 10 | O27: =IF(ISNUMBER(FIND($O$3,$C27)),MAXA($O$4:O26)+1,0) -> 0 | P27: =IFERROR(INDEX($B$5:$O$625,MATCH(ROWS($P$5:$P27),$O$5:$O$625,0),2),"") | Q27: =IF(ISNUMBER(FIND($Q$3,$B27)),MAXA($Q$4:Q26)+1,0) -> 23 | R27: =IFERROR(INDEX($B$5:$Q$625,MATCH(ROWS($R$5:$R27),$Q$5:$Q$625,0),1),"") -> 12125-02-9
B28: 7773-06-0 | C28: Ammoniumsulfamat | E28: 10 | O28: =IF(ISNUMBER(FIND($O$3,$C28)),MAXA($O$4:O27)+1,0) -> 0 | P28: =IFERROR(INDEX($B$5:$O$625,MATCH(ROWS($P$5:$P28),$O$5:$O$625,0),2),"") | Q28: =IF(ISNUMBER(FIND($Q$3,$B28)),MAXA($Q$4:Q27)+1,0) -> 24 | R28: =IFERROR(INDEX($B$5:$Q$625,MATCH(ROWS($R$5:$R28),$Q$5:$Q$625,0),1),"") -> 7773-06-0
C29: Respirabelt støv (ammoniumsulfamat) | E29: 1.5 | O29: =IF(ISNUMBER(FIND($O$3,$C29)),MAXA($O$4:O28)+1,0) -> 0 | P29: =IFERROR(INDEX($B$5:$O$625,MATCH(ROWS($P$5:$P29),$O$5:$O$625,0),2),"") | Q29: =IF(ISNUMBER(FIND($Q$3,$B29)),MAXA($Q$4:Q28)+1,0) -> 25 | R29: =IFERROR(INDEX($B$5:$Q$625,MATCH(ROWS($R$5:$R29),$Q$5:$Q$625,0),1),"") -> 0
B30: 625-16-1 | C30: tert-amylacetat | D30: 50 | E30: 260 | O30: =IF(ISNUMBER(FIND($O$3,$C30)),MAXA($O$4:O29)+1,0) -> 0 | P30: =IFERROR(INDEX($B$5:$O$625,MATCH(ROWS($P$5:$P30),$O$5:$O$625,0),2),"") | Q30: =IF(ISNUMBER(FIND($Q$3,$B30)),MAXA($Q$4:Q29)+1,0) -> 26 | R30: =IFERROR(INDEX($B$5:$Q$625,MATCH(ROWS($R$5:$R30),$Q$5:$Q$625,0),1),"") -> 625-16-1
B31: 62-53-3 | C31: Anilin | D31: 1 | E31: 4 | O31: =IF(ISNUMBER(FIND($O$3,$C31)),MAXA($O$4:O30)+1,0) -> 0 | P31: =IFERROR(INDEX($B$5:$O$625,MATCH(ROWS($P$5:$P31),$O$5:$O$625,0),2),"") | Q31: =IF(ISNUMBER(FIND($Q$3,$B31)),MAXA($Q$4:Q30)+1,0) -> 27 | R31: =IFERROR(INDEX($B$5:$Q$625,MATCH(ROWS($R$5:$R31),$Q$5:$Q$625,0),1),"") -> 62-53-3
C32: Antimon og antimonforb. (beregnet som Sb) | E32: 0.5 | O32: =IF(ISNUMBER(FIND($O$3,$C32)),MAXA($O$4:O31)+1,0) -> 0 | P32: =IFERROR(INDEX($B$5:$O$625,MATCH(ROWS($P$5:$P32),$O$5:$O$625,0),2),"") | Q32: =IF(ISNUMBER(FIND($Q$3,$B32)),MAXA($Q$4:Q31)+1,0) -> 28 | R32: =IFERROR(INDEX($B$5:$Q$625,MATCH(ROWS($R$5:$R32),$Q$5:$Q$625,0),1),"") -> 0
B33: 7803-52-3 | C33: Antimonhydrid | D33: 0.05 | E33: 0.25 | O33: =IF(ISNUMBER(FIND($O$3,$C33)),MAXA($O$4:O32)+1,0) -> 0 | P33: =IFERROR(INDEX($B$5:$O$625,MATCH(ROWS($P$5:$P33),$O$5:$O$625,0),2),"") | Q33: =IF(ISNUMBER(FIND($Q$3,$B33)),MAXA($Q$4:Q32)+1,0) -> 29 | R33: =IFERROR(INDEX($B$5:$Q$625,MATCH(ROWS($R$5:$R33),$Q$5:$Q$625,0),1),"") -> 7803-52-3
C34: Arsen og uorg. arsenforb. (unntatt arsenhydrid) (beregnet som As) | E34: 0.005 | O34: =IF(ISNUMBER(FIND($O$3,$C34)),MAXA($O$4:O33)+1,0) -> 0 | P34: =IFERROR(INDEX($B$5:$O$625,MATCH(ROWS($P$5:$P34),$O$5:$O$625,0),2),"") | Q34: =IF(ISNUMBER(FIND($Q$3,$B34)),MAXA($Q$4:Q33)+1,0) -> 30 | R34: =IFERROR(INDEX($B$5:$Q$625,MATCH(ROWS($R$5:$R34),$Q$5:$Q$625,0),1),"") -> 0
B35: 7784-42-1 | C35: Arsenhydrid | D35: 0.003 | E35: 0.01 | O35: =IF(ISNUMBER(FIND($O$3,$C35)),MAXA($O$4:O34)+1,0) -> 0 | P35: =IFERROR(INDEX($B$5:$O$625,MATCH(ROWS($P$5:$P35),$O$5:$O$625,0),2),"") | Q35: =IF(ISNUMBER(FIND($Q$3,$B35)),MAXA($Q$4:Q34)+1,0) -> 31 | R35: =IFERROR(INDEX($B$5:$Q$625,MATCH(ROWS($R$5:$R35),$Q$5:$Q$625,0),1),"") -> 7784-42-1
C36: Asbest, alle former | F36: 0.1 | O36: =IF(ISNUMBER(FIND($O$3,$C36)),MAXA($O$4:O35)+1,0) -> 0 | P36: =IFERROR(INDEX($B$5:$O$625,MATCH(ROWS($P$5:$P36),$O$5:$O$625,0),2),"") | Q36: =IF(ISNUMBER(FIND($Q$3,$B36)),MAXA($Q$4:Q35)+1,0) -> 32 | R36: =IFERROR(INDEX($B$5:$Q$625,MATCH(ROWS($R$5:$R36),$Q$5:$Q$625,0),1),"") -> 0
B37: 8052-42-4 | C37: Asfalt (røyk) | E37: 5 | O37: =IF(ISNUMBER(FIND($O$3,$C37)),MAXA($O$4:O36)+1,0) -> 0 | P37: =IFERROR(INDEX($B$5:$O$625,MATCH(ROWS($P$5:$P37),$O$5:$O$625,0),2),"") | Q37: =IF(ISNUMBER(FIND($Q$3,$B37)),MAXA($Q$4:Q36)+1,0) -> 33 | R37: =IFERROR(INDEX($B$5:$Q$625,MATCH(ROWS($R$5:$R37),$Q$5:$Q$625,0),1),"") -> 8052-42-4
B38: 1912-24-9 | C38: Atrazin | E38: 5 | O38: =IF(ISNUMBER(FIND($O$3,$C38)),MAXA($O$4:O37)+1,0) -> 0 | P38: =IFERROR(INDEX($B$5:$O$625,MATCH(ROWS($P$5:$P38),$O$5:$O$625,0),2),"") | Q38: =IF(ISNUMBER(FIND($Q$3,$B38)),MAXA($Q$4:Q37)+1,0) -> 34 | R38: =IFERROR(INDEX($B$5:$Q$625,MATCH(ROWS($R$5:$R38),$Q$5:$Q$625,0),1),"") -> 1912-24-9
B39: 111-40-0 | C39: 3-azapentan-1,5-diamin | D39: 1 | E39: 4 | O39: =IF(ISNUMBER(FIND($O$3,$C39)),MAXA($O$4:O38)+1,0) -> 0 | P39: =IFERROR(INDEX($B$5:$O$625,MATCH(ROWS($P$5:$P39),$O$5:$O$625,0),2),"") | Q39: =IF(ISNUMBER(FIND($Q$3,$B39)),MAXA($Q$4:Q38)+1,0) -> 35 | R39: =IFERROR(INDEX($B$5:$Q$625,MATCH(ROWS($R$5:$R39),$Q$5:$Q$625,0),1),"") -> 111-40-0
B40: 86-50-0 | C40: Azinfosmetyl | E40: 0.2 | O40: =IF(ISNUMBER(FIND($O$3,$C40)),MAXA($O$4:O39)+1,0) -> 0 | P40: =IFERROR(INDEX($B$5:$O$625,MATCH(ROWS($P$5:$P40),$O$5:$O$625,0),2),"") | Q40: =IF(ISNUMBER(FIND($Q$3,$B40)),MAXA($Q$4:Q39)+1,0) -> 36 | R40: =IFERROR(INDEX($B$5:$Q$625,MATCH(ROWS($R$5:$R40),$Q$5:$Q$625,0),1),"") -> 86-50-0
C41: Barium og bariumforb. (unntatt bariumsulfat) (beregnet som Ba) | E41: 0.5 | O41: =IF(ISNUMBER(FIND($O$3,$C41)),MAXA($O$4:O40)+1,0) -> 0 | P41: =IFERROR(INDEX($B$5:$O$625,MATCH(ROWS($P$5:$P41),$O$5:$O$625,0),2),"") | Q41: =IF(ISNUMBER(FIND($Q$3,$B41)),MAXA($Q$4:Q40)+1,0) -> 37 | R41: =IFERROR(INDEX($B$5:$Q$625,MATCH(ROWS($R$5:$R41),$Q$5:$Q$625,0),1),"") -> 0
B42: 17804-35-2 | C42: Benomyl | D42: 0.8 | E42: 10 | O42: =IF(ISNUMBER(FIND($O$3,$C42)),MAXA($O$4:O41)+1,0) -> 0 | P42: =IFERROR(INDEX($B$5:$O$625,MATCH(ROWS($P$5:$P42),$O$5:$O$625,0),2),"") | Q42: =IF(ISNUMBER(FIND($Q$3,$B42)),MAXA($Q$4:Q41)+1,0) -> 38 | R42: =IFERROR(INDEX($B$5:$Q$625,MATCH(ROWS($R$5:$R42),$Q$5:$Q$625,0),1),"") -> 17804-35-2
B43: 71-43-2 | C43: Benzen | D43: 0.2 | E43: 0.6 | O43: =IF(ISNUMBER(FIND($O$3,$C43)),MAXA($O$4:O42)+1,0) -> 0 | P43: =IFERROR(INDEX($B$5:$O$625,MATCH(ROWS($P$5:$P43),$O$5:$O$625,0),2),"") | Q43: =IF(ISNUMBER(FIND($Q$3,$B43)),MAXA($Q$4:Q42)+1,0) -> 39 | R43: =IFERROR(INDEX($B$5:$Q$625,MATCH(ROWS($R$5:$R43),$Q$5:$Q$625,0),1),"") -> 71-43-2
B44: 108-46-3 | C44: 1,3-benzendiol | D44: 10 | E44: 45 | O44: =IF(ISNUMBER(FIND($O$3,$C44)),MAXA($O$4:O43)+1,0) -> 0 | P44: =IFERROR(INDEX($B$5:$O$625,MATCH(ROWS($P$5:$P44),$O$5:$O$625,0),2),"") | Q44: =IF(ISNUMBER(FIND($Q$3,$B44)),MAXA($Q$4:Q43)+1,0) -> 40 | R44: =IFERROR(INDEX($B$5:$Q$625,MATCH(ROWS($R$5:$R44),$Q$5:$Q$625,0),1),"") -> 108-46-3
B45: 108-98-5 | C45: Benzentiol | D45: 0.5 | E45: 2 | O45: =IF(ISNUMBER(FIND($O$3,$C45)),MAXA($O$4:O44)+1,0) -> 0 | P45: =IFERROR(INDEX($B$5:$O$625,MATCH(ROWS($P$5:$P45),$O$5:$O$625,0),2),"") | Q45: =IF(ISNUMBER(FIND($Q$3,$B45)),MAXA($Q$4:Q44)+1,0) -> 41 | R45: =IFERROR(INDEX($B$5:$Q$625,MATCH(ROWS($R$5:$R45),$Q$5:$Q$625,0),1),"") -> 108-98-5
B46: 552-30-7 | C46: Benzen-1,2,4-trikarboksylsyre-1,2-anhydrid | D46: 0.005 | E46: 0.04 | O46: =IF(ISNUMBER(FIND($O$3,$C46)),MAXA($O$4:O45)+1,0) -> 0 | P46: =IFERROR(INDEX($B$5:$O$625,MATCH(ROWS($P$5:$P46),$O$5:$O$625,0),2),"") | Q46: =IF(ISNUMBER(FIND($Q$3,$B46)),MAXA($Q$4:Q45)+1,0) -> 42 | R46: =IFERROR(INDEX($B$5:$Q$625,MATCH(ROWS($R$5:$R46),$Q$5:$Q$625,0),1),"") -> 552-30-7
B47: 106-51-4 | C47: 1,4-benzokinon | D47: 0.1 | E47: 0.4 | O47: =IF(ISNUMBER(FIND($O$3,$C47)),MAXA($O$4:O46)+1,0) -> 0 | P47: =IFERROR(INDEX($B$5:$O$625,MATCH(ROWS($P$5:$P47),$O$5:$O$625,0),2),"") | Q47: =IF(ISNUMBER(FIND($Q$3,$B47)),MAXA($Q$4:Q46)+1,0) -> 43 | R47: =IFERROR(INDEX($B$5:$Q$625,MATCH(ROWS($R$5:$R47),$Q$5:$Q$625,0),1),"") -> 106-51-4
B48: 94-36-0 | C48: Benzoylperoksid | E48: 5 | O48: =IF(ISNUMBER(FIND($O$3,$C48)),MAXA($O$4:O47)+1,0) -> 0 | P48: =IFERROR(INDEX($B$5:$O$625,MATCH(ROWS($P$5:$P48),$O$5:$O$625,0),2),"") | Q48: =IF(ISNUMBER(FIND($Q$3,$B48)),MAXA($Q$4:Q47)+1,0) -> 44 | R48: =IFERROR(INDEX($B$5:$Q$625,MATCH(ROWS($R$5:$R48),$Q$5:$Q$625,0),1),"") -> 94-36-0
B49: 85-68-7 | C49: Benzylbutylftalat (BBP) | E49: 1 | O49: =IF(ISNUMBER(FIND($O$3,$C49)),MAXA($O$4:O48)+1,0) -> 0 | P49: =IFERROR(INDEX($B$5:$O$625,MATCH(ROWS($P$5:$P49),$O$5:$O$625,0),2),"") | Q49: =IF(ISNUMBER(FIND($Q$3,$B49)),MAXA($Q$4:Q48)+1,0) -> 45 | R49: =IFERROR(INDEX($B$5:$Q$625,MATCH(ROWS($R$5:$R49),$Q$5:$Q$625,0),1),"") -> 85-68-7
C50: Beryllium og berylliumforb. (beregnet som Be) | E50: 2e-05 | O50: =IF(ISNUMBER(FIND($O$3,$C50)),MAXA($O$4:O49)+1,0) -> 0 | P50: =IFERROR(INDEX($B$5:$O$625,MATCH(ROWS($P$5:$P50),$O$5:$O$625,0),2),"") | Q50: =IF(ISNUMBER(FIND($Q$3,$B50)),MAXA($Q$4:Q49)+1,0) -> 46 | R50: =IFERROR(INDEX($B$5:$Q$625,MATCH(ROWS($R$5:$R50),$Q$5:$Q$625,0),1),"") -> 0
B51: 92-52-4 | C51: Bifenyl | D51: 0.2 | E51: 1 | O51: =IF(ISNUMBER(FIND($O$3,$C51)),MAXA($O$4:O50)+1,0) -> 0 | P51: =IFERROR(INDEX($B$5:$O$625,MATCH(ROWS($P$5:$P51),$O$5:$O$625,0),2),"") | Q51: =IF(ISNUMBER(FIND($Q$3,$B51)),MAXA($Q$4:Q50)+1,0) -> 47 | R51: =IFERROR(INDEX($B$5:$Q$625,MATCH(ROWS($R$5:$R51),$Q$5:$Q$625,0),1),"") -> 92-52-4
B52: 80-05-7 | C52: Bisfenol A, inhalerbar | E52: 10 | O52: =IF(ISNUMBER(FIND($O$3,$C52)),MAXA($O$4:O51)+1,0) -> 0 | P52: =IFERROR(INDEX($B$5:$O$625,MATCH(ROWS($P$5:$P52),$O$5:$O$625,0),2),"") | Q52: =IF(ISNUMBER(FIND($Q$3,$B52)),MAXA($Q$4:Q51)+1,0) -> 48 | R52: =IFERROR(INDEX($B$5:$Q$625,MATCH(ROWS($R$5:$R52),$Q$5:$Q$625,0),1),"") -> 80-05-7
C53: Bly og uorg. blyforb. (beregnet som Pb) (støv og røyk) | E53: 0.05 | O53: =IF(ISNUMBER(FIND($O$3,$C53)),MAXA($O$4:O52)+1,0) -> 0 | P53: =IFERROR(INDEX($B$5:$O$625,MATCH(ROWS($P$5:$P53),$O$5:$O$625,0),2),"") | Q53: =IF(ISNUMBER(FIND($Q$3,$B53)),MAXA($Q$4:Q52)+1,0) -> 49 | R53: =IFERROR(INDEX($B$5:$Q$625,MATCH(ROWS($R$5:$R53),$Q$5:$Q$625,0),1),"") -> 0
B54: 301-04-2 | C54: Blyacetat (beregnet som Pb) | E54: 0.05 | O54: =IF(ISNUMBER(FIND($O$3,$C54)),MAXA($O$4:O53)+1,0) -> 0 | P54: =IFERROR(INDEX($B$5:$O$625,MATCH(ROWS($P$5:$P54),$O$5:$O$625,0),2),"") | Q54: =IF(ISNUMBER(FIND($Q$3,$B54)),MAXA($Q$4:Q53)+1,0) -> 50 | R54: =IFERROR(INDEX($B$5:$Q$625,MATCH(ROWS($R$5:$R54),$Q$5:$Q$625,0),1),"") -> 301-04-2
B55: 7446-27-7 | C55: Blyfosfat (beregnet som Pb) | E55: 0.05 | O55: =IF(ISNUMBER(FIND($O$3,$C55)),MAXA($O$4:O54)+1,0) -> 0 | P55: =IFERROR(INDEX($B$5:$O$625,MATCH(ROWS($P$5:$P55),$O$5:$O$625,0),2),"") | Q55: =IF(ISNUMBER(FIND($Q$3,$B55)),MAXA($Q$4:Q54)+1,0) -> 51 | R55: =IFERROR(INDEX($B$5:$Q$625,MATCH(ROWS($R$5:$R55),$Q$5:$Q$625,0),1),"") -> 7446-27-7
B56: 7758-97-6 | C56: Blykromat (beregnet som Cr(VI)) | E56: 0.001 | O56: =IF(ISNUMBER(FIND($O$3,$C56)),MAXA($O$4:O55)+1,0) -> 0 | P56: =IFERROR(INDEX($B$5:$O$625,MATCH(ROWS($P$5:$P56),$O$5:$O$625,0),2),"") | Q56: =IF(ISNUMBER(FIND($Q$3,$B56)),MAXA($Q$4:Q55)+1,0) -> 52 | R56: =IFERROR(INDEX($B$5:$Q$625,MATCH(ROWS($R$5:$R56),$Q$5:$Q$625,0),1),"") -> 7758-97-6
B57: 1335-32-6 | C57: Blysubacetat (beregnet som Pb) | E57: 0.05 | O57: =IF(ISNUMBER(FIND($O$3,$C57)),MAXA($O$4:O56)+1,0) -> 0 | P57: =IFERROR(INDEX($B$5:$O$625,MATCH(ROWS($P$5:$P57),$O$5:$O$625,0),2),"") | Q57: =IF(ISNUMBER(FIND($Q$3,$B57)),MAXA($Q$4:Q56)+1,0) -> 53 | R57: =IFERROR(INDEX($B$5:$Q$625,MATCH(ROWS($R$5:$R57),$Q$5:$Q$625,0),1),"") -> 1335-32-6
C58: Bomullstøv, totalstøv | E58: 0.2 | O58: =IF(ISNUMBER(FIND($O$3,$C58)),MAXA($O$4:O57)+1,0) -> 0 | P58: =IFERROR(INDEX($B$5:$O$625,MATCH(ROWS($P$5:$P58),$O$5:$O$625,0),2),"") | Q58: =IF(ISNUMBER(FIND($Q$3,$B58)),MAXA($Q$4:Q57)+1,0) -> 54 | R58: =IFERROR(INDEX($B$5:$Q$625,MATCH(ROWS($R$5:$R58),$Q$5:$Q$625,0),1),"") -> 0
B59: 1303-86-2 | C59: Boroksid | E59: 10 | O59: =IF(ISNUMBER(FIND($O$3,$C59)),MAXA($O$4:O58)+1,0) -> 0 | P59: =IFERROR(INDEX($B$5:$O$625,MATCH(ROWS($P$5:$P59),$O$5:$O$625,0),2),"") | Q59: =IF(ISNUMBER(FIND($Q$3,$B59)),MAXA($Q$4:Q58)+1,0) -> 55 | R59: =IFERROR(INDEX($B$5:$Q$625,MATCH(ROWS($R$5:$R59),$Q$5:$Q$625,0),1),"") -> 1303-86-2
B60: 10294-33-4 | C60: Bortribromid | I60: 1 | J60: 10 | O60: =IF(ISNUMBER(FIND($O$3,$C60)),MAXA($O$4:O59)+1,0) -> 0 | P60: =IFERROR(INDEX($B$5:$O$625,MATCH(ROWS($P$5:$P60),$O$5:$O$625,0),2),"") | Q60: =IF(ISNUMBER(FIND($Q$3,$B60)),MAXA($Q$4:Q59)+1,0) -> 56 | R60: =IFERROR(INDEX($B$5:$Q$625,MATCH(ROWS($R$5:$R60),$Q$5:$Q$625,0),1),"") -> 10294-33-4
B61: 2095581 | C61: Bortrifluorid | I61: 1 | J61: 3 | O61: =IF(ISNUMBER(FIND($O$3,$C61)),MAXA($O$4:O60)+1,0) -> 0 | P61: =IFERROR(INDEX($B$5:$O$625,MATCH(ROWS($P$5:$P61),$O$5:$O$625,0),2),"") | Q61: =IF(ISNUMBER(FIND($Q$3,$B61)),MAXA($Q$4:Q60)+1,0) -> 57 | R61: =IFERROR(INDEX($B$5:$Q$625,MATCH(ROWS($R$5:$R61),$Q$5:$Q$625,0),1),"") -> 2095581
B62: 7726-95-6 | C62: Brom | D62: 0.1 | E62: 0.7 | O62: =IF(ISNUMBER(FIND($O$3,$C62)),MAXA($O$4:O61)+1,0) -> 0 | P62: =IFERROR(INDEX($B$5:$O$625,MATCH(ROWS($P$5:$P62),$O$5:$O$625,0),2),"") | Q62: =IF(ISNUMBER(FIND($Q$3,$B62)),MAXA($Q$4:Q61)+1,0) -> 58 | R62: =IFERROR(INDEX($B$5:$Q$625,MATCH(ROWS($R$5:$R62),$Q$5:$Q$625,0),1),"") -> 7726-95-6
B63: 74-96-4 | C63: Brometan | D63: 5 | E63: 22 | O63: =IF(ISNUMBER(FIND($O$3,$C63)),MAXA($O$4:O62)+1,0) -> 0 | P63: =IFERROR(INDEX($B$5:$O$625,MATCH(ROWS($P$5:$P63),$O$5:$O$625,0),2),"") | Q63: =IF(ISNUMBER(FIND($Q$3,$B63)),MAXA($Q$4:Q62)+1,0) -> 59 | R63: =IFERROR(INDEX($B$5:$Q$625,MATCH(ROWS($R$5:$R63),$Q$5:$Q$625,0),1),"") -> 74-96-4
B64: 74-97-5 | C64: Bromklormetan | D64: 100 | E64: 525 | O64: =IF(ISNUMBER(FIND($O$3,$C64)),MAXA($O$4:O63)+1,0) -> 0 | P64: =IFERROR(INDEX($B$5:$O$625,MATCH(ROWS($P$5:$P64),$O$5:$O$625,0),2),"") | Q64: =IF(ISNUMBER(FIND($Q$3,$B64)),MAXA($Q$4:Q63)+1,0) -> 60 | R64: =IFERROR(INDEX($B$5:$Q$625,MATCH(ROWS($R$5:$R64),$Q$5:$Q$625,0),1),"") -> 74-97-5
B65: 74-83-9 | C65: Brommetan | D65: 5 | E65: 20 | O65: =IF(ISNUMBER(FIND($O$3,$C65)),MAXA($O$4:O64)+1,0) -> 0 | P65: =IFERROR(INDEX($B$5:$O$625,MATCH(ROWS($P$5:$P65),$O$5:$O$625,0),2),"") | Q65: =IF(ISNUMBER(FIND($Q$3,$B65)),MAXA($Q$4:Q64)+1,0) -> 61 | R65: =IFERROR(INDEX($B$5:$Q$625,MATCH(ROWS($R$5:$R65),$Q$5:$Q$625,0),1),"") -> 74-83-9
B66: 7789-30-2 | C66: Brompentafluorid | D66: 0.1 | E66: 0.7 | O66: =IF(ISNUMBER(FIND($O$3,$C66)),MAXA($O$4:O65)+1,0) -> 0 | P66: =IFERROR(INDEX($B$5:$O$625,MATCH(ROWS($P$5:$P66),$O$5:$O$625,0),2),"") | Q66: =IF(ISNUMBER(FIND($Q$3,$B66)),MAXA($Q$4:Q65)+1,0) -> 62 | R66: =IFERROR(INDEX($B$5:$Q$625,MATCH(ROWS($R$5:$R66),$Q$5:$Q$625,0),1),"") -> 7789-30-2
B67: 75-63-8 | C67: Bromtrifluormetan | D67: 500 | E67: 3050 | O67: =IF(ISNUMBER(FIND($O$3,$C67)),MAXA($O$4:O66)+1,0) -> 0 | P67: =IFERROR(INDEX($B$5:$O$625,MATCH(ROWS($P$5:$P67),$O$5:$O$625,0),2),"") | Q67: =IF(ISNUMBER(FIND($Q$3,$B67)),MAXA($Q$4:Q66)+1,0) -> 63 | R67: =IFERROR(INDEX($B$5:$Q$625,MATCH(ROWS($R$5:$R67),$Q$5:$Q$625,0),1),"") -> 75-63-8
B68: 106-99-0 | C68: 1,3-butadien | D68: 1 | E68: 2.2 | O68: =IF(ISNUMBER(FIND($O$3,$C68)),MAXA($O$4:O67)+1,0) -> 0 | P68: =IFERROR(INDEX($B$5:$O$625,MATCH(ROWS($P$5:$P68),$O$5:$O$625,0),2),"") | Q68: =IF(ISNUMBER(FIND($Q$3,$B68)),MAXA($Q$4:Q67)+1,0) -> 64 | R68: =IFERROR(INDEX($B$5:$Q$625,MATCH(ROWS($R$5:$R68),$Q$5:$Q$625,0),1),"") -> 106-99-0
B69: 106-97-8 | C69: Butan | D69: 250 | E69: 600 | O69: =IF(ISNUMBER(FIND($O$3,$C69)),MAXA($O$4:O68)+1,0) -> 0 | P69: =IFERROR(INDEX($B$5:$O$625,MATCH(ROWS($P$5:$P69),$O$5:$O$625,0),2),"") | Q69: =IF(ISNUMBER(FIND($Q$3,$B69)),MAXA($Q$4:Q68)+1,0) -> 65 | R69: =IFERROR(INDEX($B$5:$Q$625,MATCH(ROWS($R$5:$R69),$Q$5:$Q$625,0),1),"") -> 106-97-8
B70: 71-36-3 | C70: Butan-1-ol | I70: 25 | J70: 75 | O70: =IF(ISNUMBER(FIND($O$3,$C70)),MAXA($O$4:O69)+1,0) -> 0 | P70: =IFERROR(INDEX($B$5:$O$625,MATCH(ROWS($P$5:$P70),$O$5:$O$625,0),2),"") | Q70: =IF(ISNUMBER(FIND($Q$3,$B70)),MAXA($Q$4:Q69)+1,0) -> 66 | R70: =IFERROR(INDEX($B$5:$Q$625,MATCH(ROWS($R$5:$R70),$Q$5:$Q$625,0),1),"") -> 71-36-3
B71: 78-92-2 | C71: Butan-2-ol | I71: 25 | J71: 75 | O71: =IF(ISNUMBER(FIND($O$3,$C71)),MAXA($O$4:O70)+1,0) -> 0 | P71: =IFERROR(INDEX($B$5:$O$625,MATCH(ROWS($P$5:$P71),$O$5:$O$625,0),2),"") | Q71: =IF(ISNUMBER(FIND($Q$3,$B71)),MAXA($Q$4:Q70)+1,0) -> 67 | R71: =IFERROR(INDEX($B$5:$Q$625,MATCH(ROWS($R$5:$R71),$Q$5:$Q$625,0),1),"") -> 78-92-2
B72: 431-03-8 | C72: 2, 3-butandion | D72: 0.1 | E72: 0.4 | O72: =IF(ISNUMBER(FIND($O$3,$C72)),MAXA($O$4:O71)+1,0) -> 0 | P72: =IFERROR(INDEX($B$5:$O$625,MATCH(ROWS($P$5:$P72),$O$5:$O$625,0),2),"") | Q72: =IF(ISNUMBER(FIND($Q$3,$B72)),MAXA($Q$4:Q71)+1,0) -> 68 | R72: =IFERROR(INDEX($B$5:$Q$625,MATCH(ROWS($R$5:$R72),$Q$5:$Q$625,0),1),"") -> 431-03-8
C73: Butanol (alle isomere) | I73: 25 | J73: 75 | O73: =IF(ISNUMBER(FIND($O$3,$C73)),MAXA($O$4:O72)+1,0) -> 0 | P73: =IFERROR(INDEX($B$5:$O$625,MATCH(ROWS($P$5:$P73),$O$5:$O$625,0),2),"") | Q73: =IF(ISNUMBER(FIND($Q$3,$B73)),MAXA($Q$4:Q72)+1,0) -> 69 | R73: =IFERROR(INDEX($B$5:$Q$625,MATCH(ROWS($R$5:$R73),$Q$5:$Q$625,0),1),"") -> 0
B74: 78-93-3 | C74: Butanon | D74: 75 | E74: 220 | O74: =IF(ISNUMBER(FIND($O$3,$C74)),MAXA($O$4:O73)+1,0) -> 0 | P74: =IFERROR(INDEX($B$5:$O$625,MATCH(ROWS($P$5:$P74),$O$5:$O$625,0),2),"") | Q74: =IF(ISNUMBER(FIND($Q$3,$B74)),MAXA($Q$4:Q73)+1,0) -> 70 | R74: =IFERROR(INDEX($B$5:$Q$625,MATCH(ROWS($R$5:$R74),$Q$5:$Q$625,0),1),"") -> 78-93-3
B75: 1338-23-4 | C75: 2-butanonperoksid | J75: 1 | O75: =IF(ISNUMBER(FIND($O$3,$C75)),MAXA($O$4:O74)+1,0) -> 0 | P75: =IFERROR(INDEX($B$5:$O$625,MATCH(ROWS($P$5:$P75),$O$5:$O$625,0),2),"") | Q75: =IF(ISNUMBER(FIND($Q$3,$B75)),MAXA($Q$4:Q74)+1,0) -> 71 | R75: =IFERROR(INDEX($B$5:$Q$625,MATCH(ROWS($R$5:$R75),$Q$5:$Q$625,0),1),"") -> 1338-23-4
B76: 109-79-5 | C76: Butantiol | D76: 0.5 | E76: 1.5 | O76: =IF(ISNUMBER(FIND($O$3,$C76)),MAXA($O$4:O75)+1,0) -> 0 | P76: =IFERROR(INDEX($B$5:$O$625,MATCH(ROWS($P$5:$P76),$O$5:$O$625,0),2),"") | Q76: =IF(ISNUMBER(FIND($Q$3,$B76)),MAXA($Q$4:Q75)+1,0) -> 72 | R76: =IFERROR(INDEX($B$5:$Q$625,MATCH(ROWS($R$5:$R76),$Q$5:$Q$625,0),1),"") -> 109-79-5
B77: 123-73-9 | C77: (E)-2-butenal | D77: 2 | E77: 6 | O77: =IF(ISNUMBER(FIND($O$3,$C77)),MAXA($O$4:O76)+1,0) -> 0 | P77: =IFERROR(INDEX($B$5:$O$625,MATCH(ROWS($P$5:$P77),$O$5:$O$625,0),2),"") | Q77: =IF(ISNUMBER(FIND($Q$3,$B77)),MAXA($Q$4:Q76)+1,0) -> 73 | R77: =IFERROR(INDEX($B$5:$Q$625,MATCH(ROWS($R$5:$R77),$Q$5:$Q$625,0),1),"") -> 123-73-9
B78: 111-76-2 | C78: 2-butoksyetanol | D78: 10 | E78: 50 | O78: =IF(ISNUMBER(FIND($O$3,$C78)),MAXA($O$4:O77)+1,0) -> 0 | P78: =IFERROR(INDEX($B$5:$O$625,MATCH(ROWS($P$5:$P78),$O$5:$O$625,0),2),"") | Q78: =IF(ISNUMBER(FIND($Q$3,$B78)),MAXA($Q$4:Q77)+1,0) -> 74 | R78: =IFERROR(INDEX($B$5:$Q$625,MATCH(ROWS($R$5:$R78),$Q$5:$Q$625,0),1),"") -> 111-76-2
B79: 192337 | C79: 1-butoksy-2,3-epoksypropan | D79: 5 | E79: 27 | O79: =IF(ISNUMBER(FIND($O$3,$C79)),MAXA($O$4:O78)+1,0) -> 0 | P79: =IFERROR(INDEX($B$5:$O$625,MATCH(ROWS($P$5:$P79),$O$5:$O$625,0),2),"") | Q79: =IF(ISNUMBER(FIND($Q$3,$B79)),MAXA($Q$4:Q78)+1,0) -> 75 | R79: =IFERROR(INDEX($B$5:$Q$625,MATCH(ROWS($R$5:$R79),$Q$5:$Q$625,0),1),"") -> 192337
B80: 112-34-5 | C80: 2-2(butoksyetoksy)etanol | D80: 10 | E80: 68 | O80: =IF(ISNUMBER(FIND($O$3,$C80)),MAXA($O$4:O79)+1,0) -> 0 | P80: =IFERROR(INDEX($B$5:$O$625,MATCH(ROWS($P$5:$P80),$O$5:$O$625,0),2),"") | Q80: =IF(ISNUMBER(FIND($Q$3,$B80)),MAXA($Q$4:Q79)+1,0) -> 76 | R80: =IFERROR(INDEX($B$5:$Q$625,MATCH(ROWS($R$5:$R80),$Q$5:$Q$625,0),1),"") -> 112-34-5
B81: 112-07-2 | C81: 2-butoksyetylacetat | D81: 10 | E81: 65 | O81: =IF(ISNUMBER(FIND($O$3,$C81)),MAXA($O$4:O80)+1,0) -> 0 | P81: =IFERROR(INDEX($B$5:$O$625,MATCH(ROWS($P$5:$P81),$O$5:$O$625,0),2),"") | Q81: =IF(ISNUMBER(FIND($Q$3,$B81)),MAXA($Q$4:Q80)+1,0) -> 77 | R81: =IFERROR(INDEX($B$5:$Q$625,MATCH(ROWS($R$5:$R81),$Q$5:$Q$625,0),1),"") -> 112-07-2
C82: Butylacetat (alle isomere) | D82: 50 | E82: 241 | O82: =IF(ISNUMBER(FIND($O$3,$C82)),MAXA($O$4:O81)+1,0) -> 0 | P82: =IFERROR(INDEX($B$5:$O$625,MATCH(ROWS($P$5:$P82),$O$5:$O$625,0),2),"") | Q82: =IF(ISNUMBER(FIND($Q$3,$B82)),MAXA($Q$4:Q81)+1,0) -> 78 | R82: =IFERROR(INDEX($B$5:$Q$625,MATCH(ROWS($R$5:$R82),$Q$5:$Q$625,0),1),"") -> 0
B83: 141-32-2 | C83: Butylakrylat | D83: 2 | E83: 11 | O83: =IF(ISNUMBER(FIND($O$3,$C83)),MAXA($O$4:O82)+1,0) -> 0 | P83: =IFERROR(INDEX($B$5:$O$625,MATCH(ROWS($P$5:$P83),$O$5:$O$625,0),2),"") | Q83: =IF(ISNUMBER(FIND($Q$3,$B83)),MAXA($Q$4:Q82)+1,0) -> 79 | R83: =IFERROR(INDEX($B$5:$Q$625,MATCH(ROWS($R$5:$R83),$Q$5:$Q$625,0),1),"") -> 141-32-2
C84: Butylamin (alle isomere) | I84: 5 | J84: 15 | O84: =IF(ISNUMBER(FIND($O$3,$C84)),MAXA($O$4:O83)+1,0) -> 0 | P84: =IFERROR(INDEX($B$5:$O$625,MATCH(ROWS($P$5:$P84),$O$5:$O$625,0),2),"") | Q84: =IF(ISNUMBER(FIND($Q$3,$B84)),MAXA($Q$4:Q83)+1,0) -> 80 | R84: =IFERROR(INDEX($B$5:$Q$625,MATCH(ROWS($R$5:$R84),$Q$5:$Q$625,0),1),"") -> 0
B85: 1189-85-1 | C85: tert-butylkromat (beregnet som CrO₃ ) | J85: 0.1 | O85: =IF(ISNUMBER(FIND($O$3,$C85)),MAXA($O$4:O84)+1,0) -> 0 | P85: =IFERROR(INDEX($B$5:$O$625,MATCH(ROWS($P$5:$P85),$O$5:$O$625,0),2),"") | Q85: =IF(ISNUMBER(FIND($Q$3,$B85)),MAXA($Q$4:Q84)+1,0) -> 81 | R85: =IFERROR(INDEX($B$5:$Q$625,MATCH(ROWS($R$5:$R85),$Q$5:$Q$625,0),1),"") -> 1189-85-1
B86: 138-22-7 | C86: Butyllaktat | D86: 5 | E86: 25 | O86: =IF(ISNUMBER(FIND($O$3,$C86)),MAXA($O$4:O85)+1,0) -> 0 | P86: =IFERROR(INDEX($B$5:$O$625,MATCH(ROWS($P$5:$P86),$O$5:$O$625,0),2),"") | Q86: =IF(ISNUMBER(FIND($Q$3,$B86)),MAXA($Q$4:Q85)+1,0) -> 82 | R86: =IFERROR(INDEX($B$5:$Q$625,MATCH(ROWS($R$5:$R86),$Q$5:$Q$625,0),1),"") -> 138-22-7
B87: 97-88-1 | C87: Butylmetakrylat | D87: 10 | E87: 59 | O87: =IF(ISNUMBER(FIND($O$3,$C87)),MAXA($O$4:O86)+1,0) -> 0 | P87: =IFERROR(INDEX($B$5:$O$625,MATCH(ROWS($P$5:$P87),$O$5:$O$625,0),2),"") | Q87: =IF(ISNUMBER(FIND($Q$3,$B87)),MAXA($Q$4:Q86)+1,0) -> 83 | R87: =IFERROR(INDEX($B$5:$Q$625,MATCH(ROWS($R$5:$R87),$Q$5:$Q$625,0),1),"") -> 97-88-1
B88: 1634-04-4 | C88: tert-butylmetyleter (MTBE) | D88: 50 | E88: 183.5 | G88: 100 | H88: 367 | O88: =IF(ISNUMBER(FIND($O$3,$C88)),MAXA($O$4:O87)+1,0) -> 0 | P88: =IFERROR(INDEX($B$5:$O$625,MATCH(ROWS($P$5:$P88),$O$5:$O$625,0),2),"") | Q88: =IF(ISNUMBER(FIND($Q$3,$B88)),MAXA($Q$4:Q87)+1,0) -> 84 | R88: =IFERROR(INDEX($B$5:$Q$625,MATCH(ROWS($R$5:$R88),$Q$5:$Q$625,0),1),"") -> 1634-04-4
B89: 191906 | C89: Captafol | E89: 0.1 | O89: =IF(ISNUMBER(FIND($O$3,$C89)),MAXA($O$4:O88)+1,0) -> 0 | P89: =IFERROR(INDEX($B$5:$O$625,MATCH(ROWS($P$5:$P89),$O$5:$O$625,0),2),"") | Q89: =IF(ISNUMBER(FIND($Q$3,$B89)),MAXA($Q$4:Q88)+1,0) -> 85 | R89: =IFERROR(INDEX($B$5:$Q$625,MATCH(ROWS($R$5:$R89),$Q$5:$Q$625,0),1),"") -> 191906
B90: 133-06-2 | C90: Captan | E90: 5 | O90: =IF(ISNUMBER(FIND($O$3,$C90)),MAXA($O$4:O89)+1,0) -> 0 | P90: =IFERROR(INDEX($B$5:$O$625,MATCH(ROWS($P$5:$P90),$O$5:$O$625,0),2),"") | Q90: =IF(ISNUMBER(FIND($Q$3,$B90)),MAXA($Q$4:Q89)+1,0) -> 86 | R90: =IFERROR(INDEX($B$5:$Q$625,MATCH(ROWS($R$5:$R90),$Q$5:$Q$625,0),1),"") -> 133-06-2
B91: 1333-86-4 | C91: Carbon Black (lampesot) | E91: 3.5 | O91: =IF(ISNUMBER(FIND($O$3,$C91)),MAXA($O$4:O90)+1,0) -> 0 | P91: =IFERROR(INDEX($B$5:$O$625,MATCH(ROWS($P$5:$P91),$O$5:$O$625,0),2),"") | Q91: =IF(ISNUMBER(FIND($Q$3,$B91)),MAXA($Q$4:Q90)+1,0) -> 87 | R91: =IFERROR(INDEX($B$5:$Q$625,MATCH(ROWS($R$5:$R91),$Q$5:$Q$625,0),1),"") -> 1333-86-4
B92: 21351-79-1 | C92: Cesiumhydroksid | E92: 2 | O92: =IF(ISNUMBER(FIND($O$3,$C92)),MAXA($O$4:O91)+1,0) -> 0 | P92: =IFERROR(INDEX($B$5:$O$625,MATCH(ROWS($P$5:$P92),$O$5:$O$625,0),2),"") | Q92: =IF(ISNUMBER(FIND($Q$3,$B92)),MAXA($Q$4:Q91)+1,0) -> 88 | R92: =IFERROR(INDEX($B$5:$Q$625,MATCH(ROWS($R$5:$R92),$Q$5:$Q$625,0),1),"") -> 21351-79-1
B93: 420-04-2 | C93: Cyanamid | D93: 0.6 | E93: 1 | O93: =IF(ISNUMBER(FIND($O$3,$C93)),MAXA($O$4:O92)+1,0) -> 0 | P93: =IFERROR(INDEX($B$5:$O$625,MATCH(ROWS($P$5:$P93),$O$5:$O$625,0),2),"") | Q93: =IF(ISNUMBER(FIND($Q$3,$B93)),MAXA($Q$4:Q92)+1,0) -> 89 | R93: =IFERROR(INDEX($B$5:$Q$625,MATCH(ROWS($R$5:$R93),$Q$5:$Q$625,0),1),"") -> 420-04-2
C94: Cyanider (beregnet som CN) | D94: 5 | E94: 5 | O94: =IF(ISNUMBER(FIND($O$3,$C94)),MAXA($O$4:O93)+1,0) -> 0 | P94: =IFERROR(INDEX($B$5:$O$625,MATCH(ROWS($P$5:$P94),$O$5:$O$625,0),2),"") | Q94: =IF(ISNUMBER(FIND($Q$3,$B94)),MAXA($Q$4:Q93)+1,0) -> 90 | R94: =IFERROR(INDEX($B$5:$Q$625,MATCH(ROWS($R$5:$R94),$Q$5:$Q$625,0),1),"") -> 0
B95: 506-77-4 | C95: Cyanogenklorid | I95: 0.25 | J95: 0.6 | O95: =IF(ISNUMBER(FIND($O$3,$C95)),MAXA($O$4:O94)+1,0) -> 0 | P95: =IFERROR(INDEX($B$5:$O$625,MATCH(ROWS($P$5:$P95),$O$5:$O$625,0),2),"") | Q95: =IF(ISNUMBER(FIND($Q$3,$B95)),MAXA($Q$4:Q94)+1,0) -> 91 | R95: =IFERROR(INDEX($B$5:$Q$625,MATCH(ROWS($R$5:$R95),$Q$5:$Q$625,0),1),"") -> 506-77-4
B96: 13121-70-5 | C96: Cyheksatin | E96: 5 | O96: =IF(ISNUMBER(FIND($O$3,$C96)),MAXA($O$4:O95)+1,0) -> 0 | P96: =IFERROR(INDEX($B$5:$O$625,MATCH(ROWS($P$5:$P96),$O$5:$O$625,0),2),"") | Q96: =IF(ISNUMBER(FIND($Q$3,$B96)),MAXA($Q$4:Q95)+1,0) -> 92 | R96: =IFERROR(INDEX($B$5:$Q$625,MATCH(ROWS($R$5:$R96),$Q$5:$Q$625,0),1),"") -> 13121-70-5
B97: 50-29-3 | C97: DDT | E97: 1 | O97: =IF(ISNUMBER(FIND($O$3,$C97)),MAXA($O$4:O96)+1,0) -> 0 | P97: =IFERROR(INDEX($B$5:$O$625,MATCH(ROWS($P$5:$P97),$O$5:$O$625,0),2),"") | Q97: =IF(ISNUMBER(FIND($Q$3,$B97)),MAXA($Q$4:Q96)+1,0) -> 93 | R97: =IFERROR(INDEX($B$5:$Q$625,MATCH(ROWS($R$5:$R97),$Q$5:$Q$625,0),1),"") -> 50-29-3
B98: 17702-41-9 | C98: Dekaboran | D98: 0.05 | E98: 0.3 | O98: =IF(ISNUMBER(FIND($O$3,$C98)),MAXA($O$4:O97)+1,0) -> 0 | P98: =IFERROR(INDEX($B$5:$O$625,MATCH(ROWS($P$5:$P98),$O$5:$O$625,0),2),"") | Q98: =IF(ISNUMBER(FIND($Q$3,$B98)),MAXA($Q$4:Q97)+1,0) -> 94 | R98: =IFERROR(INDEX($B$5:$Q$625,MATCH(ROWS($R$5:$R98),$Q$5:$Q$625,0),1),"") -> 17702-41-9
C99: Dekaner og andre høyere alifatiske hydrokarboner | D99: 40 | E99: 275 | O99: =IF(ISNUMBER(FIND($O$3,$C99)),MAXA($O$4:O98)+1,0) -> 0 | P99: =IFERROR(INDEX($B$5:$O$625,MATCH(ROWS($P$5:$P99),$O$5:$O$625,0),2),"") | Q99: =IF(ISNUMBER(FIND($Q$3,$B99)),MAXA($Q$4:Q98)+1,0) -> 95 | R99: =IFERROR(INDEX($B$5:$Q$625,MATCH(ROWS($R$5:$R99),$Q$5:$Q$625,0),1),"") -> 0
B100: 8065-48-3 | C100: Demeton | D100: 0.01 | E100: 0.1 | O100: =IF(ISNUMBER(FIND($O$3,$C100)),MAXA($O$4:O99)+1,0) -> 0 | P100: =IFERROR(INDEX($B$5:$O$625,MATCH(ROWS($P$5:$P100),$O$5:$O$625,0),2),"") | Q100: =IF(ISNUMBER(FIND($Q$3,$B100)),MAXA($Q$4:Q99)+1,0) -> 96 | R100: =IFERROR(INDEX($B$5:$Q$625,MATCH(ROWS($R$5:$R100),$Q$5:$Q$625,0),1),"") -> 8065-48-3
B101: 867-27-6 | C101: Demeton-O-metyl | D101: 0.05 | E101: 0.5 | O101: =IF(ISNUMBER(FIND($O$3,$C101)),MAXA($O$4:O100)+1,0) -> 0 | P101: =IFERROR(INDEX($B$5:$O$625,MATCH(ROWS($P$5:$P101),$O$5:$O$625,0),2),"") | Q101: =IF(ISNUMBER(FIND($Q$3,$B101)),MAXA($Q$4:Q100)+1,0) -> 97 | R101: =IFERROR(INDEX($B$5:$Q$625,MATCH(ROWS($R$5:$R101),$Q$5:$Q$625,0),1),"") -> 867-27-6
...

Sheet Stats - distribution
L2: Calculations
C3: Log-normal | G3: Normal | L3: assumed distribution | M3: Chosen distribution | T3: =IF(M4<>"",M4,IF(Analysis!$D$5<6,"K4",IF(AND(Analysis!$D$5>5,(Analysis!$D$5-Analysis!$D$6)<3),"A1",IF(Analysis!$D$13=0,"A2",IF(OR(AND(Analysis!$K$9="Nei",Analysis!$J$9="Nei"),AND(Analysis!$K$9="No",Analysis!$J$9="No")),"A2",IF(OR(Analysis!$K$8>=Analysis!$J$8,Analysis!$D$5<=10),"A3","A4")))))) -> A3
C4: =IF(Information!B6=Tekst!$B$1,Tekst!B15,IF(Information!B6=Tekst!C1,Tekst!C15,"")) -> Målinger (n) | D4: =Calc!$X$1 -> 8 | G4: =IF(Information!B6=Tekst!$B$1,Tekst!B15,IF(Information!B6=Tekst!C1,Tekst!C15,"")) -> Målinger (n) | H4: =Calc!$X$1 -> 8 | L4: =IF($M$4<>"",$M$4,IF(Calc!$X$1<6,"K4",IF(AND(Calc!$X$1>5,Calc!$X$3<3),"A1",IF(Calc!$X$8=0,"A2",IF(OR(AND(Analysis!$K$9="Nei",Analysis!$J$9="Nei"),AND(Analysis!$K$9="No",Analysis!$J$9="No")),"A2",IF(OR(Analysis!$K$8>=Analysis!$J$8,Calc!$X$1<=10),"A3","A4")))))) -> A3 | M4: =IFERROR(INDEX(Tekst!$A$180:$B$181,MATCH(Calc!$AB$1,Tekst!$B$180:$B$181,0),1),"") | T4: HVIS(M4<>"";M4;HVIS('2-3. Analysis'!$D$5<6;"K4";HVIS(OG('2-3. Analysis'!$D$5>5;('2-3. Analysis'!$D$5-'2-3. Analysis'!$D$6)<3);"A1";HVIS('2-3. Analysis'!$D$13=0;"A2";HVIS(ELLER(OG('2-3. Analysis'!$K$9="Nei";'2-3. Analysis'!$J$9="Nei");OG('2-3. Analysis'!$K$9="No";'2-3. Analysis'!$J$9="No"));"A2";HVIS(ELLER('2-3. Analysis'!$K$8>='2-3. Analysis'!$J$8;'2-3. Analysis'!$D$5<=10);"A3";"A4"))))))
C5: =IF(Information!B6=Tekst!$B$1,CONCATENATE(Tekst!B36," (y)"),IF(Information!B6=Tekst!C1,CONCATENATE(Tekst!C36," (y)"),"")) -> middelverdi (y) | D5: ='Calc (W-test)'!$H$3 -> 1.8226299 | G5: =IF(Information!B6=Tekst!$B$1,CONCATENATE(Tekst!B36," (AM)"),IF(Information!B6=Tekst!C1,CONCATENATE(Tekst!C36," (AM)"),"")) -> middelverdi (AM) | H5: =Calc!$Y$11 -> 9.4125
C6: =IF(Information!B6=Tekst!$B$1,CONCATENATE(Tekst!B37," (s_y)"),IF(Information!B6=Tekst!C1,CONCATENATE(Tekst!C37," (s_y)"),"")) -> Standardavvik (s_y) | D6: ='Calc (W-test)'!$H$4 -> 1.036259 | G6: =IF(Information!B6=Tekst!$B$1,CONCATENATE(Tekst!B37," (SD)"),IF(Information!B6=Tekst!C1,CONCATENATE(Tekst!C37," (SD)"),"")) -> Standardavvik (SD) | H6: =Calc!Y12 -> 8.1553554
C7: =CONCATENATE("(",$C$6,")^2/2") -> (Standardavvik (s_y))^2/2 | D7: =$D$6^2/2 -> 0.53691635 | G7: =CONCATENATE("(",$G$6,")^2/2") -> (Standardavvik (SD))^2/2 | H7: =$H$6^2/2 -> 33.254911
D9: 1 | E9: 1
C10: term 1 | D10: =($D$4-1)*((($D$6)^2)/2)/$D$4 -> 0.46980181 | E10: =($D$4-1)*$D$7/$D$4 -> 0.46980181
C11: term 2 | D11: =(($D$4-1)^3)*(((($D$6)^2)/2)^2)/(FACT(2)*(($D$4)^2)*($D$4+1)) -> 0.08583312 | E11: =(($D$4-1)^3)*(($D$7)^2)/((FACT(2))*(($D$4)^2)*($D$4+1)) -> 0.08583312
C12: term 3 | D12: =(($D$4-1)^5)*(((($D$6)^2)/2)^3)/(FACT(3)*(($D$4)^3)*($D$4+1)*($D$4+3)) -> 0.0085536934 | E12: =(($D$4-1)^5)*(($D$7)^3)/((FACT(3))*(($D$4)^3)*($D$4+1)*($D$4+3)) -> 0.0085536934
C13: term 4 | D13: =(($D$4-1)^7)*(((($D$6)^2)/2)^4)/(FACT(4)*(($D$4)^4)*($D$4+1)*($D$4+3)*($D$4+5)) -> 0.00054095739 | E13: =(($D$4-1)^7)*(($D$7)^4)/((FACT(4))*(($D$4)^4)*($D$4+1)*($D$4+3)*($D$4+5)) -> 0.00054095739 | O13: K1 | P13: Eksponeringen over grenseverdi. Tiltak nødvendig
C14: term 5 | D14: =(($D$4-1)^9)*(((($D$6)^2)/2)^5)/(FACT(5)*(($D$4)^5)*($D$4+1)*($D$4+3)*($D$4+5)*($D$4+7)) -> 2.3719991e-05 | E14: =(($D$4-1)^9)*(($D$7)^5)/((FACT(5))*(($D$4)^5)*($D$4+1)*($D$4+3)*($D$4+5)*($D$4+7)) -> 2.3719991e-05 | O14: K2 | P14: Overeksponering kan ikke utelukkes. Tiltak / detaljert kartlegging nødvendig
C15: term 6 | E15: =(($D$4-1)^11)*(($D$7)^6)/((FACT(6))*(($D$4)^6)*($D$4+1)*($D$4+3)*($D$4+5)*($D$4+7)*($D$4+9)) -> 7.6476335e-07 | O15: K3 | P15: Eksponeringen kan trolig ansees som akseptabel
C16: Sum | D16: =SUM($D$9:$D$15) -> 1.5647533 | E16: =SUM($E$9:$E$15) -> 1.5647541 | O16: K4 | P16: N/A
C18: MVUE | D18: =EXP($D$5)*$D$16 -> 9.6828673 | E18: =EXP($D$5)*$E$16 -> 9.6828721 | H18: =(H5)*D16 -> 14.72824 | I18: =(H5)*E16 -> 14.728248
C19: MVUE(max) | D19: =MAXA($D$18:$E$18) -> 9.6828721 | H19: =MAX(H18:I18) -> 14.728248 | P19: Antatt fordeling
C20: MLE | D20: =EXP($D$5+(($D$6)^2)/2) -> 10.586147 | E20: =EXP($D$5)*EXP($D$7) -> 10.586147 | H20: =H5+(H6) -> 17.567855 | I20: =(H5)+(H7) -> 42.667411 | O20: A1 | P20: For få målinger over DG
O21: A2 | P21: Hverken normal- eller log-normalfordeling
O22: A3 | P22: Log-normal
C23: U_T | D23: =VLOOKUP($D$4,'Tables (statistics)'!$B$91:$C$138,2) -> 2.072 | H23: =$D$23 -> 2.072 | O23: A4 | P23: Normal
C24: UTL | D24: =EXP($D$5+($D$23*$D$6)) -> 52.971738 | H24: =$H$5+($H$23*$H$6) -> 26.310396
P25: Konklusjon (n > 5)
O26: K11 | P26: Eksponeringen over grenseverdi. Tiltak nødvendig.
O27: K12 | P27: Forutsetningene for statistisk vurdering ikke tilstede. Faglig vurdering nødvendig.
O28: K13 | P28: Overeksponering kan ikke utelukkes. Tiltak nødvendig.
O29: K14 | P29: Eksponeringen kan trolig ansees som akseptabel
O30: K15 | P30: N/A

Sheet Tabeller
B2: Språk | D2: Enheter | H2: Enheter 2 | K2: Svar | L2: Answer
B3: Norsk | D3: ppm | G3: 1 | H3: ppb | K3: Ja | L3: Yes
B4: English | D4: ppb | G4: 2 | H4: ppm | K4: Nei | L4: No
D5: µg/m³ | G5: 4 | H5: µg/m³
D6: mg/m³ | G6: 5 | H6: mg/m³
G7: 7 | H7: µg
G8: 8 | H8: mg
B13: Nivå | I13: Enhet | J13: 1 mmHg / Torr
B14: Tier 1 | C14: Nivå 1 | D14: 1 | I14: Pa | J14: =133.322387415 -> 133.32239
B15: Tier 2 | C15: Nivå 2 | D15: 2 | I15: atm | J15: =0.0013157895 -> 0.0013157895
I16: mmHg / Torr | J16: 1
I17: psi | J17: 0.01933681
C18: 2 | E18: 1 | I18: bar | J18: 0.0013332237
C19: 1 | D19: 1 | E19: 10
C20: 0.5 | D20: 10 | E20: 100
C21: 0.25 | D21: 100 | E21: 100000
B28: Språk | C28: =INDEX($B$29:$C$48,MATCH(Information!$B$6,Tabeller!$B$29:$B$48,0),2) -> 1 | D28: =MID("ABCDEFGHIJKLMNOPQRSTUVWXYZ",Tabeller!$C$28+1,1) -> B
B29: {=IF(TRANSPOSE(Tekst!$B$1:$U$1)=0,"",TRANSPOSE(Tekst!$B$1:$U$1))} -> Norsk | C29: =IF(B29<>"",ROWS($C$29:C29),"") -> 1
B30: English | C30: =IF(B30<>"",ROWS($C$29:C30),"") -> 2
B31: Español | C31: =IF(B31<>"",ROWS($C$29:C31),"") -> 3
C32: =IF(B32<>"",ROWS($C$29:C32),"")
C33: =IF(B33<>"",ROWS($C$29:C33),"")
C34: =IF(B34<>"",ROWS($C$29:C34),"")
C35: =IF(B35<>"",ROWS($C$29:C35),"")
C36: =IF(B36<>"",ROWS($C$29:C36),"")
C37: =IF(B37<>"",ROWS($C$29:C37),"")
C38: =IF(B38<>"",ROWS($C$29:C38),"")
C39: =IF(B39<>"",ROWS($C$29:C39),"")
C40: =IF(B40<>"",ROWS($C$29:C40),"")
C41: =IF(B41<>"",ROWS($C$29:C41),"")
C42: =IF(B42<>"",ROWS($C$29:C42),"")
C43: =IF(B43<>"",ROWS($C$29:C43),"")
... C48: =IF(B48<>"",ROWS($C$29:C48),"")
C53: {=IFERROR(INDEX($B$56:$U$57,248,Tabeller!$C$28),"")}
B54: {=IFERROR(INDEX($B$56:$U$57,IF(AND(Survey!$D$31=IFERROR(INDEX(Tekst!$B$1:$U$300,258,Tabeller!$C$28),""),Survey!$H$31<>""),1,2),Tabeller!$C$28),"")} -> % av GV
B55: =IF(Tekst!B1<>"",Tekst!B1,"") -> Norsk | C55: =IF(Tekst!C1<>"",Tekst!C1,"") -> English | D55: =IF(Tekst!D1<>"",Tekst!D1,"") -> Español | E55: =IF(Tekst!E1<>"",Tekst!E1,"") | F55: =IF(Tekst!F1<>"",Tekst!F1,"") | G55: =IF(Tekst!G1<>"",Tekst!G1,"") | H55: =IF(Tekst!H1<>"",Tekst!H1,"") | I55: =IF(Tekst!I1<>"",Tekst!I1,"") | ... U55: =IF(Tekst!U1<>"",Tekst!U1,"")
B56: % av KV | C56: % of STEL | D56: % de STEL
B57: % av GV | C57: % of OEL | D57: % de VLA
B61: J | C61: Kommentar | D61: Description
D62: =IF(Tekst!B1<>"",Tekst!B1,"") -> Norsk | E62: =IF(Tekst!C1<>"",Tekst!C1,"") -> English | F62: =IF(Tekst!D1<>"",Tekst!D1,"") -> Español | G62: =IF(Tekst!E1<>"",Tekst!E1,"") | H62: =IF(Tekst!F1<>"",Tekst!F1,"") | I62: =IF(Tekst!G1<>"",Tekst!G1,"") | J62: =IF(Tekst!H1<>"",Tekst!H1,"") | K62: =IF(Tekst!I1<>"",Tekst!I1,"") | ... W62: =IF(Tekst!U1<>"",Tekst!U1,"")
B63: 0.2 | C63: {=IFERROR(INDEX($D$63:$W$67,1,Tabeller!$C$28),"")} -> vurder om nødvendig | D63: vurder om nødvendig | E63: assess the need | F63: evaluar la necesidad
B64: 0.25 | C64: {=IFERROR(INDEX($D$63:$W$67,2,Tabeller!$C$28),"")} -> innen 36 måneder | D64: innen 36 måneder | E64: within 36 months | F64: dentro de los 36 meses
B65: 0.5 | C65: {=IFERROR(INDEX($D$63:$W$67,3,Tabeller!$C$28),"")} -> innen 24 måneder | D65: innen 24 måneder | E65: within 24 months | F65: dentro de los 24 meses
B66: 1 | C66: {=IFERROR(INDEX($D$63:$W$67,4,Tabeller!$C$28),"")} -> innen 12 måneder | D66: innen 12 måneder | E66: within 12 months | F66: dentro de los 12 meses
C67: {=IFERROR(INDEX($D$63:$W$67,5,Tabeller!$C$28),"")} -> etter implementring av risikoreduserende tiltak | D67: etter implementring av risikoreduserende tiltak | E67: following implementation of mitigating measures | F67: después de la implementación de medidas de mitigación

Sheet Tables (statistics)
B4: W Test Table
C5: 2 | D5: 3 | E5: 4 | F5: 5 | G5: 6 | H5: 7 | I5: 8 | J5: 9 | K5: 10 | L5: 11 | M5: 12 | N5: 13 | O5: 14 | P5: 15 | Q5: 16 | R5: 17 | S5: 18 | T5: 19 | U5: 20 | V5: 21 | W5: 22 | X5: 23 | Y5: 24 | Z5: 25 | AA5: 27 | AB5: 28 | AC5: 29 | AD5: 30 | AE5: 31 | AF5: 33 | AG5: 34 | AH5: 35 | AI5: 36 | AJ5: 37 | AK5: 38 | AL5: 39 | AM5: 40 | AN5: 41 | AO5: 42 | AP5: 43 | AQ5: 44 | AR5: 45 | AS5: 46 | AT5: 47 | AU5: 48 | AV5: 49 | AW5: 50
B6: 1 | C6: 0.7071 | D6: 0.7071 | E6: 0.6872 | F6: 0.6646 | G6: 0.6431 | H6: 0.6233 | I6: 0.6052 | J6: 0.5888 | K6: 0.5739 | L6: 0.5601 | M6: 0.5475 | N6: 0.5359 | O6: 0.5251 | P6: 0.515 | Q6: 0.5056 | R6: 0.4968 | S6: 0.4886 | T6: 0.4808 | U6: 0.4734 | V6: 0.4643 | W6: 0.459 | X6: 0.4542 | Y6: 0.4493 | Z6: 0.445 | AA6: 0.4366 | AB6: 0.4328 | AC6: 0.4291 | AD6: 0.4254 | AE6: 0.422 | AF6: 0.4156 | AG6: 0.4127 | AH6: 0.4096 | AI6: 0.4068 | AJ6: 0.404 | AK6: 0.4015 | AL6: 0.3989 | AM6: 0.3964 | AN6: 0.394 | AO6: 0.3917 | AP6: 0.3894 | AQ6: 0.3872 | AR6: 0.385 | AS6: 0.383 | AT6: 0.3808 | AU6: 0.3789 | AV6: 0.377 | AW6: 0.3751
B7: 2 | D7: 0 | E7: 0.1677 | F7: 0.2413 | G7: 0.2896 | H7: 0.3031 | I7: 0.3164 | J7: 0.3244 | K7: 0.3291 | L7: 0.3315 | M7: 0.3325 | N7: 0.3325 | O7: 0.3318 | P7: 0.3306 | Q7: 0.329 | R7: 0.3273 | S7: 0.3253 | T7: 0.3232 | U7: 0.3211 | V7: 0.3185 | W7: 0.3156 | X7: 0.3126 | Y7: 0.3098 | Z7: 0.3069 | AA7: 0.3018 | AB7: 0.2992 | AC7: 0.2968 | AD7: 0.2944 | AE7: 0.2921 | AF7: 2876 | AG7: 0.2854 | AH7: 0.2834 | AI7: 0.2813 | AJ7: 0.2794 | AK7: 0.2774 | AL7: 0.2755 | AM7: 0.2737 | AN7: 0.2719 | AO7: 0.2701 | AP7: 0.2684 | AQ7: 0.2667 | AR7: 0.2651 | AS7: 0.2635 | AT7: 0.262 | AU7: 0.2604 | AV7: 0.2589 | AW7: 0.2574
B8: 3 | F8: 0 | G8: 0.0875 | H8: 0.1401 | I8: 0.1743 | J8: 0.1976 | K8: 0.2141 | L8: 0.226 | M8: 0.2347 | N8: 0.2412 | O8: 0.246 | P8: 0.2495 | Q8: 0.2521 | R8: 0.254 | S8: 0.2553 | T8: 0.2561 | U8: 0.2565 | V8: 0.2578 | W8: 0.2571 | X8: 0.2563 | Y8: 0.2554 | Z8: 0.2543 | AA8: 0.2522 | AB8: 0.251 | AC8: 0.2499 | AD8: 0.2487 | AE8: 0.2475 | AF8: 0.2451 | AG8: 0.2439 | AH8: 0.2427 | AI8: 0.2415 | AJ8: 0.2403 | AK8: 0.2391 | AL8: 0.238 | AM8: 0.2368 | AN8: 0.2357 | AO8: 0.2345 | AP8: 0.2334 | AQ8: 0.2323 | AR8: 0.2313 | AS8: 0.2302 | AT8: 0.2291 | AU8: 0.2281 | AV8: 0.2271 | AW8: 0.226
B9: 4 | H9: 0 | I9: 0.0561 | J9: 0.0947 | K9: 0.1224 | L9: 0.1429 | M9: 0.1586 | N9: 0.1707 | O9: 0.1802 | P9: 0.1878 | Q9: 0.1939 | R9: 0.1988 | S9: 0.2027 | T9: 0.2059 | U9: 0.2085 | V9: 0.2119 | W9: 0.2131 | X9: 0.2139 | Y9: 0.2145 | Z9: 0.2148 | AA9: 0.2152 | AB9: 0.2151 | AC9: 0.215 | AD9: 0.2148 | AE9: 0.2145 | AF9: 0.2137 | AG9: 0.2132 | AH9: 0.2127 | AI9: 0.2121 | AJ9: 0.2116 | AK9: 0.211 | AL9: 0.2104 | AM9: 0.2098 | AN9: 0.2091 | AO9: 0.2085 | AP9: 0.2078 | AQ9: 0.2072 | AR9: 0.2065 | AS9: 0.2058 | AT9: 0.2052 | AU9: 0.2045 | AV9: 0.2038 | AW9: 0.2032
B10: 5 | J10: 0 | K10: 0.0399 | L10: 0.0695 | M10: 0.0922 | N10: 0.1099 | O10: 0.124 | P10: 0.1353 | Q10: 0.1447 | R10: 0.1524 | S10: 0.1587 | T10: 0.1641 | U10: 0.1686 | V10: 0.1736 | W10: 0.1764 | X10: 0.1787 | Y10: 0.1807 | Z10: 0.1822 | AA10: 0.1848 | AB10: 0.1857 | AC10: 0.1864 | AD10: 0.187 | AE10: 0.1874 | AF10: 0.188 | AG10: 0.1882 | AH10: 0.1883 | AI10: 0.1883 | AJ10: 0.1883 | AK10: 0.1881 | AL10: 0.188 | AM10: 0.1878 | AN10: 0.1876 | AO10: 0.1874 | AP10: 0.1871 | AQ10: 0.1868 | AR10: 0.1865 | AS10: 0.1862 | AT10: 0.1859 | AU10: 0.1855 | AV10: 0.1851 | AW10: 0.1847
B11: 6 | L11: 0 | M11: 0.0303 | N11: 0.0539 | O11: 0.0727 | P11: 0.088 | Q11: 0.1005 | R11: 0.1109 | S11: 0.1197 | T11: 0.1271 | U11: 0.1334 | V11: 0.1399 | W11: 0.1443 | X11: 0.148 | Y11: 0.1512 | Z11: 0.1539 | AA11: 0.1584 | AB11: 0.1601 | AC11: 0.1616 | AD11: 0.163 | AE11: 0.1641 | AF11: 0.166 | AG11: 0.1667 | AH11: 0.1673 | AI11: 0.1678 | AJ11: 0.1683 | AK11: 0.1686 | AL11: 0.1689 | AM11: 0.1691 | AN11: 0.1693 | AO11: 0.1694 | AP11: 0.1695 | AQ11: 0.1695 | AR11: 0.1695 | AS11: 0.1695 | AT11: 0.1695 | AU11: 0.1693 | AV11: 0.1692 | AW11: 0.1691
B12: 7 | N12: 0 | O12: 0.024 | P12: 0.0433 | Q12: 0.0593 | R12: 0.0725 | S12: 0.0837 | T12: 0.0932 | U12: 0.1013 | V12: 0.1092 | W12: 0.115 | X12: 0.1201 | Y12: 0.1245 | Z12: 0.1283 | AA12: 0.1346 | AB12: 0.1372 | AC12: 0.1395 | AD12: 0.1415 | AE12: 0.1433 | AF12: 0.1463 | AG12: 0.1475 | AH12: 0.1487 | AI12: 0.1496 | AJ12: 0.1505 | AK12: 0.1513 | AL12: 0.152 | AM12: 0.1526 | AN12: 0.1531 | AO12: 0.1535 | AP12: 0.1539 | AQ12: 0.1542 | AR12: 0.1545 | AS12: 0.1548 | AT12: 0.155 | AU12: 0.1551 | AV12: 0.1553 | AW12: 0.1554
B13: 8 | P13: 0 | Q13: 0.0196 | R13: 0.0359 | S13: 0.0496 | T13: 0.0612 | U13: 0.0711 | V13: 0.0804 | W13: 0.0878 | X13: 0.0941 | Y13: 0.0997 | Z13: 0.1046 | AA13: 0.1128 | AB13: 0.1162 | AC13: 0.1192 | AD13: 0.1219 | AE13: 0.1243 | AF13: 0.1284 | AG13: 0.1301 | AH13: 0.1317 | AI13: 0.1331 | AJ13: 0.1344 | AK13: 0.1356 | AL13: 0.1366 | AM13: 0.1376 | AN13: 0.1384 | AO13: 0.1392 | AP13: 0.1398 | AQ13: 0.1405 | AR13: 0.141 | AS13: 0.1415 | AT13: 0.142 | AU13: 0.1423 | AV13: 0.1427 | AW13: 0.143
B14: 9 | R14: 0 | S14: 0.0163 | T14: 0.0303 | U14: 0.0422 | V14: 0.053 | W14: 0.0618 | X14: 0.0696 | Y14: 0.0764 | Z14: 0.0823 | AA14: 0.0923 | AB14: 0.0965 | AC14: 0.1002 | AD14: 0.1036 | AE14: 0.1066 | AF14: 0.1116 | AG14: 0.114 | AH14: 0.116 | AI14: 0.1179 | AJ14: 0.1196 | AK14: 0.1211 | AL14: 0.1225 | AM14: 0.1237 | AN14: 0.1249 | AO14: 0.1259 | AP14: 0.1269 | AQ14: 0.1278 | AR14: 0.1286 | AS14: 0.1293 | AT14: 0.13 | AU14: 0.1306 | AV14: 0.1312 | AW14: 0.1317
B15: 10 | T15: 0 | U15: 0.014 | V15: 0.0263 | W15: 0.0368 | X15: 0.0459 | Y15: 0.0539 | Z15: 0.061 | AA15: 0.0728 | AB15: 0.0778 | AC15: 0.0822 | AD15: 0.0862 | AE15: 0.0899 | AF15: 0.0961 | AG15: 0.0988 | AH15: 0.1013 | AI15: 0.1036 | AJ15: 0.1056 | AK15: 0.1075 | AL15: 0.1092 | AM15: 0.1108 | AN15: 0.1123 | AO15: 0.1136 | AP15: 0.1149 | AQ15: 0.116 | AR15: 0.117 | AS15: 0.118 | AT15: 0.1189 | AU15: 0.1197 | AV15: 0.1205 | AW15: 0.1212
B16: 11 | V16: 0 | W16: 0.0122 | X16: 0.0228 | Y16: 0.0321 | Z16: 0.0403 | AA16: 0.054 | AB16: 0.0598 | AC16: 0.065 | AD16: 0.0697 | AE16: 0.0739 | AF16: 0.0812 | AG16: 0.0844 | AH16: 0.0873 | AI16: 0.09 | AJ16: 0.0924 | AK16: 0.0947 | AL16: 0.0967 | AM16: 0.0986 | AN16: 0.1004 | AO16: 0.102 | AP16: 0.1035 | AQ16: 0.1049 | AR16: 0.1062 | AS16: 0.1073 | AT16: 0.1085 | AU16: 0.1095 | AV16: 0.1105 | AW16: 0.1113
B17: 12 | X17: 0 | Y17: 0.0107 | Z17: 0.02 | AA17: 0.0358 | AB17: 0.0424 | AC17: 0.0483 | AD17: 0.0537 | AE17: 0.0585 | AF17: 0.0669 | AG17: 0.0706 | AH17: 0.0739 | AI17: 0.077 | AJ17: 0.0798 | AK17: 0.0824 | AL17: 0.0848 | AM17: 0.087 | AN17: 0.0891 | AO17: 0.0909 | AP17: 0.0927 | AQ17: 0.0943 | AR17: 0.0959 | AS17: 0.0972 | AT17: 0.0986 | AU17: 0.0998 | AV17: 0.101 | AW17: 0.102
B18: 13 | Z18: 0 | AA18: 0.0178 | AB18: 0.0253 | AC18: 0.032 | AD18: 0.0381 | AE18: 0.0435 | AF18: 0.053 | AG18: 0.0572 | AH18: 0.061 | AI18: 0.0645 | AJ18: 0.0677 | AK18: 0.0706 | AL18: 0.0733 | AM18: 0.0759 | AN18: 0.0782 | AO18: 0.0804 | AP18: 0.0824 | AQ18: 0.0842 | AR18: 0.086 | AS18: 0.0876 | AT18: 0.0892 | AU18: 0.0906 | AV18: 0.0919 | AW18: 0.0932
B19: 14 | AA19: 0 | AB19: 0.0084 | AC19: 0.0159 | AD19: 0.0227 | AE19: 0.0289 | AF19: 0.0395 | AG19: 0.0441 | AH19: 0.0484 | AI19: 0.0523 | AJ19: 0.0559 | AK19: 0.0592 | AL19: 0.0622 | AM19: 0.0651 | AN19: 0.0677 | AO19: 0.0701 | AP19: 0.0724 | AQ19: 0.0745 | AR19: 0.0765 | AS19: 0.0783 | AT19: 0.0801 | AU19: 0.0817 | AV19: 0.0832 | AW19: 0.0846
B20: 15 | AC20: 0 | AD20: 0.0076 | AE20: 0.0144 | AF20: 0.0262 | AG20: 0.0314 | AH20: 0.0361 | AI20: 0.0404 | AJ20: 0.0444 | AK20: 0.0481 | AL20: 0.0515 | AM20: 0.0546 | AN20: 0.0575 | AO20: 0.0602 | AP20: 0.0628 | AQ20: 0.0651 | AR20: 0.0673 | AS20: 0.0694 | AT20: 0.0713 | AU20: 0.0731 | AV20: 0.0748 | AW20: 0.0764
B21: 16 | AE21: 0 | AF21: 0.0131 | AG21: 0.0187 | AH21: 0.0239 | AI21: 0.0287 | AJ21: 0.0331 | AK21: 0.0372 | AL21: 0.0409 | AM21: 0.0444 | AN21: 0.0476 | AO21: 0.0506 | AP21: 0.0534 | AQ21: 0.056 | AR21: 0.0584 | AS21: 0.0607 | AT21: 0.0628 | AU21: 0.0648 | AV21: 0.0667 | AW21: 0.0685
B22: 17 | AF22: 0 | AG22: 0.0062 | AH22: 0.0119 | AI22: 0.0172 | AJ22: 0.022 | AK22: 0.0264 | AL22: 0.0305 | AM22: 0.0343 | AN22: 0.0379 | AO22: 0.0411 | AP22: 0.0442 | AQ22: 0.0471 | AR22: 0.0497 | AS22: 0.0522 | AT22: 0.0546 | AU22: 0.0568 | AV22: 0.0588 | AW22: 0.0608
B23: 18 | AH23: 0 | AI23: 0.0057 | AJ23: 0.011 | AK23: 0.0158 | AL23: 0.0203 | AM23: 0.0244 | AN23: 0.0283 | AO23: 0.0318 | AP23: 0.0352 | AQ23: 0.0383 | AR23: 0.0412 | AS23: 0.0439 | AT23: 0.0465 | AU23: 0.0489 | AV23: 0.0511 | AW23: 0.0532
B24: 19 | AJ24: 0 | AK24: 0.0053 | AL24: 0.0101 | AM24: 0.0146 | AN24: 0.0188 | AO24: 0.0227 | AP24: 0.0263 | AQ24: 0.0296 | AR24: 0.0328 | AS24: 0.0357 | AT24: 0.0385 | AU24: 0.0411 | AV24: 0.0436 | AW24: 0.0459
B25: 20 | AL25: 0 | AM25: 0.0049 | AN25: 0.0094 | AO25: 0.0136 | AP25: 0.0175 | AQ25: 0.0211 | AR25: 0.0245 | AS25: 0.0277 | AT25: 0.0307 | AU25: 0.0335 | AV25: 0.0361 | AW25: 0.0386
B26: 21 | AN26: 0 | AO26: 0.0045 | AP26: 0.0087 | AQ26: 0.0126 | AR26: 0.0163 | AS26: 0.0197 | AT26: 0.0229 | AU26: 0.0259 | AV26: 0.0288 | AW26: 0.0314
B27: 22 | AP27: 0 | AQ27: 0.0042 | AR27: 0.0081 | AS27: 0.0118 | AT27: 0.0153 | AU27: 0.0185 | AV27: 0.0215 | AW27: 0.0244
B28: 23 | AR28: 0 | AS28: 0.0039 | AT28: 0.0076 | AU28: 0.0111 | AV28: 0.0143 | AW28: 0.0174
B29: 24 | AT29: 0 | AU29: 0.0037 | AV29: 0.0071 | AW29: 0.0104
B30: 25 | AV30: 0 | AW30: 0.0035
B35: W Percentage Table
B36: n | C36: W alpha
C37: 0.01 | D37: 0.02 | E37: 0.05 | F37: 0.1 | G37: 0.5
B39: 3 | C39: 0.753 | D39: 0.756 | E39: 0.767 | F39: 0.789 | G39: 0.959
B40: 4 | C40: 0.687 | D40: 0.707 | E40: 0.748 | F40: 0.792 | G40: 0.935
B41: 5 | C41: 0.686 | D41: 0.715 | E41: 0.762 | F41: 0.806 | G41: 0.927
B42: 6 | C42: 0.713 | D42: 0.743 | E42: 0.788 | F42: 0.826 | G42: 0.927
B43: 7 | C43: 0.73 | D43: 0.76 | E43: 0.803 | F43: 0.838 | G43: 0.928
B44: 8 | C44: 0.749 | D44: 0.778 | E44: 0.818 | F44: 0.851 | G44: 0.932
B45: 9 | C45: 0.764 | D45: 0.791 | E45: 0.829 | F45: 0.859 | G45: 0.935
B46: 10 | C46: 0.781 | D46: 0.806 | E46: 0.842 | F46: 0.869 | G46: 0.938
B47: 11 | C47: 0.792 | D47: 0.817 | E47: 0.85 | F47: 0.876 | G47: 0.94
B48: 12 | C48: 0.805 | D48: 0.828 | E48: 0.859 | F48: 0.883 | G48: 0.943
B49: 13 | C49: 0.814 | D49: 0.837 | E49: 0.866 | F49: 0.889 | G49: 0.945
B50: 14 | C50: 0.825 | D50: 0.846 | E50: 0.874 | F50: 0.895 | G50: 0.947
... B86: 50 | C86: 0.93 | D86: 0.938 | E86: 0.947 | F86: 0.955 | G86: 0.974
B89: U_T FACTOR TABLE
B90: n | C90: U_T (95, 70)
B91: 3 | C91: 2.80912
B92: 4 | C92: 2.45308
B93: 5 | C93: 2.28592
B94: 6 | C94: 2.187
B95: 7 | C95: 2.12
B96: 8 | C96: 2.072
B97: 9 | C97: 2.035
B98: 10 | C98: 2.005
B99: 11 | C99: 1.981
B100: 12 | C100: 1.961
B101: 13 | C101: 1.944
B102: 14 | C102: 1.929
... B138: 50 | C138: 1.775
B141: Suggested conclusion 2 < n < 5
B142: 3 | C142: 42 | D142: 0.1
B143: 4 | C143: 43 | D143: 0.15
B144: 5 | C144: 44 | D144: 0.2
B147: Methodes | C147: Imputation for values below DL | E147: Col
B148: 0 | C148: Default | E148: =IF(Calc!$AB$1="Normal",$E$152,IF(Calc!$AB$1="Log-normal",$D$152,'Tables (statistics)'!$H$148)) -> 4 | G148: Data in col | H148: =VLOOKUP(IF(Calc!$X$3<3,1,IF(AND(Calc!$X$1>3,Calc!$X$3>2,Calc!$X$1<=10),4,IF(AND('Stats - distribution'!$L$4="A4",Calc!$X$1>10),6,5))),$B$148:$E$153,IF('Stats - distribution'!$L$4="A4",4,3)) -> 4 | I148: =VLOOKUP(IF(Calc!$X$3<3,1,IF(AND(Calc!$X$1>3,Calc!$X$3>2,Calc!$X$1<=10),4,IF(AND('Stats - distribution'!$L$4="A4",Calc!$X$1>10),6,5))),$B$148:$E$153,IF('Stats - distribution'!$L$4="A4",4,3)) -> 4
B149: 1 | C149: DL | D149: 1 | E149: 1 | G149: Select CDM | H149: =VLOOKUP(VALUE(LEFT(Calc!$AB$2,1)),'Tables (statistics)'!$B$148:$E$153,IF(VALUE(LEFT(Calc!$AB$2,1))=0,4,IF('Stats - distribution'!$L$4="A4",4,3))) -> 4 | I149: =VLOOKUP(VALUE(LEFT(Calc!$AB$2,1)),'Tables (statistics)'!$B$148:$E$153,IF(VALUE(LEFT(Calc!$AB$2,1))=0,4,IF('Stats - distribution'!$L$4="A4",4,3))) -> 4
B150: 2 | C150: DL/sqrt(2) | D150: 2 | E150: 2
B151: 3 | C151: DL/2 | D151: 3 | E151: 3
B152: 4 | C152: beta | D152: 4 | E152: 5
B153: 5 | C153: MLE (Cohen´s) | D153: 1 | E153: 1
B155: Criteria 3 < n < 6
B156: n
B157: 3 | C157: 0.1 | D157: =_xlfn.CONCAT("< ",C157*100," %") -> < 10 %
B158: 4 | C158: 0.15 | D158: =_xlfn.CONCAT("< ",C158*100," %") -> < 15 %
B159: 5 | C159: 0.2 | D159: =_xlfn.CONCAT("< ",C159*100," %") -> < 20 %

Sheet Tekst
B1: Norsk | C1: English | D1: Español
B2: Dette regnearket er utviklet som en hjelp til å vurdere yrkeshygieniske målinger. Regnearket er utviklet med bakgrunn i NS-EN 689:2019. | C2: This excel spreadsheet is developed to aid in assessing exposure measurements and area measurements. The spreadsheet is based on NS-EN 689:2019. | D2: Esta hoja de cálculo de Excel está desarrollada para ayudar y evaluar las mediciones de exposición y las mediciones de área. La hoja de cálculo se basa en NS-EN 689: 2019.
B3: Grenseverdi | C3: OELV | D3: VLA
B4: Fyll inn aktuell grenseverdi (8 timer) | C4: Input relevant OELV (8 hour) | D4: Ingrese el VLA relevante (8 horas)
B5: Reduksjonsfaktor | C5: Reduction factor | D5: Factor de reducción
B6: Arbeidstid | C6: Work hours | D6: Horas laborales
B7: Daglig | C7: Daily | D7: Diario
B8: Ukentlig | C8: Weekly | D8: Semanal
B9: Faktor | C9: Factor | D9: Factor
B10: Målinger | C10: Measurements | D10: Mediciones
B11: Forenklet undersøkelse (3 - 5 målinger) | C11: Preliminary measurements (3-5 measurements) | D11: Medidas preliminares (3-5 medidas)
B12: 6 eller flere målinger | C12: 6 or more measurements | D12: 6 o más medidas
B13: =_xlfn.CONCAT("av ",$B$3) -> av Grenseverdi | C13: =_xlfn.CONCAT("of ",$C$3) -> of OELV | D13: =_xlfn.CONCAT("de ",$D$3) -> de VLA
B14: Vurderingskriterie | C14: Assessment criteria | D14: Criterios de evaluación
B15: Målinger (n) | C15: Measurements (n) | D15: Medidas (n)
B16: Målinger under DG (m) | C16: Measurements below LOD (m) | D16: Medidas por debajo del LOD (m)
B17: Høyeste verdi (maksimum) | C17: Highest value (max) | D17: Valor más alto (máx)
B18: Minste verdi (minimum) | C18: Lowest value (min) | D18: Valor más bajo (min)
B19: Median | C19: Median | D19: Mediana
B20: Antall | C20: Number | D20: Número
B21: Veiledende konklusjon | C21: Suggested conclusion | D21: Conclusión sugerida
B22: Forslag - periodiske målinger | C22: Suggested - periodic measurements | D22: Sugerido - mediciones periódicas
B23: Estimert | C23: Estimated | D23: Estimado
B24: Aritmetisk middelverdi (AM) | C24: Arithmetic mean (AM) | D24: Media aritmética (AM)
B25: Estimert Øvre Konsentrasjon (EØK) - U_T(95%, 70%) | C25: Upper tolerance level (UTL) U_T(95%, 70%) | D25: Nivel de tolerancia superior (UTL) U_T (95%, 70%)
... B59: Fordeling | C59: Distribution | D59: Distribución
B60: Log-sannsynlighetsplott og minste kvadratsums linjetilpassing | C60: Log-Probability Plot and Least-Squares Best Fit Line | D60: Gráfica de probabilidad logarítmica y línea de mejor ajuste por mínimos cuadrados | E60: Log-sannsynlighetsplott og minste kvadratsums linjetilpassing
B61: Sannsynlighetsplott og minste kvadratsums linjetilpassing | C61: Probability Plot and Least-Squares Best Fit Line | D61: Gráfica de probabilidad y línea de mejor ajuste por mínimos cuadrados | E61: Sannsynlighetsplott og minste kvadratsums linjetilpassing
B62: Andel av normalfordeling mindre enn null | C62: Fraction of normal distribution below zero | D62: Fracción de distribución normal por debajo de cero
B63: Prosent av normalfordeling under null | C63: Percentage of the normal distribution below zero | D63: Porcentaje de la distribución normal por debajo de cero
B64: Anbefalt ny kartlegging | C64: Recommended new mapping | D64: Nuevo encuesta recomendado
B65: Fordeling - statistikk (n > 2, k > 1) | C65: Distribution statistics (n > 2, k > 1) | D65: Estadísticas de distribución (n> 2, k> 1)
B66: Prosent over | C66: Percent above | D66: Porcentaje por encima
B67: Kriterier (n ≥ 6) | C67: Criteria (n ≥ 6) | D67: Criterios (n ≥ 6)
B68: Fyll inn | C68: Fill in | D68: Llenar
B69: Oppgi MV | C69: Give MW | D69: Dar MW
B70: Korttidseksponering | C70: Short term exposure | D70: Exposición a corto plazo
B71: Korttid (15 min) | C71: Short term (15 min) | D71: Corto plazo (15 min)
B72: Angi, eller: | C72: Type, or: | D72: Escriba, o:
B73: Tommelfingerregel | C73: Rule of thumb | D73: Regla de oro
... B101: Lukket prosessanlegg | C101: Closed processing plant | D101: Planta de procesamiento cerrada
B102: ="MK = Metningskonsentrasjon | EE = Estimert eksponering" -> MK = Metningskonsentrasjon | EE = Estimert eksponering | C102: ="SC = Saturation concentration | EE = Estimated exposure" -> SC = Saturation concentration | EE = Estimated exposure | D102: CS = concentración de saturación | EE = exposición estimada
B103: ="MK (ppm)= (stoffetsdamptrykk /atmosfæretrykk) * 1000000" -> MK (ppm)= (stoffetsdamptrykk /atmosfæretrykk) * 1000000 | C103: ="SC (ppm)= (substance vapour pressure / atmospheric pressure) * 1000000" -> SC (ppm)= (substance vapour pressure / atmospheric pressure) * 1000000 | D103: CS (ppm) = (presión de vapor de la sustancia / presión atmosférica) * 1000000
B104: Damptrykk er å finner her - https://chem.nlm.nih.gov/chemidplus/ | C104: Vapour pressure can be found here - https://chem.nlm.nih.gov/chemidplus/ | D104: La presión de vapor se puede encontrar aquí: https://chem.nlm.nih.gov/chemidplus/
B105: ="EE (ppm) = MK * forventet fortynning" -> EE (ppm) = MK * forventet fortynning | C105: EE = SC * expected dilution | D105: EE = CS * dilución esperada
B106: Ventilasjon | C106: Ventilation | D106: Ventilación
B107: Forventet fortynning av metningskonsentrasjon | C107: Expected dilution of saturation concentration | D107: Dilución esperada de la concentración de saturación
B108: Estimer eksponering | C108: Estimate exposure | D108: Estimar la exposición
B109: Kriterier ved bruk av | C109: Criteria when using | D109: Criterios al usar
B110: Forenklet undersøkelse | C110: Preliminary survey | D110: Encuesta preliminar
B111: Detaljert undersøkelse | C111: Detailed survey | D111: Encuesta detallada
B112: Eksponering for flere kjemiske agenser | C112: Exposure to multiple chemical agents | D112: Exposición a múltiples agentes químicos
B113: Informasjon om YH-HJELP | C113: Information regarding YH-HJELP | D113: Información sobre YH-HJELP
B114: Bruk fane | C114: Use sheet | D114: Hoja de uso
B115: Type vurdering / undersøkelse | C115: Type of evaluation / survey | D115: Tipo de evaluación / encuesta
B116: Kilder | C116: Sources | D116: Fuentes de informacion
B117: 1. Innledende vurdering | C117: 1. Basic characterisation | D117: 1. Caracterización básica
... B150: Angi eller velg grenseverdi (GV) | C150: Type or select OLEV | D150: Escriba o seleccione VLA
B151: a. Registrer GV (ved å bruke agensnavn [C8] eller CAS-no. [C7]) eller registrer GV manuelt (MERK!!! Sett inn grenseverdi i henhold til antall timer per dag/uke som defineres i punkt 4. Korttidsverdi - se punkt 5) b. Velg enhet for GV i celle H11 c. Velg enhet for måledata i celle H13 Dersom aktuelt, konvertering mellom volum-volum (ppm/ppb) <--> volum-masse (mgmˉ³/µgmˉ³) gjøres automatisk basert på input i område 3. | C151: a. Choose OELV (using agent name [C8] or CAS-no.[C7]) or register OELV manually in C6. (NOTE!!! Fill in occupational exposure limit in accordance with number of hours per day/week as defined in section 4. Short-term value - see section 5. b. Choose unit for the OELV in cell H11 c. Choose unit for the measurement data in cell H13 If relevant, conversion between volume-volume (ppm/ppb) <--> mass-volume (mgmˉ³/µgmˉ³) are done automatically based on input in area 3. | D151: a. Elija VLA (utilizando el nombre de agente [C8] o el número CAS [C7]) o registre VLA manualmente en C6. (¡NOTA! Complete el límite de exposición ocupacional de acuerdo con el número de horas por día / semana como se define en la sección 4. Valor a corto plazo - vea la sección 5. b. Elija la unidad para el VLA en la celda H11 c. Elija la unidad para los datos de medición en la celda H13 Si es relevante, la conversión entre volumen-volumen (ppm / ppb) <--> masa-volumen (mg/m³ or µg/m³) se realiza automáticamente basándose en la entrada en el área 3. | I151: 5
B152: Håndtering av verdier under deteksjonsgrensen (DG) | C152: Method for handling values below limit of detection (< LOD) | D152: Método para manejar datos censurados por la izquierda (<LOD)
B153: Velg metodikk for håndtering av verdier under deteksjonsgrensen | C153: Choose method for handling values below limit of detection (LOD). | D153: Elija el método para manejar los datos censurados por la izquierda.
B154: Konverter konsentrasjon (volum-volum <--> masse-volum) | C154: Convert concentration (volume-volume <--> volume-mass) | D154: Convertir concentración (volumen-volumen <--> volumen-masa)
B155: (Område vil kun vise dersom det er aktuelt) | C155: (Area will only show if relevant) | D155: (El área solo se mostrará si es relevante)
B156: Bruk dersom det er nødvendig å konvertere konsentrasjon a. Input verdi i H21 (molekylær masse for agensen som analyseres) b. Dersom aktuelt, juster molekylært volum (L) i celle H20 | C156: Use if required to convert concentration a. Input value in H21 (molecular mass of the agent being evaluated) b. If relevant, adjust molecular volume (L) in cell H20 | D156: Úselo si es necesario para convertir la concentración a. Valor de entrada en H21 (masa molecular del agente que se está evaluando) b. Si es relevante, ajuste el volumen molecular (L) en la celda H20.
B157: Reduksjonsfaktor | C157: Reduction factor | D157: Factor de reducción
B158: Juster GV baser på arbeidsdag (C25), arbeidsuke (C26) eller norsk offshore regelverk (D27) [ref. Aktivitetsforskriften §36] | C158: Adjust OELV based on work day (C25), work week (C26) or Norwegian offshore factor (D27) [ref. The activities regulations §36] | D158: Ajuste el VLA según el día laborable (C25), la semana laboral (C26) o el factor offshore noruego (D27) [ref. El reglamento de actividades §36]
B159: Korttidseksponering | C159: Short term exposure | D159: Exposición a corto plazo
B160: a. Velg om korttidsverdi skal benyttes i analysen i celle D31 b. Velg om tommelfingerregelen skal benyttes i celle D32 c. Dersom a er "Ja" og b er "Nei", sett korttidsverdi manuelt i celle D33 | C160: a. Choose if short term OELV should be used in the analysis in cell D31 b. Choose if rule of thumb should be used in cell D32 c. If a is yes and b is no, manually input short term OELV in cell D33 | D160: una. Elija si debe usarse VLA a corto plazo en el análisis en la celda D31 b. Elija si se debe utilizar la regla empírica en la celda D32 c. Si a es sí y b es no, ingrese manualmente el VLA a corto plazo en la celda D33
B161: Målinger | C161: Measurements | D161: Mediciones
B162: (Kolonne for volum vil kun vise dersom det er aktuelt) | C162: (Column for volume will only show if relevant) | D162: (La columna para el volumen solo se mostrará si es relevante)
B163: a. Input måledata i cellene M6:M55 b. Viss relevant, for å konvertere masse til masse-volum, input volum i celler N6:N55 c. Kolonne O - Verdier benyttet i beregninger hvor verdier under deteksjonsgrense er kalkulert basert på valgt metode i seksjon 2. | C163: a. Input measurement values in cells M6:M55 b. If relevant, to convert mass to mass-volume input volume in cells N6:N55 c. Column O - Values used for calculations, where values below the detection limit have been calculated based on the method chosen in section 2. | D163: a. Ingrese los valores de medición en las celdas M6: M55 b. Si es relevante, convertir masa en volumen de entrada masa-volumen en las celdas N6: N55 c. Columna O: valores utilizados para los cálculos, en los que los valores por debajo del límite de detección se han calculado según el método elegido en la sección 2.
... B168: Brukerveiledning | C168: User manual | D168: Manual de usuario
B170: Veiledende konklusjon (n < 6): | C170: Suggested conclusion (n < 6): | D170: Conclusión sugerida (n <6): | E170: 110
A171: K1 | B171: Eksponeringen over grenseverdi. Tiltak nødvendig | C171: Exposure above OELV. Mitigation needed. | D171: Exposición por encima de VLA. Se necesita mitigación. | E171: 111
A172: K2 | B172: Overeksponering kan ikke utelukkes. Tiltak / detaljert kartlegging nødvendig | C172: Over exposure cannot be ruled out. Mitigation / detailed assessment needed. | D172: No se puede descartar la sobreexposición. Se necesita mitigación / evaluación detallada. | E172: 112
A173: K3 | B173: Eksponeringen kan trolig ansees som akseptabel | C173: The exposure is assumed to be acceptable | D173: Se supone que la exposición es aceptable | E173: 113
A174: K4 | B174: N/A | C174: N/A | D174: N / A | E174: 114
E175: 115
E176: 116
B177: Antatt fordeling | C177: Assumed distribution: | D177: Distribución supuesta: | E177: 117
A178: A1 | B178: For få målinger over DG | C178: Too few measurements above LOD | D178: Muy pocas medidas por encima del LOD | E178: 118
A179: A2 | B179: Hverken normal- eller log-normalfordeling | C179: Neither normal or log-normal distribution | D179: Distribución ni normal ni logarítmica normal | E179: 119
A180: A3 | B180: Log-normal | C180: Log-normal | D180: Log-normal | E180: 120
A181: A4 | B181: Normal | C181: Normal | D181: Normal | E181: 121
E182: 122
B183: Konklusjon (n > 5) | C183: Conclusion (n > 5) | D183: Conclusión (n> 5) | E183: 123
A184: K11 | B184: Eksponeringen over grenseverdi. Tiltak nødvendig. | C184: Exposure above OELV. Mitigation needed. | D184: Exposición por encima de VLA. Se necesita mitigación. | E184: 124
A185: K12 | B185: Forutsetningene for statistisk vurdering ikke tilstede. Faglig vurdering nødvendig. | C185: A statistical assessment cannot be conducted. Professional judgment needed. | D185: No se puede realizar una evaluación estadística. Se necesita juicio profesional. | E185: 125
A186: K13 | B186: Overeksponering kan ikke utelukkes. Tiltak nødvendig. | C186: Over exposure cannot be ruled out. Mitigation / detailed assessment needed. | D186: No se puede descartar la sobreexposición. Se necesita mitigación / evaluación detallada. | E186: 126
A187: K14 | B187: Eksponeringen kan trolig ansees som akseptabel | C187: The exposure is assumed to be acceptable | D187: Se supone que la exposición es aceptable | E187: 127
A188: K15 | B188: N/A | C188: N/A | D188: N / A
B190: En faglig vurdering nødvendig | C190: Professional judgment needed | D190: Se necesita evaluacion profesional
B193: Håndtering av verdier under deteksjonsgrensen (DG) | C193: Method for handling values below limit of detection (<LOD) | D193: Método para manejar datos censurados por la izquierda (<LOD)
B194: 0: Anbefalt (se Regler for håndtering av verdier under DG) | C194: 0: Recommended (see Applied rules for handling values below LOD | D194: 0: recomendado (consulte las reglas aplicadas para los datos censurados a la izquierda)
B195: 1: DG | C195: 1: LOD | D195: 1: LOD
B196: 2: DG/SQRT(2) | C196: 2: LOD/SQRT(2) | D196: 2: LOD/SQRT(2)
B197: 3: DG/2 | C197: 3: LOD/2 | D197: 3: LOD/2
B198: 4: Beta | C198: 4: Beta | D198: 4: Beta
B201: la YH-HJELP velge | C201: let YH-HJELP select | D201: deje que YH-HJELP seleccione
B202: Log-normal | C202: Log-normal | D202: Logaritmo normal
...
