Workbook

Sheet Status
A1: Status pr 30.07.26
A2: Forespørsler: | B2: =+Forespørsler!B2 -> 22 | C2: Parringer tomme: | D2: =+Forespørsler!J2 -> 0
A3: Forespørsler under behandling: | B3: =+Forespørsler!B2-Forespørsler!E2 -> 1 | C3: Andre årsaker (Kompl./ forulykket / dødfødte): | D3: =+Forespørsler!K2 -> 4
A4: Godkjente forespørsler: | B4: =+Forespørsler!E2-Forespørsler!F2 -> 20 | C4: Kull er født | D4: =+Forespørsler!I2 -> 15
A5: Ikke godkjente forespørsler: | B5: 1 | C5: Hanner: | D5: =+SUM('Behandlede parringsforespørsler'!I4:I1048576) -> 56
A6: Parringer er utført: | B6: 15 | C6: Tisper: | D6: =+SUM('Behandlede parringsforespørsler'!J4:J1048576) -> 64
A7: Anbefalinger/godkjenninger blir ikke brukt: | B7: 2 | C7: Levende valper: | D7: =+SUM('Behandlede parringsforespørsler'!K4:K40) -> 120
A8: Anbefalinger/godkjenninger gjenstår å bruke: | B8: =+B4-B6 -> 5 | C8: Levende valper i snitt pr. kull: | D8: =+IFERROR((D7/Forespørsler!I2),"") -> 8

Sheet Behandlede parringsforespørsler
A1: Behandlede parringsforespørsler for 2026 | D1: ,
A3: Tispe | B3: Eier/Oppdretter | C3: ,Hannhund | D3: Eier | E3: Forventet parring | G3: Parret dato | H3: Født dato/ Status | I3: Ant. Hann | J3: Ant. Tisper | K3: Tot. | L3: Dødfødte valper | M3: Kommentar
A4: N UCH N J(D)CH RR Gåvålias Zelda NO47770/20 | B4: Svein Erik Tande, Kleppelivegen 52, 2680 VÅGÅ, mobil 90738276 | C4: N J(D)CH CR Jago NO42560/20 | D4: Arne Sognelien, Vælerenveien97, 3533 TYRISTRAND, mobil 95846706 | G4: Inseminert 7.4.26 | H4: 46178 | I4: 5 | J4: 4 | K4: =+IF(I4+J4=0,"",I4+J4) -> 9 | L4: 4 | M4: Overført fra 2025
A5: Slengslias Luna NO48119/20 | B5: Bjørn Fagernes, Skaftnesvegen 102, 7985 FOLDEREID, mobil 90532515 | C5: N UCH Dotsupen's LP Odin NO63614/21 | D5: Rune Arstein, Foldavegen 4475, 7970 KOLVEREID, mobil 92449373 | K5: =+IF(I5+J5=0,"",I5+J5) | M5: Blir ikke brukt
A6: Luski NO47199/18 | B6: Magne Aasrum, Hvitsteinveien 34, 3243 KODAL, mobil 95746819 | C6: Ito NO50504/17 | D6: Halvor Midtsundstad, Rudsvegen 123, 2436 VÅLER i SOLØR, mobil 95166428 | E6: årsskiftet 25/26 | G6: inseminert 25 og 26 jan | H6: 46110 | I6: 6 | J6: 5 | K6: =+IF(I6+J6=0,"",I6+J6) -> 11 | L6: 1 | M6: 03.03.26 Drektig
A7: Agnes av Maurvangen NO38388/21 | B7: Anne Dalseth Morgenliie, Buråsvegen 7, 2032 Maura, mobil 91807211 | C7: N J(D)CH N UCH Solvoll's Tyr NO44229/22 | D7: Åge Skjæveland, Myrlandskroken 13, 4336 SANDNES, mobil 93670181 | E7: Januar | K7: =+IF(I7+J7=0,"",I7+J7) | M7: Blir ikke brukt
A8: Agnes av Maurvangen NO38388/21 | B8: Anne Dalseth Morgenliie, Buråsvegen 7, 2032 Maura, mobil 91807211 | C8: Alternativ: Ito NO50504/17 | D8: Halvor Midtsundstad, Rudsvegen 123, 2436 VÅLER i SOLØR, mobil 95166428 | E8: Januar | G8: inseminert 15 februar | H8: 46126 | J8: 9 | K8: =+IF(I8+J8=0,"",I8+J8) -> 9 | M8: Bekreftet drektig 9.3.26
A9: N J(D)CH Gåvålias Opera NO52859/22 | B9: Isak Reesem, Brettingvegen 8, 7796 FOLLAFOSS, mobil 46612858 | C9: Lynet NO33510/23 | D9: Rune Langås, Hølondavegen 1844, 7212 KORSVEGEN, mobil 41531565 | G9: 46110 | H9: 46170 | I9: 6 | J9: 2 | K9: =+IF(I9+J9=0,"",I9+J9) -> 8 | M9: Bekreftet drektig 27.4.26
A10: N J(D)CH N UCH HS Ivy NO38715/21 | B10: Helge Stikbakke, Gransmarka 11, 2850 LENA, 97664791 | C10: Jussi NO44352/19 | D10: Magne Kristain Dyste, Kolbulinna 975, 2847 KOLBU, mobil 95909333 | G10: 46134 | H10: 46194 | I10: 5 | J10: 6 | K10: =+IF(I10+J10=0,"",I10+J10) -> 11
A11: RR N J(D)CH Sundtoppen's Selma NO49580/20 | B11: Øystein Kvisler, Dyrbekkveien 204, 1816 SKIPTVET, mobil 92816654 | C11: CR Solan NO44039/22 | D11: Jørgen Flesvik, Nesmoen 45, 3540 NESBYEN, mobil 97164395 | E11: Mars | K11: =+IF(I11+J11=0,"",I11+J11) | M11: Overføres neste sesong
A12: Ice-icora Jenni NO48153/20 | B12: Kjell-Øyvind Andresen, Møllevegen 20, 1929 AULI, mobil 45869019 | C12: N J(D)CH Pg Rocki NO45565/19 | D12: Ronny Hansen, Gunnerudveien 31, 3410 SYLLING, mobil 91878389 | E12: Februar/mars | G12: inseminert 15 februar | H12: 46127 | I12: 4 | J12: 4 | K12: =+IF(I12+J12=0,"",I12+J12) -> 8 | M12: Bekreftet drektig 11.3.26
A13: N J(D)CH Vimsbygdas Amira NO46601/22 | B13: Gudmund Sandåker, Sandåker 39, 4980 GJERSTAD, mobil 41679557 | C13: RR N J(D)CH HS Aylo NO51776/20 | D13: Clas Ståle Kvisler, Sønsterødveien 182, 1591 SPERREBOTN, mobil 98214877 | E13: Januar | G13: 30.04 og inseminert 02.05 | H13: 46204 | I13: 4 | J13: 6 | K13: =+IF(I13+J13=0,"",I13+J13) -> 10 | M13: Bekreftet drektig 27.05.26
A14: PG Frøya NO47089/23 | B14: Svein Jakob Håbestad, Kroken 70, 4885 GRIMSTAD, mobil 47011665 | C14: N J(D)CH Bs-Fenris NO40459/15 | D14: Åge Skjæveland, Myrlandskroken 13, 4336 SANDNES, mobil 93670181 | E14: Mars | G14: inseminert 13 mars | H14: 46156 | I14: 4 | J14: 7 | K14: =+IF(I14+J14=0,"",I14+J14) -> 11 | M14: 1 tispe døde etter noen dager.
A15: CR Lissi NO44043/22 | B15: Carl Inge Røraas, Bjørnholtveien 32, 3614 KONGSBERG, mobil 95969034 | C15: NO J(D)CH Bojans Bruno NO43617/20 | D15: Erik Eriksønn Lykke, Kapellveien 62B, 0487 OSLO, mobil 95756635 | E15: Mars/april | K15: =+IF(I15+J15=0,"",I15+J15) | M15: Blir ikke parret
A16: JF Luna NO40763/20 | B16: Jens Hove, Heggøya 13, 7334 STORÅS, mobil 99573495 | C16: New Divine's Arrx NO39612/23 | D16: Ingar Gravrok, Ålmenningsvegen 1409, 7387 SINGSÅS, mobil 90766353 | E16: April | G16: 5 og 7.4.26 | H16: 46181 | I16: 3 | J16: 2 | K16: =+IF(I16+J16=0,"",I16+J16) -> 5
K17: =+IF(I17+J17=0,"",I17+J17)
K18: =+IF(I18+J18=0,"",I18+J18)
K19: =+IF(I19+J19=0,"",I19+J19)
A20: GODKJENNING | K20: =+IF(I20+J20=0,"",I20+J20)
A21: N J(D)CH Kira NO32485/22 | B21: Jan Havdal, Åsvegen 340, 7224 MELHUS, mobil 95072987 | C21: Sang av Kistefjell NO35378/14 | D21: Rune Langås, Hølondavegen 1844, 7212 KORSVEGEN, mobil 41531565 | E21: 46023 | G21: inseminert 26.1.26 | H21: 46108 | I21: 3 | J21: 4 | K21: =+IF(I21+J21=0,"",I21+J21) -> 7 | M21: Bekreftet drektig 23.2.26
A22: Senta NO39214/21 | B22: Per Alfred Pedersen, Ringstadvegen, 2750 GRAN, mobil 99580296 | C22: CR Solan NO44039/22 | D22: Jørgen Flesvik, Nesmoen 45, 3540 NESBYEN, mobil 97164395 | E22: 45992 | G22: 23 og 25.12.25 | H22: 46077 | J22: 2 | K22: =+IF(I22+J22=0,"",I22+J22) -> 2 | M22: En døde etter dag 2
A23: AB Nikki SE52490/2021 (NO51239/21) | B23: Linda Veronika Landby, Nymyrtjalen 8, SE-92292 VINDELEN, Sverige, mobil +460738230685 | C23: N J(D)CH NO J(R)CH Turbo NO37222/18 | D23: Bjørn Erling Sogn, Øvre Nordsinni 65, 2870 DOKKA, mobil 99160657 | E23: 46023 | G23: 46041 | H23: 46094 | I23: 3 | J23: 3 | K23: =+IF(I23+J23=0,"",I23+J23) -> 6 | M23: En hannhund døde etter få dager
A24: C.I.B N SE FI UCH NORDIC UCH N J(D)CH Sigrid av Maurvangen NO38389/21 | B24: Sheila Rao, Ner-Svenningdalsvegen 97,8682 Trofors, mobil 90788437 | C24: Hjallis Av Harafjell NO44184/13 | D24: Vegar Sølvsberg/Bård Ørbakk Larsen Vegar Sølvsberg mobil 95803628 Bård Ørbakk Larsen mobil 90111444 | G24: inseminert 3.1.26 | H24: 46085 | I24: 5 | J24: 3 | K24: =+IF(I24+J24=0,"",I24+J24) -> 8
A25: Tyra NO40459/18 | B25: Gunnar Amundsen, Dalsvegen 639, 2940 HEGGENES | C25: N J(D)CH NO J(R)CH Turbo NO37222/18 | D25: Bjørn Erling Sogn, Øvre Nordsinni 65, 2870 DOKKA, mobil 99160657 | E25: Januar | G25: 46094 | H25: 46154 | I25: 4 | J25: 3 | K25: =+IF(I25+J25=0,"",I25+J25) -> 7 | M25: Bekreftet drektig 9.4.26
A26: Hs Bella NO51782/20 | B26: Glenn Kvisler, Redalen 823, 3535 KRØDEREN, mobil 95913387 Clas Kvisler mobil 98214877 | C26: N J(D)CH N UCH Solvoll's Tyr NO44229/22 | D26: Åge Skjæveland, Myrlandskroken 13, 4336 SANDNES, mobil 93670181 | E26: Mars | K26: =+IF(I26+J26=0,"",I26+J26)
A27: Kora NO44260/19 | B27: Jan Petter Stoa, Ringsevja 13, 3830 ULEFOSS, mobil 41449092 | C27: NO J(D)CH Bojans Bruno NO43617/20 | D27: Erik Eriksønn Lykke, Kapellveien 62B, 0487 OSLO, mobil 95756635 | E27: vår/sommer | K27: =+IF(I27+J27=0,"",I27+J27) | M27: Avventer parring løpetid slutten av året
A28: NO UCH HS Senta NO51781/20 | B28: Ole-Johan Eivindsen, Svenningdalsvegen 247, 8685 TROFORS, mobil 90238478 Bård Ørbak Larsen, mobil 90111444 | C28: Bob NO32279/17 | D28: Magne Lund, Vestersivegen 1025, 8685 TROFORS, mobil 47453403 | E28: MaiJuni | G28: 18,19 og 20.05.2026 | H28: 46222 | I28: 4 | J28: 4 | K28: =+IF(I28+J28=0,"",I28+J28) -> 8
K29: =+IF(I29+J29=0,"",I29+J29)
K30: =+IF(I30+J30=0,"",I30+J30)
K31: =+IF(I31+J31=0,"",I31+J31)
K32: =+IF(I32+J32=0,"",I32+J32)
K33: =+IF(I33+J33=0,"",I33+J33)
K34: =+IF(I34+J34=0,"",I34+J34)
K35: =+IF(I35+J35=0,"",I35+J35)
K36: =+IF(I36+J36=0,"",I36+J36)
K37: =+IF(I37+J37=0,"",I37+J37)
K38: =+IF(I38+J38=0,"",I38+J38)
K39: =+IF(I39+J39=0,"",I39+J39)
K40: =+IF(I40+J40=0,"",I40+J40)
... K77: =+IF(I77+J77=0,"",I77+J77)

Sheet Hannhundbruk
A1: Hannhunder, bruk og resultat i avlssesongen 2026
A3: Tittel / Navn / Reg. nr. | B3: F | C3: Eier | D3: Anb | E3: Altern | F3: Paret | G3: Ikke brukt | H3: Kull | I3: Tom | J3: Annet
A4: N J(D)CH CR Jago NO42560/20 | B4: S | C4: Sognelien , Arne | D4: 1 | F4: 1 | H4: 1
A5: N UCH Dotsupen's LP Odin NO63614/21 | B5: D | C5: Arstein, Rune | D5: 1 | G5: 1
A6: Ito NO50504/17 | B6: D | C6: Midtsundstad, Halvor | D6: 1 | E6: 1 | F6: 2 | H6: 2
A7: N J(D)CH N UCH Solvoll's Tyr NO44229/22 | B7: D | C7: Skjæveland, Åge | D7: 2 | G7: 1
A8: Lynet NO33510/23 | B8: S | C8: Langås, Rune | D8: 1 | F8: 1 | H8: 1
A9: Jussi NO44352/19 | B9: D | C9: Dyste, Magne K. | D9: 1 | F9: 1 | H9: 1
A10: Sang Av Kistefjell NO35378/14 | B10: S | C10: Langås, Rune | D10: 1 | F10: 1 | H10: 1 | J10: Godkj
A11: CR Solan NO44039/22 | B11: D | C11: Flesvik, Jørgen | D11: 2 | F11: 1 | G11: 1 | H11: 1
A12: N J(D)CH NO J(R)CH Turbo NO37222/18 | B12: S | C12: Sogn, Bjørn Erling | D12: 2 | F12: 2 | H12: 2
A13: Hjallis Av Harafjell NO44184/13 | B13: S | C13: Larsen,B.Ø/Sølvsberg, V | D13: 1 | F13: 1 | H13: 1 | J13: Godkj
A14: N J(D)CH Pg Rocki NO45565/19 | B14: D | C14: Hansen, Ronny | D14: 1 | F14: 1 | H14: 1
A15: RR N J(D)CH HS Aylo NO51776/20 | B15: D | C15: Kvisler, Clas Ståle | D15: 1 | F15: 1 | H15: 1
A16: NO J(D)CH Bojans Bruno NO43617/20 | B16: S | C16: Lykke, Erik E | D16: 2
A17: N J(D)CH Bs-Fenris NO40459/15 | B17: D | C17: Skjæveland, Åge | D17: 1 | F17: 1 | H17: 1
A18: New Divine's Arrx NO39612/23 | B18: D | C18: Gravrok, Ingar | D18: 1 | F18: 1 | H18: 1
A19: Bob NO32279/17 | B19: S | C19: Lund, Magnme | D19: 1 | F19: 1 | H19: 1 | J19: Godkj
D28: =+COUNT(D4:D27) -> 16 | E28: =+COUNT(E4:E27) -> 1 | F28: =+COUNT(F4:F27) -> 13 | G28: =+COUNT(G4:G27) -> 3 | H28: =+COUNT(H4:H27) -> 13 | I28: =+COUNT(I4:I27) -> 0 | J28: =+COUNT(J4:J27) -> 0

Sheet Forespørsler
B1: Forespørsel | C1: Tispe | D1: Eier | E1: Behandlede forespørsler | F1: Ikke anbefalt | G1: Paret | H1: Ikke brukt | I1: Kull | J1: Tom | K1: Annet | L1: Kommentarer
A2: Sum | B2: =SUM(B3:B86) -> 22 | E2: =+SUM(E3:E86) -> 21 | F2: =SUM(F3:F86) -> 1 | G2: =SUM(G3:G86) -> 15 | H2: =SUM(H3:H86) -> 2 | I2: =SUM(I3:I86) -> 15 | J2: =SUM(J3:J86) -> 0 | K2: =SUM(K3:K86) -> 4
B3: 1 | C3: N UCH N J(D)CH RR Gåvålias Zelda NO47770/20 | D3: Tande Svein Erik | E3: 1 | G3: 1 | I3: 1 | K3: 4 | L3: totalt 13 valper, 4 dødfødte
B4: 1 | C4: Slengslias Luna NO48119/20 | D4: Fagernes, Bjørn | E4: 1 | H4: 1 | L4: Overført fra 2025
B5: 1 | C5: Luski NO47199/18 | D5: Aasrum, Magne | E5: 1 | G5: 1 | I5: 1
B6: 1 | C6: N J(D)CH Gåvålias Opera NO52859/22 | D6: Ressem, Isak | E6: 1 | G6: 1 | I6: 1
B7: 1 | C7: N J(D)CH Kira NO32485/22 | D7: Havdal, Jan | E7: 1 | G7: 1 | I7: 1 | L7: forventet løpetid jan 2026
B8: 1 | C8: Agnes av Maurvangen NO38388/21 | D8: Morgenlie, Anne Dalseth | E8: 1 | G8: 1 | I8: 1 | L8: overført fra 2025
B9: 1 | C9: AB Nikki SE52490/2021 (NO51239/21) | D9: Linda Landby Adelsson | E9: 1 | G9: 1 | I9: 1 | L9: forventet løpetid jan 2026
B10: 1 | C10: N J(D)CH N UCH HS Ivy NO38715/21 | D10: Stikbakke, Helge | E10: 1 | G10: 1 | I10: 1 | L10: forventet løpetid des/jan
B11: 1 | C11: C.I.B DK N UCH NORDIC UCH KT Glenna Wilde NO49431/19 | D11: Sommerstad, Heidi | E11: 1 | F11: 1
B12: 1 | C12: Senta NO39214/21 | D12: Pedersen, Per Alfred | E12: 1 | G12: 1 | I12: 1 | L12: Løpetid des 25
B13: 1 | C13: C.I.B N SE FI UCH NORDIC UCH N J(D)CH Sigrid av Maurvangen NO38389/21 | D13: Rao, Sheila | E13: 1 | G13: 1 | I13: 1
B14: 1 | C14: N J(D)CH Vimsbygdas Amira NO46601/22 | D14: Sandåker, Gudmund | E14: 1 | G14: 1 | I14: 1
B15: 1 | C15: RR N J(D)CH Sundtoppen's Selma NO49580/20 | D15: Kvisler Øystein | E15: 1 | H15: 1 | L15: Løpetid mars
B16: 1 | C16: Ice-icora Jenni NO48153/20 | D16: Andresen, Kjell Øivind | E16: 1 | G16: 1 | I16: 1 | L16: Løpetid febr/mars
B17: 1 | C17: Tyra NO40459/18 | D17: Amundsen, Gunnar Kværne | E17: 1 | G17: 1 | I17: 1
B18: 1 | C18: CR Lissi NO44043/22 | D18: Røraas, Carl Inge | E18: 1 | L18: Løpetid febr/mars
B19: 1 | C19: PG Frøya NO47089/23 | D19: Håbestad, Svein Jakob | E19: 1 | G19: 1 | I19: 1 | L19: Forventet løpetid mars
B20: 1 | C20: Hs Bella NO51782/20 | D20: Kvisler, Glenn | E20: 1 | L20: Forventet løpetid mars
B21: 1 | C21: Kora NO44260/19 | D21: Stoa, Jan Petter | E21: 1 | L21: Vår/sommer
B22: 1 | C22: JF Luna NO40763/20 | D22: Hove, Jens | E22: 1 | G22: 1 | I22: 1 | L22: Løpetid mars/april
B23: 1 | C23: NO UCH HS Senta NO51781/20 | D23: Eivindsen, Ole Johan | E23: 1 | G23: 1 | I23: 1 | L23: Overført fra 2025
B24: 1 | C24: N UCH Hålandsbotn Ronja NO43711/21 | D24: Håland, Geir | L24: Forv. løpetid sept/okt/nov
