{"text_format":"1","workbook":"xlsx","n_sheets":4,"sheets":["Spørgsmål & Svar","10 Spørgsmål - Model 1","10 Spørgsmål - Model 2","10 Spørgsmål - Model 3"],"not_rendered":{"charts":0,"images":0,"macros":1,"external_links":0,"defined_names":1,"comments":0,"pivot_tables":0},"unopened":[],"bounds":{"document_bytes":16777216,"sheet_cells":100000,"rows_first":2000,"rows_last":500,"rows_between":2000,"halvings":0,"cell_chars":16384,"cell_head_chars":4096},"cells_cut":0,"cells_raw":0,"read":"whole","date_system":"1900"}

{"sheet":"Spørgsmål & Svar","index":0,"n_rows":19,"n_cols":5,"rows_kept":19,"cut":false,"hidden":false,"merged":[[16,4,17,14]]}
["Spørgsmål","Svar"]
["1 sp","1 sv"]
["2 sp","2 sv"]
["3 sp","3 sv"]
["4 sp","4 sv"]
["5 sp","5 sv"]
["6 sp","6 sv"]
["7 sp","7 sv"]
["8 sp","8 sv"]
["9 sp","9 sv"]
["10 sp","10 sv"]
[]
[]
[]
[]
[]
[null,null,null,null,"Få hele forklaringen, på hvordan du bruger snoropgaven, \ni bogen \"Få ro, trivsel og overskud i lyset af folkeskolereformen\"."]
[]
[null,null,null,null,"Se mere om bogen"]

{"sheet":"10 Spørgsmål - Model 1","index":1,"n_rows":48,"n_cols":14,"rows_kept":48,"cut":false,"hidden":false,"merged":[[20,4,20,6],[20,8,20,10],[14,4,14,6],[14,8,14,10],[16,4,16,6],[16,8,16,10],[18,4,18,6],[18,8,18,10],[8,4,8,6],[8,8,8,10],[10,4,10,6],[10,8,10,10],[12,4,12,6],[12,8,12,10],[2,4,2,6],[2,8,2,10],[4,4,4,6],[4,8,4,10],[6,4,6,6],[6,8,6,10]]}
[]
[]
[null,1,null,null,{"$f":"'Spørgsmål & Svar'!A2","v":"1 sp"},null,null,null,{"$f":"'Spørgsmål & Svar'!B10","v":"9 sv"}]
[]
[null,null,null,null,{"$f":"'Spørgsmål & Svar'!A3","v":"2 sp"},null,null,null,{"$f":"'Spørgsmål & Svar'!B7","v":"6 sv"}]
[]
[null,null,null,null,{"$f":"'Spørgsmål & Svar'!A4","v":"3 sp"},null,null,null,{"$f":"'Spørgsmål & Svar'!B9","v":"8 sv"}]
[]
[null,null,null,null,{"$f":"'Spørgsmål & Svar'!A5","v":"4 sp"},null,null,null,{"$f":"'Spørgsmål & Svar'!B11","v":"10 sv"}]
[]
[null,null,null,null,{"$f":"'Spørgsmål & Svar'!A6","v":"5 sp"},null,null,null,{"$f":"'Spørgsmål & Svar'!B8","v":"7 sv"}]
[]
[null,null,null,null,{"$f":"'Spørgsmål & Svar'!A7","v":"6 sp"},null,null,null,{"$f":"'Spørgsmål & Svar'!B3","v":"2 sv"}]
[]
[null,null,null,null,{"$f":"'Spørgsmål & Svar'!A8","v":"7 sp"},null,null,null,{"$f":"'Spørgsmål & Svar'!B6","v":"5 sv"}]
[]
[null,null,null,null,{"$f":"'Spørgsmål & Svar'!A9","v":"8 sp"},null,null,null,{"$f":"'Spørgsmål & Svar'!B4","v":"3 sv"}]
[]
[null,null,null,null,{"$f":"'Spørgsmål & Svar'!A10","v":"9 sp"},null,null,null,{"$f":"'Spørgsmål & Svar'!B2","v":"1 sv"}]
[]
[null,null,null,null,{"$f":"'Spørgsmål & Svar'!A11","v":"10 sp"},null,null,null,{"$f":"'Spørgsmål & Svar'!B5","v":"4 sv"}]
[]
[]
[]
[]
[null,null,null,null,null,null,null,null,null,null,1]
[]
[]
[]
[]
[]
[]
[]
[]
[]
[]
[]
[]
[]
[]
[]
[]
[]
[]
[]
[]
[]
[null,null,null,null,null,null,null,null,null,null,null,null,null," "]

{"sheet":"10 Spørgsmål - Model 2","index":2,"n_rows":26,"n_cols":11,"rows_kept":26,"cut":false,"hidden":false,"merged":[[2,4,2,6],[2,8,2,10],[4,4,4,6],[4,8,4,10],[6,4,6,6],[6,8,6,10],[8,4,8,6],[8,8,8,10],[10,4,10,6],[10,8,10,10],[12,4,12,6],[12,8,12,10],[20,4,20,6],[20,8,20,10],[14,4,14,6],[14,8,14,10],[16,4,16,6],[16,8,16,10],[18,4,18,6],[18,8,18,10]]}
[]
[]
[null,2,null,null,{"$f":"'Spørgsmål & Svar'!A2","v":"1 sp"},null,null,null,{"$f":"'Spørgsmål & Svar'!B10","v":"9 sv"}]
[]
[null,null,null,null,{"$f":"'Spørgsmål & Svar'!A3","v":"2 sp"},null,null,null,{"$f":"'Spørgsmål & Svar'!B11","v":"10 sv"}]
[]
[null,null,null,null,{"$f":"'Spørgsmål & Svar'!A4","v":"3 sp"},null,null,null,{"$f":"'Spørgsmål & Svar'!B7","v":"6 sv"}]
[]
[null,null,null,null,{"$f":"'Spørgsmål & Svar'!A5","v":"4 sp"},null,null,null,{"$f":"'Spørgsmål & Svar'!B9","v":"8 sv"}]
[]
[null,null,null,null,{"$f":"'Spørgsmål & Svar'!A6","v":"5 sp"},null,null,null,{"$f":"'Spørgsmål & Svar'!B2","v":"1 sv"}]
[]
[null,null,null,null,{"$f":"'Spørgsmål & Svar'!A7","v":"6 sp"},null,null,null,{"$f":"'Spørgsmål & Svar'!B4","v":"3 sv"}]
[]
[null,null,null,null,{"$f":"'Spørgsmål & Svar'!A8","v":"7 sp"},null,null,null,{"$f":"'Spørgsmål & Svar'!B3","v":"2 sv"}]
[]
[null,null,null,null,{"$f":"'Spørgsmål & Svar'!A9","v":"8 sp"},null,null,null,{"$f":"'Spørgsmål & Svar'!B8","v":"7 sv"}]
[]
[null,null,null,null,{"$f":"'Spørgsmål & Svar'!A10","v":"9 sp"},null,null,null,{"$f":"'Spørgsmål & Svar'!B5","v":"4 sv"}]
[]
[null,null,null,null,{"$f":"'Spørgsmål & Svar'!A11","v":"10 sp"},null,null,null,{"$f":"'Spørgsmål & Svar'!B6","v":"5 sv"}]
[]
[]
[]
[]
[null,null,null,null,null,null,null,null,null,null,2]

{"sheet":"10 Spørgsmål - Model 3","index":3,"n_rows":26,"n_cols":11,"rows_kept":26,"cut":false,"hidden":false,"merged":[[2,4,2,6],[2,8,2,10],[4,4,4,6],[4,8,4,10],[6,4,6,6],[6,8,6,10],[8,4,8,6],[8,8,8,10],[10,4,10,6],[10,8,10,10],[12,4,12,6],[12,8,12,10],[20,4,20,6],[20,8,20,10],[14,4,14,6],[14,8,14,10],[16,4,16,6],[16,8,16,10],[18,4,18,6],[18,8,18,10]]}
[]
[]
[null,3,null,null,{"$f":"'Spørgsmål & Svar'!A2","v":"1 sp"},null,null,null,{"$f":"'Spørgsmål & Svar'!B6","v":"5 sv"}]
[]
[null,null,null,null,{"$f":"'Spørgsmål & Svar'!A3","v":"2 sp"},null,null,null,{"$f":"'Spørgsmål & Svar'!B8","v":"7 sv"}]
[]
[null,null,null,null,{"$f":"'Spørgsmål & Svar'!A4","v":"3 sp"},null,null,null,{"$f":"'Spørgsmål & Svar'!B10","v":"9 sv"}]
[]
[null,null,null,null,{"$f":"'Spørgsmål & Svar'!A5","v":"4 sp"},null,null,null,{"$f":"'Spørgsmål & Svar'!B11","v":"10 sv"}]
[]
[null,null,null,null,{"$f":"'Spørgsmål & Svar'!A6","v":"5 sp"},null,null,null,{"$f":"'Spørgsmål & Svar'!B9","v":"8 sv"}]
[]
[null,null,null,null,{"$f":"'Spørgsmål & Svar'!A7","v":"6 sp"},null,null,null,{"$f":"'Spørgsmål & Svar'!B3","v":"2 sv"}]
[]
[null,null,null,null,{"$f":"'Spørgsmål & Svar'!A8","v":"7 sp"},null,null,null,{"$f":"'Spørgsmål & Svar'!B5","v":"4 sv"}]
[]
[null,null,null,null,{"$f":"'Spørgsmål & Svar'!A9","v":"8 sp"},null,null,null,{"$f":"'Spørgsmål & Svar'!B4","v":"3 sv"}]
[]
[null,null,null,null,{"$f":"'Spørgsmål & Svar'!A10","v":"9 sp"},null,null,null,{"$f":"'Spørgsmål & Svar'!B7","v":"6 sv"}]
[]
[null,null,null,null,{"$f":"'Spørgsmål & Svar'!A11","v":"10 sp"},null,null,null,{"$f":"'Spørgsmål & Svar'!B2","v":"1 sv"}]
[]
[]
[]
[]
[null,null,null,null,null,null,null,null,null,null,3]